Workbook
Name AnnCO: 'Part VIII'!$I$22
Name AnnCO2Eq: 'Part VIII'!$I$25
Name AnnNOX: 'Part VIII'!$I$21
Name AnnOffPkMWh: 'Part V (with StorageCT)'!$I$248
Name AnnPHMWh: 'Part V (with StorageCT)'!$E$248
Name AnnPkMWh: 'Part V (with StorageCT)'!$G$248
Name AnnPM: 'Part VIII'!$I$23
Name AnnSO2: 'Part VIII'!$I$20
Name AnnTotGen: 'Part V (with StorageCT)'!$K$247
Name AnnTotGen: 'Part V'!$I$179
Name AnnTotGen_woStrg: 'Part V (with Storage)'!$I$226
Name AnnTotMWH: 'Part V (with Storage)'!$I$227
Name AnnTotMWH: 'Part V (with StorageCT)'!$K$248
Name AvCO: 'Part VIII'!$F$22
Name AvCO2Eq: 'Part VIII'!$F$25
Name AvNOX: 'Part VIII'!$F$21
Name AvPM: 'Part VIII'!$F$23
Name AvSOX: 'Part VIII'!$F$20
Name BeginCCP: 'Part VII'!$I$26
Name BidderName: 'Part II'!$F$34
Name BidderRep: 'Part II'!$F$37
Name BidderRepTitle: 'Part II'!$F$40
Name BidNum1: 'Part III'!$E$22
Name BidNum2: 'Part III'!$E$23
Name BidNum3: 'Part III'!$E$24
Name Biennial_DR: 'Part V'!$N$179
Name Biennial_DR_wStrg: 'Part V (with Storage)'!$N$227
Name BuyEnt: 'Part IV'!$J$27
Name CalcCF: 'Part V (with Storage)'!#REF!
Name CalcCF: 'Part V (with StorageCT)'!$M$248
Name CalcCF: 'Part V'!#REF!
Name CalcStorEff: 'Part V (with StorageCT)'!$O$249
Name CalcStorEff: 'Part V (with Storage)'!$K$228
Name CapGross: '[1]Part IV'!$H$16
Name CapNet: 'Part IV'!$J$20
Name CntMailAdd1: 'Part III'!$G$29
Name CntMailAdd2: 'Part III'!$G$30
Name CntMax: 'Part IV'!$J$21
Name December_AllHours: '[1]Part V-Firm Energy'!$D$446:$AH$469
Name DelEff: 'Part V (with Storage)'!#REF!
Name DelEff: 'Part V (with StorageCT)'!$O$248
Name EarlyEffDate: Tables!$E$15
Name ElectCSO: 'Part VII'!$I$22
Name EndCCP: 'Part VII'!#REF!
Name ener1: 'Part VII'!$K$34
Name EstCOD: 'Part IV'!$H$16
Name EvalCntrctDate: 'Part IV'!$J$18
Name FacTech: 'Part IV'!$E$11
Name FilePathName: 'Part I'!$C$108
Name GenCF: 'Part V (with StorageCT)'!$M$247
Name GenCF: 'Part V'!$K$179
Name GenCF_preStrg: 'Part V (with Storage)'!$K$226
Name IntCnPnt: 'Part IV'!$G$41
Name ISO_CSO: '[1]Part VII'!$I$14
Name LateEffDate: Tables!$E$18
Name LoadZone: 'Part IV'!$H$45
Name MaxMCA: Tables!$E$12
Name MinMCA: Tables!$E$9
Name MinPct: 'Part IV'!$J$33
Name MXChgRate: 'Part IV'!$J$60

Sheet Part I
B2: ="Version: " & Version -> Version: 09/04/2018
B3: Part I
F4: Guidelines and Instructions
B6: For Long Term Contract Proposals Under Long-Term Contracting Standard
B7: Appendix B - Section 1
B8: Certification, Project and Pricing Data (CPPD)
B53: Part I (continued)
F54: Guidelines and Instructions

Sheet Part II
B2: ="Version: " & Version -> Version: 09/04/2018
B3: Part II
B4: Proposal Certification and Authorization (Appendix B.1)
D31: Project Name | M31: =IF(F31="","<<< Required Information","") -> <<< Required Information
D32: (Eligible Facility)
D34: Bidder Name | M34: =IF(F34="","<<< Required Information","") -> <<< Required Information
D36: Bidder or Bidder's
D37: Representative | M37: =IF(F37="","<<< Required Information","") -> <<< Required Information
D39: Bidder Representative's
D40: Title | M40: =IF(F40="","<<< Required Information","") -> <<< Required Information
M42: =IF(I42="","<<< Date Required to be Inputted Electronically","") -> <<< Date Required to be Inputted Electronically
D43: Signature of Bidder or Authorized | I43: Date Signed
D44: Representative

Sheet Part III
B2: ="Version: " & Version -> Version: 09/04/2018
B3: Part III (a)
B4: Bid and Contact Information
B6: ='Part I'!$B$6 -> For Long Term Contract Proposals Under Long-Term Contracting Standard
C9: Bidder Name | G9: =IF(BidderName="","",BidderName) | N9: =IF(G9="","<<< Enter Information in Part II","") -> <<< Enter Information in Part II
C11: Project Name | G11: =IF(ProjName="","",ProjName) | N11: =IF(G11="","<<<Enter Information in Part II","") -> <<<Enter Information in Part II
C13: Resource Type: | N13: =IF(G13="","<<< Required Information","") -> <<< Required Information
C15: Status of Project: | N15: =IF(G15="","<<< Required Information","") -> <<< Required Information
C16: If proposal reflects a proposed modification to an existing project, Part IV should only provide information for the incremental capacity offered.
C18: Bid Structure
G20: Energy Pricing | I20: Pricing
E21: Bid # | G21: Bid Form | I21: Option | K21: Term (years)
E22: 1 | G22: Part VI (a) | N22: =IF(OR(I22="",K22=""),"<<< Required Information","") -> <<< Required Information
E23: 2 | G23: Part VI (b) | N23: =IF(OR(I23="",K23=""),"<<< Required Information","") -> <<< Required Information
E24: 3 | G24: Part VI (c) | N24: =IF(OR(I24="",K24=""),"<<< Required Information","") -> <<< Required Information
C25: Use additional CPPD spreadsheet(s) if submitting more than three pricing proposals for this project, or offering different project size, technology type, production/delivery profile, in-service date , or delivery location. If submitting more then 3 proposals you may change the Bid #s [cells(E22:E24)].
C27: Contact Information For Project
C28: Bidder Name | G28: =IF(BidderName="","",BidderName) | N28: =IF(G28="","<<< Enter Information in Part II","") -> <<< Enter Information in Part II
C29: Mailing Address | N29: =IF(CntMailAdd1="","<<< Required Information","") -> <<< Required Information
C31: Courier Address (If Different)
C33: Primary Contact Information
C34: Name | N34: =IF(G34="","<<< Required Information","") -> <<< Required Information
C35: Telephone Number | N35: =IF(PrimCntPhone="","<<< Required Information","") -> <<< Required Information
C36: Fax Number | N36: =IF(PrimCntFax="","<<< Required Information","") -> <<< Required Information
C37: E-mail Address | N37: =IF(PrimCntEmail="","<<< Required Information","") -> <<< Required Information
C38: Secondary Contact Information
C39: Name
C40: Telephone Number
C41: Fax Number
C42: E-mail Address
B45: ="Version " & Version -> Version 09/04/2018
B46: Part III (b)
B47: Bid Overview and Bid Fee
C49: Bidder Name | G49: =IF(BidderName="","",BidderName)
C51: Bidder Representative | G51: =IF(BidderRep="","",BidderRep)
C53: Project Name | G53: =IF(ProjName="","",ProjName)
C55: For the Bid Fee Calculation to follow: Enter additional Bid Proposals below. Include the Nameplate Capacity and the CPPD File Location for each specific additional Bid Proposal.
C57: These Bid Proposals will be included on a Primary Bid Fee Summary? | K57: No | N57: =IF(K57="","<<< Required Information","")
C58: =IF(K57="Yes","Copy these bid proposals to the Projects Primary Bid Fee Summary.","")
C59: Bid Proposals | F59: Contract Amount (MW) | I59: CPPD (Excel) Filename
...

Sheet Part IV
B2: ="Version: " & Version -> Version: 09/04/2018
B3: Part IV (a)
B4: Eligible Facility Summary Information
B6: ='Part I'!$B$6 -> For Long Term Contract Proposals Under Long-Term Contracting Standard
C9: Project Name | E9: =IF(ProjName<>"",ProjName,"") | M9: =IF(E9="","<<< Enter Information in Part III","") -> <<< Enter Information in Part III
C11: Resource Type | E11: =IF(ResType="","",ResType) | M11: =IF(E11="","<<< Enter Information in Part III","") -> <<< Enter Information in Part III
C13: Storage Included | M13: =IF(E13="","<<< Required Information","") -> <<< Required Information
D14: =IF(StorIncl="Yes","Projects Paired and Co-Located with Energy Storage must fill out the 'Part V (with Storage)' tab, for Generation and Storage charging/discharging schedules. Also, complete Section Part IV (b) below.","")
C15: =IF(ProjStatus=Tables!$B$21,"For a Proposed Expansion of an Existing Project, capacities and quantities should be limited to the offered expansion.","")
C16: Guaranteed Commercial Operation Date | M16: =IF(H16="","<<< Required Information","") -> <<< Required Information
C17: (for new facility or proposed modification)
C18: For evaluation purposes, the term is assumed to start on the first day of the first full calendar month beginning on or after the proposed Effective Date, as shown to the right: | J18: =MAX(TestStDate,IF(DAY(TestStDate)>1,DATE(YEAR(TestStDate),MONTH(TestStDate)+1,1),TestStDate)) -> 43831
C20: Net Generating Capability of Eligible Facility (Nameplate Capacity) | K20: MW | M20: =IF(J20="","<<< Required Information","") -> <<< Required Information
C21: Contract Maximum Amount | K21: MWh/hr | M21: =IF(J21="","<<< Required Information","") -> <<< Required Information
C22: =IF(StorIncl="Yes","Capacity Factor of Generating Project (from Part V (with Storage))","Capacity Factor of Generating Project (from Part V)") -> Capacity Factor of Generating Project (from Part V) | J22: =IF(AND(ISERROR(GenCF),ISERROR(GenCF_preStrg)),"",IF(StorIncl="Yes",GenCF_preStrg*100,GenCF*100)) -> 0 | K22: % | M22: =IF(AND(J22=0,J21<>""),IF(StorIncl="Yes","<<< The Capacity Factor will be calculated based on the Production Data provided in Part V(with Storage).","<<< The Capacity Factor will be calculated based on the Production Data provided in Part V."),"")
C24: Biennial Delivery Requirement: | J24: =IF(StorIncl="Yes",Biennial_DR_wStrg,Biennial_DR) -> 0 | K24: MWh
C25: Obligation, per Section 4.9 of the PPA, for any two consecutive Contract Years.
C27: Buyers' Percentage Entitlement of Project Output | J27: =IF(AND(CapNet<>"",CntMax<>""),(CntMax/CapNet)*100,"") | K27: % | M27: =IF(AND(J27<>"",J27<>100),IF(StorIncl="Yes","<<< For Part V(with Storage) enter production data for only the Buyers' Entitlement of the Eligible Facility.","<<< For Part V enter production data for only the Buyers' Entitlement of the Eligible Facility."),"")
C28: Percent relative to entire Project, not Seller's entitlement if part owner.
C30: Is the Buyer's Percentage Entitlement scalable downward in the event that acceptance of the full amount offered would result in exceedance of the target procurement amount?
M31: =IF(J31="","<<< Required Information","") -> <<< Required Information
C33: What is the minimum Buyer's Percentage Entitlement acceptable ? | K33: % | M33: =IF(AND(PctAdj<>"",J33=""),"<<< Required Information","")
C34: (for proposal with multiple resources, scale down is same % across all resources)
C37: Project Site/Location: | E37: Street | M37: =IF(F37="","<<< Required Information","") -> <<< Required Information
E38: City | M38: =IF(F38="","<<< Required Information","") -> <<< Required Information
E39: State/Prv | H39: Zip | M39: =IF(OR(F39="",I39=""),"<<< Required Information","") -> <<< Required Information
C41: Proposed Interconnection Point | M41: =IF(G41="","<<< Required Information","") -> <<< Required Information
C43: Pricing Node (ISO-NE PTF Node) | M43: =IF(G43="","<<< Required Information","") -> <<< Required Information
C45: ISO New England Load Zone for Proposed Pricing Node | M45: =IF(H45="","<<< Required Information","") -> <<< Required Information
B49: ="Version: " & Version -> Version: 09/04/2018
B50: Part IV (b)
B51: Energy Storage Facility Summary Information
B53: ='Part I'!$B$6 -> For Long Term Contract Proposals Under Long-Term Contracting Standard
C55: Energy Storage Technology: | M55: =IF(AND(StorIncl="Yes",F55=""),"<<< Required Information","")
C57: Paired and Co-Located Energy Storage Specifications
C58: Storage Capacity | K58: MWh | M58: =IF(AND(StorIncl="Yes",J58=""),"<<< Required Information","")
C59: Maximum Discharge Rate | K59: MW | M59: =IF(AND(StorIncl="Yes",J59=""),"<<< Required Information","")
C60: Maximum Charge Rate (enter as a negative value) | K60: MW | M60: =IF(AND(StorIncl="Yes",J60=""),"<<< Required Information","")
C61: Output/Input Cycle Efficiency | K61: % | M61: =IF(AND(StorIncl="Yes",J61=""),"<<< Required Information","")
C62: Calculated Storage Efficiency (from Part V (with Storage)): | J62: =IF(OR(StorIncl="No",StorIncl=""),"",CalcStorEff*100) | K62: %
...

Sheet Part V
B2: ="Version: " & Version -> Version: 09/04/2018 | W2: ="Version " & Version -> Version 09/04/2018
B3: Part V (a) | W3: Part V (a) (i)
B4: ="Operational Information - Production Data of "& ResType -> Operational Information - Production Data of | W4: Representative Deliveries in Representative Year
C5: Project Name | E5: =IF(ProjName="","Auto-Filled",ProjName) -> Auto-Filled | L5: Data Entry: | R5: =IF(M5="","<<< Required Information",IF(M5="hourly profile"," Enter Hourly Profile in Part V(a)(i) >>>>>>","")) -> <<< Required Information
AD6: Enter Representative Year: | AE6: 2012
C7: If you will be inserting an Hourly Profile, due so to the right. If you are not providing an Hourly Profile, then use this table by inserting expected generation for 12 Months by 24 Hours. Table Part V (b) below will be populated automatically. | W7: JANUARY | AA7: =IF(OR(ResType="Land Based Wind",ResType="Off Shore Wind",ResType="Solar"),"Solar and Wind units are required to provide an hourly profile specific to 2012.","")
B8: EXPECTED HOURLY GENERATION in MW - 12 Months by 24 Hours For Representative Day For Each Month
X9: HE | Y9: 1 | Z9: 2 | AA9: 3 | AB9: 4 | AC9: 5 | AD9: 6 | AE9: 7 | AF9: 8 | AG9: 9 | AH9: 10 | AI9: 11 | AJ9: 12 | AK9: 13 | AL9: 14 | AM9: 15 | AN9: 16 | AO9: 17 | AP9: 18 | AQ9: 19 | AR9: 20 | AS9: 21 | AT9: 22 | AU9: 23 | AV9: 24 | AW9: 25 | AX9: 26 | AY9: 27 | AZ9: 28 | BA9: 29 | BB9: 30 | BC9: 31 | BD9: Month | BF9: Off-Pk | BG9: On-Peak | BH9: Off-Pk | BI9: On-Peak | BX9: VLOOKUP
C10: HE | D10: Jan | E10: Feb | F10: Mar | G10: Apr | H10: May | I10: Jun | J10: Jul | K10: Aug | L10: Sep | M10: Oct | N10: Nov | O10: Dec | S10: =COUNT(D11:O34) -> 0 | T10: Cells with Contents | Y10: =VLOOKUP(WEEKDAY(CONCATENATE("1","/",Y9,"/",$AE$6)),$BX$11:$BY$17,2,FALSE) -> Sat | Z10: =VLOOKUP(WEEKDAY(CONCATENATE("1","/",Z9,"/",$AE$6)),$BX$11:$BY$17,2,FALSE) -> Sun | AA10: =VLOOKUP(WEEKDAY(CONCATENATE("1","/",AA9,"/",$AE$6)),$BX$11:$BY$17,2,FALSE) -> Mon | AB10: =VLOOKUP(WEEKDAY(CONCATENATE("1","/",AB9,"/",$AE$6)),$BX$11:$BY$17,2,FALSE) -> Tues | AC10: =VLOOKUP(WEEKDAY(CONCATENATE("1","/",AC9,"/",$AE$6)),$BX$11:$BY$17,2,FALSE) -> Wed | AD10: =VLOOKUP(WEEKDAY(CONCATENATE("1","/",AD9,"/",$AE$6)),$BX$11:$BY$17,2,FALSE) -> Thur | AE10: =VLOOKUP(WEEKDAY(CONCATENATE("1","/",AE9,"/",$AE$6)),$BX$11:$BY$17,2,FALSE) -> Fri | AF10: =Y10 -> Sat | AG10: =Z10 -> Sun | AH10: =AA10 -> Mon | AI10: =AB10 -> Tues | AJ10: =AC10 -> Wed | AK10: =AD10 -> Thur | AL10: =AE10 -> Fri | AM10: =AF10 -> Sat | ... BC10: =AV10 -> Mon | BD10: Avg | BF10: MWh | BG10: MWh | BH10: Avg | BI10: Avg | BJ10: =COUNT(Y11:BC34,Y42:AZ65,Y73:BC96,Y104:BB127,Y135:BC158,Y166:BB189,Y197:BC220,Y228:BC251,Y259:BB282,Y290:BC313,Y321:BB344,Y352:BC375) -> 0 | BK10: Cells with Contents | BX10: Weekday | BY10: DayofWeek
C11: 1 | R11: =IF(AND(S10<288,M5="12 Months by 24 Hours"),"<<< Full Matrix is Required Information","") | X11: 1 | BD11: =IFERROR(AVERAGE(Y11:BC11),"") | BF11: =SUM($Y11:$BC11) -> 0 | BG11: 0 | BH11: =IFERROR(SUM(Y11:BC11)/COUNT(Y11:BC11),0) -> 0 | BI11: 0 | BX11: 1 | BY11: Sat
C12: 2 | V12: =IF(AND(BJ10<8760,M5="Hourly Profile"),"Full Hourly Matrix is Required Information>>>","") | X12: 2 | BD12: =IFERROR(AVERAGE(Y12:BC12),"") | BF12: =SUM($Y12:$BC12) -> 0 | BG12: 0 | BH12: =IFERROR(SUM(Y12:BC12)/COUNT(Y12:BC12),0) -> 0 | BI12: 0 | BX12: 2 | BY12: Sun
C13: 3 | X13: 3 | BD13: =IFERROR(AVERAGE(Y13:BC13),"") | BF13: =SUM($Y13:$BC13) -> 0 | BG13: 0 | BH13: =IFERROR(SUM(Y13:BC13)/COUNT(Y13:BC13),0) -> 0 | BI13: 0 | BX13: 3 | BY13: Mon
C14: 4 | X14: 4 | BD14: =IFERROR(AVERAGE(Y14:BC14),"") | BF14: =SUM($Y14:$BC14) -> 0 | BG14: 0 | BH14: =IFERROR(SUM(Y14:BC14)/COUNT(Y14:BC14),0) -> 0 | BI14: 0 | BX14: 4 | BY14: Tues
C15: 5 | X15: 5 | BD15: =IFERROR(AVERAGE(Y15:BC15),"") | BF15: =SUM($Y15:$BC15) -> 0 | BG15: 0 | BH15: =IFERROR(SUM(Y15:BC15)/COUNT(Y15:BC15),0) -> 0 | BI15: 0 | BX15: 5 | BY15: Wed
C16: 6 | X16: 6 | BD16: =IFERROR(AVERAGE(Y16:BC16),"") | BF16: =SUM($Y16:$BC16) -> 0 | BG16: 0 | BH16: =IFERROR(SUM(Y16:BC16)/COUNT(Y16:BC16),0) -> 0 | BI16: 0 | BX16: 6 | BY16: Thur
C17: 7 | X17: 7 | BD17: =IFERROR(AVERAGE(Y17:BC17),"") | BF17: =SUM($Y17:$BC17) -> 0 | BG17: 0 | BH17: =IFERROR(SUM(Y17:BC17)/COUNT(Y17:BC17),0) -> 0 | BI17: 0 | BX17: 7 | BY17: Fri
C18: 8 | X18: 8 | BD18: =IFERROR(AVERAGE(Y18:BC18),"") | BF18: =(SUMIF($Y$10:$BC$10,"Sat",$Y18:$BC18)+SUMIF($Y$10:$BC$10,"Sun",$Y18:$BC18)) -> 0 | BG18: =(SUM($Y18:$BC18)-(SUMIF($Y$10:$BC$10,"Sat",$Y18:$BC18)+SUMIF($Y$10:$BC$10,"Sun",$Y18:$BC18))) -> 0 | BH18: =(SUMIF($Y$10:$BC$10,"Sat",$Y18:$BC18)+SUMIF($Y$10:$BC$10,"Sun",$Y18:$BC18))/(COUNTIF($Y$10:$BC$10,"Sat")+COUNTIF($Y$10:$BC$10,"Sun")) -> 0 | BI18: =(SUM($Y18:$BC18)-(SUMIF($Y$10:$BC$10,"Sat",$Y18:$BC18)+SUMIF($Y$10:$BC$10,"Sun",$Y18:$BC18)))/(COUNT(Y18:BC18)-(COUNTIF($Y$10:$BC$10,"Sat")+COUNTIF($Y$10:$BC$10,"Sun"))) -> 0
C19: 9 | X19: 9 | BD19: =IFERROR(AVERAGE(Y19:BC19),"") | BF19: =(SUMIF($Y$10:$BC$10,"Sat",$Y19:$BC19)+SUMIF($Y$10:$BC$10,"Sun",$Y19:$BC19)) -> 0 | BG19: =(SUM($Y19:$BC19)-(SUMIF($Y$10:$BC$10,"Sat",$Y19:$BC19)+SUMIF($Y$10:$BC$10,"Sun",$Y19:$BC19))) -> 0 | BH19: =(SUMIF($Y$10:$BC$10,"Sat",$Y19:$BC19)+SUMIF($Y$10:$BC$10,"Sun",$Y19:$BC19))/(COUNTIF($Y$10:$BC$10,"Sat")+COUNTIF($Y$10:$BC$10,"Sun")) -> 0 | BI19: =(SUM($Y19:$BC19)-(SUMIF($Y$10:$BC$10,"Sat",$Y19:$BC19)+SUMIF($Y$10:$BC$10,"Sun",$Y19:$BC19)))/(COUNT(Y19:BC19)-(COUNTIF($Y$10:$BC$10,"Sat")+COUNTIF($Y$10:$BC$10,"Sun"))) -> 0
C20: 10 | X20: 10 | BD20: =IFERROR(AVERAGE(Y20:BC20),"") | BF20: =(SUMIF($Y$10:$BC$10,"Sat",$Y20:$BC20)+SUMIF($Y$10:$BC$10,"Sun",$Y20:$BC20)) -> 0 | BG20: =(SUM($Y20:$BC20)-(SUMIF($Y$10:$BC$10,"Sat",$Y20:$BC20)+SUMIF($Y$10:$BC$10,"Sun",$Y20:$BC20))) -> 0 | BH20: =(SUMIF($Y$10:$BC$10,"Sat",$Y20:$BC20)+SUMIF($Y$10:$BC$10,"Sun",$Y20:$BC20))/(COUNTIF($Y$10:$BC$10,"Sat")+COUNTIF($Y$10:$BC$10,"Sun")) -> 0 | BI20: =(SUM($Y20:$BC20)-(SUMIF($Y$10:$BC$10,"Sat",$Y20:$BC20)+SUMIF($Y$10:$BC$10,"Sun",$Y20:$BC20)))/(COUNT(Y20:BC20)-(COUNTIF($Y$10:$BC$10,"Sat")+COUNTIF($Y$10:$BC$10,"Sun"))) -> 0
C21: 11 | X21: 11 | BD21: =IFERROR(AVERAGE(Y21:BC21),"") | BF21: =(SUMIF($Y$10:$BC$10,"Sat",$Y21:$BC21)+SUMIF($Y$10:$BC$10,"Sun",$Y21:$BC21)) -> 0 | BG21: =(SUM($Y21:$BC21)-(SUMIF($Y$10:$BC$10,"Sat",$Y21:$BC21)+SUMIF($Y$10:$BC$10,"Sun",$Y21:$BC21))) -> 0 | BH21: =(SUMIF($Y$10:$BC$10,"Sat",$Y21:$BC21)+SUMIF($Y$10:$BC$10,"Sun",$Y21:$BC21))/(COUNTIF($Y$10:$BC$10,"Sat")+COUNTIF($Y$10:$BC$10,"Sun")) -> 0 | BI21: =(SUM($Y21:$BC21)-(SUMIF($Y$10:$BC$10,"Sat",$Y21:$BC21)+SUMIF($Y$10:$BC$10,"Sun",$Y21:$BC21)))/(COUNT(Y21:BC21)-(COUNTIF($Y$10:$BC$10,"Sat")+COUNTIF($Y$10:$BC$10,"Sun"))) -> 0
C22: 12 | X22: 12 | BD22: =IFERROR(AVERAGE(Y22:BC22),"") | BF22: =(SUMIF($Y$10:$BC$10,"Sat",$Y22:$BC22)+SUMIF($Y$10:$BC$10,"Sun",$Y22:$BC22)) -> 0 | BG22: =(SUM($Y22:$BC22)-(SUMIF($Y$10:$BC$10,"Sat",$Y22:$BC22)+SUMIF($Y$10:$BC$10,"Sun",$Y22:$BC22))) -> 0 | BH22: =(SUMIF($Y$10:$BC$10,"Sat",$Y22:$BC22)+SUMIF($Y$10:$BC$10,"Sun",$Y22:$BC22))/(COUNTIF($Y$10:$BC$10,"Sat")+COUNTIF($Y$10:$BC$10,"Sun")) -> 0 | BI22: =(SUM($Y22:$BC22)-(SUMIF($Y$10:$BC$10,"Sat",$Y22:$BC22)+SUMIF($Y$10:$BC$10,"Sun",$Y22:$BC22)))/(COUNT(Y22:BC22)-(COUNTIF($Y$10:$BC$10,"Sat")+COUNTIF($Y$10:$BC$10,"Sun"))) -> 0
C23: 13 | X23: 13 | BD23: =IFERROR(AVERAGE(Y23:BC23),"") | BF23: =(SUMIF($Y$10:$BC$10,"Sat",$Y23:$BC23)+SUMIF($Y$10:$BC$10,"Sun",$Y23:$BC23)) -> 0 | BG23: =(SUM($Y23:$BC23)-(SUMIF($Y$10:$BC$10,"Sat",$Y23:$BC23)+SUMIF($Y$10:$BC$10,"Sun",$Y23:$BC23))) -> 0 | BH23: =(SUMIF($Y$10:$BC$10,"Sat",$Y23:$BC23)+SUMIF($Y$10:$BC$10,"Sun",$Y23:$BC23))/(COUNTIF($Y$10:$BC$10,"Sat")+COUNTIF($Y$10:$BC$10,"Sun")) -> 0 | BI23: =(SUM($Y23:$BC23)-(SUMIF($Y$10:$BC$10,"Sat",$Y23:$BC23)+SUMIF($Y$10:$BC$10,"Sun",$Y23:$BC23)))/(COUNT(Y23:BC23)-(COUNTIF($Y$10:$BC$10,"Sat")+COUNTIF($Y$10:$BC$10,"Sun"))) -> 0
C24: 14 | X24: 14 | BD24: =IFERROR(AVERAGE(Y24:BC24),"") | BF24: =(SUMIF($Y$10:$BC$10,"Sat",$Y24:$BC24)+SUMIF($Y$10:$BC$10,"Sun",$Y24:$BC24)) -> 0 | BG24: =(SUM($Y24:$BC24)-(SUMIF($Y$10:$BC$10,"Sat",$Y24:$BC24)+SUMIF($Y$10:$BC$10,"Sun",$Y24:$BC24))) -> 0 | BH24: =(SUMIF($Y$10:$BC$10,"Sat",$Y24:$BC24)+SUMIF($Y$10:$BC$10,"Sun",$Y24:$BC24))/(COUNTIF($Y$10:$BC$10,"Sat")+COUNTIF($Y$10:$BC$10,"Sun")) -> 0 | BI24: =(SUM($Y24:$BC24)-(SUMIF($Y$10:$BC$10,"Sat",$Y24:$BC24)+SUMIF($Y$10:$BC$10,"Sun",$Y24:$BC24)))/(COUNT(Y24:BC24)-(COUNTIF($Y$10:$BC$10,"Sat")+COUNTIF($Y$10:$BC$10,"Sun"))) -> 0
C25: 15 | X25: 15 | BD25: =IFERROR(AVERAGE(Y25:BC25),"") | BF25: =(SUMIF($Y$10:$BC$10,"Sat",$Y25:$BC25)+SUMIF($Y$10:$BC$10,"Sun",$Y25:$BC25)) -> 0 | BG25: =(SUM($Y25:$BC25)-(SUMIF($Y$10:$BC$10,"Sat",$Y25:$BC25)+SUMIF($Y$10:$BC$10,"Sun",$Y25:$BC25))) -> 0 | BH25: =(SUMIF($Y$10:$BC$10,"Sat",$Y25:$BC25)+SUMIF($Y$10:$BC$10,"Sun",$Y25:$BC25))/(COUNTIF($Y$10:$BC$10,"Sat")+COUNTIF($Y$10:$BC$10,"Sun")) -> 0 | BI25: =(SUM($Y25:$BC25)-(SUMIF($Y$10:$BC$10,"Sat",$Y25:$BC25)+SUMIF($Y$10:$BC$10,"Sun",$Y25:$BC25)))/(COUNT(Y25:BC25)-(COUNTIF($Y$10:$BC$10,"Sat")+COUNTIF($Y$10:$BC$10,"Sun"))) -> 0
C26: 16 | X26: 16 | BD26: =IFERROR(AVERAGE(Y26:BC26),"") | BF26: =(SUMIF($Y$10:$BC$10,"Sat",$Y26:$BC26)+SUMIF($Y$10:$BC$10,"Sun",$Y26:$BC26)) -> 0 | BG26: =(SUM($Y26:$BC26)-(SUMIF($Y$10:$BC$10,"Sat",$Y26:$BC26)+SUMIF($Y$10:$BC$10,"Sun",$Y26:$BC26))) -> 0 | BH26: =(SUMIF($Y$10:$BC$10,"Sat",$Y26:$BC26)+SUMIF($Y$10:$BC$10,"Sun",$Y26:$BC26))/(COUNTIF($Y$10:$BC$10,"Sat")+COUNTIF($Y$10:$BC$10,"Sun")) -> 0 | BI26: =(SUM($Y26:$BC26)-(SUMIF($Y$10:$BC$10,"Sat",$Y26:$BC26)+SUMIF($Y$10:$BC$10,"Sun",$Y26:$BC26)))/(COUNT(Y26:BC26)-(COUNTIF($Y$10:$BC$10,"Sat")+COUNTIF($Y$10:$BC$10,"Sun"))) -> 0
C27: 17 | X27: 17 | BD27: =IFERROR(AVERAGE(Y27:BC27),"") | BF27: =(SUMIF($Y$10:$BC$10,"Sat",$Y27:$BC27)+SUMIF($Y$10:$BC$10,"Sun",$Y27:$BC27)) -> 0 | BG27: =(SUM($Y27:$BC27)-(SUMIF($Y$10:$BC$10,"Sat",$Y27:$BC27)+SUMIF($Y$10:$BC$10,"Sun",$Y27:$BC27))) -> 0 | BH27: =(SUMIF($Y$10:$BC$10,"Sat",$Y27:$BC27)+SUMIF($Y$10:$BC$10,"Sun",$Y27:$BC27))/(COUNTIF($Y$10:$BC$10,"Sat")+COUNTIF($Y$10:$BC$10,"Sun")) -> 0 | BI27: =(SUM($Y27:$BC27)-(SUMIF($Y$10:$BC$10,"Sat",$Y27:$BC27)+SUMIF($Y$10:$BC$10,"Sun",$Y27:$BC27)))/(COUNT(Y27:BC27)-(COUNTIF($Y$10:$BC$10,"Sat")+COUNTIF($Y$10:$BC$10,"Sun"))) -> 0
C28: 18 | X28: 18 | BD28: =IFERROR(AVERAGE(Y28:BC28),"") | BF28: =(SUMIF($Y$10:$BC$10,"Sat",$Y28:$BC28)+SUMIF($Y$10:$BC$10,"Sun",$Y28:$BC28)) -> 0 | BG28: =(SUM($Y28:$BC28)-(SUMIF($Y$10:$BC$10,"Sat",$Y28:$BC28)+SUMIF($Y$10:$BC$10,"Sun",$Y28:$BC28))) -> 0 | BH28: =(SUMIF($Y$10:$BC$10,"Sat",$Y28:$BC28)+SUMIF($Y$10:$BC$10,"Sun",$Y28:$BC28))/(COUNTIF($Y$10:$BC$10,"Sat")+COUNTIF($Y$10:$BC$10,"Sun")) -> 0 | BI28: =(SUM($Y28:$BC28)-(SUMIF($Y$10:$BC$10,"Sat",$Y28:$BC28)+SUMIF($Y$10:$BC$10,"Sun",$Y28:$BC28)))/(COUNT(Y28:BC28)-(COUNTIF($Y$10:$BC$10,"Sat")+COUNTIF($Y$10:$BC$10,"Sun"))) -> 0
C29: 19 | X29: 19 | BD29: =IFERROR(AVERAGE(Y29:BC29),"") | BF29: =(SUMIF($Y$10:$BC$10,"Sat",$Y29:$BC29)+SUMIF($Y$10:$BC$10,"Sun",$Y29:$BC29)) -> 0 | BG29: =(SUM($Y29:$BC29)-(SUMIF($Y$10:$BC$10,"Sat",$Y29:$BC29)+SUMIF($Y$10:$BC$10,"Sun",$Y29:$BC29))) -> 0 | BH29: =(SUMIF($Y$10:$BC$10,"Sat",$Y29:$BC29)+SUMIF($Y$10:$BC$10,"Sun",$Y29:$BC29))/(COUNTIF($Y$10:$BC$10,"Sat")+COUNTIF($Y$10:$BC$10,"Sun")) -> 0 | BI29: =(SUM($Y29:$BC29)-(SUMIF($Y$10:$BC$10,"Sat",$Y29:$BC29)+SUMIF($Y$10:$BC$10,"Sun",$Y29:$BC29)))/(COUNT(Y29:BC29)-(COUNTIF($Y$10:$BC$10,"Sat")+COUNTIF($Y$10:$BC$10,"Sun"))) -> 0
... C33: 23 | X33: 23 | BD33: =IFERROR(AVERAGE(Y33:BC33),"") | BF33: =(SUMIF($Y$10:$BC$10,"Sat",$Y33:$BC33)+SUMIF($Y$10:$BC$10,"Sun",$Y33:$BC33)) -> 0 | BG33: =(SUM($Y33:$BC33)-(SUMIF($Y$10:$BC$10,"Sat",$Y33:$BC33)+SUMIF($Y$10:$BC$10,"Sun",$Y33:$BC33))) -> 0 | BH33: =(SUMIF($Y$10:$BC$10,"Sat",$Y33:$BC33)+SUMIF($Y$10:$BC$10,"Sun",$Y33:$BC33))/(COUNTIF($Y$10:$BC$10,"Sat")+COUNTIF($Y$10:$BC$10,"Sun")) -> 0 | BI33: =(SUM($Y33:$BC33)-(SUMIF($Y$10:$BC$10,"Sat",$Y33:$BC33)+SUMIF($Y$10:$BC$10,"Sun",$Y33:$BC33)))/(COUNT(Y33:BC33)-(COUNTIF($Y$10:$BC$10,"Sat")+COUNTIF($Y$10:$BC$10,"Sun"))) -> 0
C34: 24 | X34: 24 | BD34: =IFERROR(AVERAGE(Y34:BC34),"") | BF34: =SUM($Y34:$BC34) -> 0 | BG34: 0 | BH34: =IFERROR(SUM(Y34:BC34)/COUNT(Y34:BC34),0) -> 0 | BI34: 0
S36: Eligible Facility Location | BF36: =SUM(BF11:BF34) -> 0 | BG36: =SUM(BG18:BG33) -> 0
B37: ="Version: " & Version -> Version: 09/04/2018
B38: Part V (b) | S38: Latitude: | W38: FEBRUARY
B39: ="Operational Information - Production Data of "& ResType -> Operational Information - Production Data of
C40: Project Name | E40: =IF(ProjName="","Auto-Filled",ProjName) -> Auto-Filled | L40: Data Entry: | M40: =M5 -> 0 | S40: Longitude: | X40: HE | Y40: 1 | Z40: 2 | AA40: 3 | AB40: 4 | AC40: 5 | AD40: 6 | AE40: 7 | AF40: 8 | AG40: 9 | AH40: 10 | AI40: 11 | AJ40: 12 | AK40: 13 | AL40: 14 | AM40: 15 | AN40: 16 | AO40: 17 | AP40: 18 | AQ40: 19 | AR40: 20 | AS40: 21 | AT40: 22 | AU40: 23 | AV40: 24 | AW40: 25 | AX40: 26 | AY40: 27 | AZ40: 28 | BA40: =IF(AE6/4=ROUND(AE6/4,0),29,"") -> 29 | BD40: Month | BF40: Off-Pk | BG40: On-Peak | BH40: Off-Pk | BI40: On-Peak
Y41: =VLOOKUP(WEEKDAY(CONCATENATE("2","/",Y40,"/",$AE$6)),$BX$11:$BY$17,2,FALSE) -> Tues | Z41: =VLOOKUP(WEEKDAY(CONCATENATE("2","/",Z40,"/",$AE$6)),$BX$11:$BY$17,2,FALSE) -> Wed | AA41: =VLOOKUP(WEEKDAY(CONCATENATE("2","/",AA40,"/",$AE$6)),$BX$11:$BY$17,2,FALSE) -> Thur | AB41: =VLOOKUP(WEEKDAY(CONCATENATE("2","/",AB40,"/",$AE$6)),$BX$11:$BY$17,2,FALSE) -> Fri | AC41: =VLOOKUP(WEEKDAY(CONCATENATE("2","/",AC40,"/",$AE$6)),$BX$11:$BY$17,2,FALSE) -> Sat | AD41: =VLOOKUP(WEEKDAY(CONCATENATE("2","/",AD40,"/",$AE$6)),$BX$11:$BY$17,2,FALSE) -> Sun | AE41: =VLOOKUP(WEEKDAY(CONCATENATE("2","/",AE40,"/",$AE$6)),$BX$11:$BY$17,2,FALSE) -> Mon | AF41: =Y41 -> Tues | AG41: =Z41 -> Wed | AH41: =AA41 -> Thur | AI41: =AB41 -> Fri | AJ41: =AC41 -> Sat | AK41: =AD41 -> Sun | AL41: =AE41 -> Mon | AM41: =AF41 -> Tues | ... AZ41: =AS41 -> Mon | BA41: =IF(BA40="","",AT41) -> Tues | BD41: Avg | BF41: MWh | BG41: MWh | BH41: Avg | BI41: Avg
C42: This table is calculated from either Part V(a) or Part V(a)(i). | X42: 1 | BD42: =IFERROR(AVERAGE(Y42:BA42),"") | BF42: =SUM($Y42:$BC42) -> 0 | BG42: 0 | BH42: =IFERROR(SUM(Y42:BC42)/COUNT(Y42:BC42),0) -> 0 | BI42: 0
B43: HOURLY DELIVERY in MW (Averaged) - 12 Months by 24 Hours For Representative Day For Each Month | X43: 2 | BD43: =IFERROR(AVERAGE(Y43:BA43),"") | BF43: =SUM($Y43:$BC43) -> 0 | BG43: 0 | BH43: =IFERROR(SUM(Y43:BC43)/COUNT(Y43:BC43),0) -> 0 | BI43: 0
X44: 3 | BD44: =IFERROR(AVERAGE(Y44:BA44),"") | BF44: =SUM($Y44:$BC44) -> 0 | BG44: 0 | BH44: =IFERROR(SUM(Y44:BC44)/COUNT(Y44:BC44),0) -> 0 | BI44: 0
C45: HE | D45: Jan | E45: Feb | F45: Mar | G45: Apr | H45: May | I45: Jun | J45: Jul | K45: Aug | L45: Sep | M45: Oct | N45: Nov | O45: Dec | X45: 4 | BD45: =IFERROR(AVERAGE(Y45:BA45),"") | BF45: =SUM($Y45:$BC45) -> 0 | BG45: 0 | BH45: =IFERROR(SUM(Y45:BC45)/COUNT(Y45:BC45),0) -> 0 | BI45: 0
...

Sheet Part V (with StorageCT)
B2: ="Version: " & Version -> Version: 09/04/2018
B3: Part V (a)
B4: ="Operational Information - 12 X 24 Profile of "& ResType -> Operational Information - 12 X 24 Profile of
C5: Project Name | E5: =IF(ProjName="","Auto-Filled",ProjName) -> Auto-Filled | L5: Period | M5: All Days
C7: Use this table to show expected generation for all days.
B8: EXPECTED HOURLY GENERATION in MW - 12 Months by 24 Hours For Representative Day For Each Month
C10: HE | D10: Jan | E10: Feb | F10: Mar | G10: Apr | H10: May | I10: Jun | J10: Jul | K10: Aug | L10: Sep | M10: Oct | N10: Nov | O10: Dec | S10: =COUNT(D11:O34) -> 0 | T10: Cells with Contents
C11: 1 | R11: =IF(S10<288,"<<< Full Matrix is Required Information","") -> <<< Full Matrix is Required Information
C12: 2
C13: 3
C14: 4
C15: 5
C16: 6
C17: 7
C18: 8
C19: 9
C20: 10
C21: 11
C22: 12
C23: 13
... C34: 24
B37: ="Version: " & Version -> Version: 09/04/2018
B38: Part V (b-1)
B39: ="Operational Information - 12 X 24 Profile of "& ResType &" with Energy Storage" -> Operational Information - 12 X 24 Profile of with Energy Storage
C40: Project Name | E40: =IF(ProjName="","",ProjName) | L40: Period | M40: Weekdays
C42: Use this table to show net energy delivery to grid for weekdays including the effects of Energy Storage. Note that the amounts entered for Performance Hours (HE 15 through HE 21) will be used to establish the Minimum Percentage Delivery Commitment.
B43: HOURLY DELIVERY in MW - 12 Months by 24 Hours For Representative Day For Each Month
C45: HE | D45: Jan | E45: Feb | F45: Mar | G45: Apr | H45: May | I45: Jun | J45: Jul | K45: Aug | L45: Sep | M45: Oct | N45: Nov | O45: Dec | S45: =COUNT(D46:O69) -> 0 | T45: Cells with Contents
C46: 1 | R46: =IF(AND(StorIncl="YES",S45<288),"<<< Full Matrix is Required Information",IF(AND(NOT(StorIncl="YES"),S45>0),"<<< This Matrix Should be Blank if Storage is Not Offered",""))
C47: 2
C48: 3
C49: 4
C50: 5
C51: 6
C52: 7
C53: 8
C54: 9
C55: 10
C56: 11
C57: 12
...

Sheet Part V (with Storage)
DS1: Verification section - Not for Data Entry! | FB1: Verification section - Not for Data Entry!
B2: ="Version: " & Version -> Version: 09/04/2018 | W2: ="Version " & Version -> Version 09/04/2018 | BM2: ="Version " & Version -> Version 09/04/2018 | DS2: ="Version " & Version -> Version 09/04/2018 | FB2: ="Version " & Version -> Version 09/04/2018
B3: Part V (a -1) - (with Energy Storage) | W3: Part V (a) (i) | BM3: Part V (a) (ii) - Energy Storage | DS3: Part V (a) (iii) - Generation with Energy Storage Combined | FB3: Part V (a) (iv) - Generation with Energy Storage Combined
B4: ="Operational Information - Production Data of "& ResType -> Operational Information - Production Data of | R4: Data Entry | W4: Representative Generation Production in Representative Year | BM4: Representative Energy Storage Charging/Discharging Schedule in Representative Year | DS4: Verification of Hourly Net Deliver of Generation Project Paired and Co-Located with Energy Storage | FB4: Verification of the Storage Capacity (MWh) for the Co-Located Energy Storage
C5: Project Name | E5: =IF(ProjName="","Auto-Filled",ProjName) -> Auto-Filled | L5: Data Entry: | M5: Hourly Profile | R5: Hourly Generation Profile in Part V(a)(i)>>>>
R6: Hourly Storage Profile in Part V(a)(ii)>>>> | AD6: Enter Representative Year: | AE6: 2012 | BQ6: Enter Representative Hourly Charging (-) and Discharging (+) Schedule | DV6: Representative Yearly Number of Hours where forecasted schedules for generation, in conjunction with Energy Storage, create a negative Net Delivery: | EL6: =EZ34+EZ65+EZ96+EZ127+EZ158+EZ189+EZ220+EZ251+EZ282+EZ313+EZ344+EZ375 -> 0 | FE6: Representative Yearly Number of Hours where forecasted schedules for Energy Storage charging/discharging exceed the Storage Capacity: | FT6: =GI34+GI65+GI96+GI127+GI158+GI189+GI220+GI251+GI282+GI313+GI344+GI375 -> 0
C7: You must insert an Hourly Profile, to the right in Part V(a)(i). This table will be populated automatically. | W7: JANUARY | AA7: =IF(OR(ResType="Land Based Wind",ResType="Off Shore Wind",ResType="Solar"),"Solar and Wind units are required to provide an hourly profile specific to 2012.","") | BM7: JANUARY | DS7: JANUARY | FB7: JANUARY
B8: EXPECTED HOURLY GENERATION in MW (averaged) - 12 Months by 24 Hours For Representative Day For Each Month | BO8: =IFERROR(SUMIF(BO11:BO34,">0",BO11:BO34)/-SUMIF(BO11:BO34,"<0",BO11:BO34),"") | BP8: =IFERROR(SUMIF(BP11:BP34,">0",BP11:BP34)/-SUMIF(BP11:BP34,"<0",BP11:BP34),"") | BQ8: =IFERROR(SUMIF(BQ11:BQ34,">0",BQ11:BQ34)/-SUMIF(BQ11:BQ34,"<0",BQ11:BQ34),"") | BR8: =IFERROR(SUMIF(BR11:BR34,">0",BR11:BR34)/-SUMIF(BR11:BR34,"<0",BR11:BR34),"") | BS8: =IFERROR(SUMIF(BS11:BS34,">0",BS11:BS34)/-SUMIF(BS11:BS34,"<0",BS11:BS34),"") | BT8: =IFERROR(SUMIF(BT11:BT34,">0",BT11:BT34)/-SUMIF(BT11:BT34,"<0",BT11:BT34),"") | BU8: =IFERROR(SUMIF(BU11:BU34,">0",BU11:BU34)/-SUMIF(BU11:BU34,"<0",BU11:BU34),"") | BV8: =IFERROR(SUMIF(BV11:BV34,">0",BV11:BV34)/-SUMIF(BV11:BV34,"<0",BV11:BV34),"") | ... CS8: =IFERROR(SUMIF(CS11:CS34,">0",CS11:CS34)/-SUMIF(CS11:CS34,"<0",CS11:CS34),"")
X9: HE | Y9: 1 | Z9: 2 | AA9: 3 | AB9: 4 | AC9: 5 | AD9: 6 | AE9: 7 | AF9: 8 | AG9: 9 | AH9: 10 | AI9: 11 | AJ9: 12 | AK9: 13 | AL9: 14 | AM9: 15 | AN9: 16 | AO9: 17 | AP9: 18 | AQ9: 19 | AR9: 20 | AS9: 21 | AT9: 22 | AU9: 23 | AV9: 24 | AW9: 25 | AX9: 26 | AY9: 27 | AZ9: 28 | BA9: 29 | BB9: 30 | BC9: 31 | BD9: Month | BF9: Off-Pk | BG9: On-Peak | BH9: Off-Pk | BI9: On-Peak | BN9: HE | BO9: 1 | BP9: 2 | BQ9: 3 | BR9: 4 | BS9: 5 | BT9: 6 | BU9: 7 | BV9: 8 | BW9: 9 | BX9: 10 | BY9: 11 | BZ9: 12 | CA9: 13 | CB9: 14 | CC9: 15 | CD9: 16 | CE9: 17 | CF9: 18 | CG9: 19 | CH9: 20 | CI9: 21 | CJ9: 22 | CK9: 23 | CL9: 24 | CM9: 25 | CN9: 26 | CO9: 27 | CP9: 28 | CQ9: 29 | CR9: 30 | CS9: 31 | CT9: Month | CV9: Off-Pk | CW9: On-Peak | CX9: Charging | CY9: Discharging | DN9: VLOOKUP | DT9: HE | DU9: 1 | DV9: 2 | DW9: 3 | DX9: 4 | DY9: 5 | DZ9: 6 | EA9: 7 | EB9: 8 | EC9: 9 | ED9: 10 | EE9: 11 | EF9: 12 | EG9: 13 | EH9: 14 | EI9: 15 | EJ9: 16 | EK9: 17 | EL9: 18 | EM9: 19 | EN9: 20 | EO9: 21 | EP9: 22 | EQ9: 23 | ER9: 24 | ES9: 25 | ET9: 26 | EU9: 27 | EV9: 28 | EW9: 29 | EX9: 30 | EY9: 31 | FC9: HE | FD9: 1 | FE9: 2 | FF9: 3 | FG9: 4 | FH9: 5 | FI9: 6 | FJ9: 7 | FK9: 8 | FL9: 9 | FM9: 10 | FN9: 11 | FO9: 12 | FP9: 13 | FQ9: 14 | FR9: 15 | FS9: 16 | FT9: 17 | FU9: 18 | FV9: 19 | FW9: 20 | FX9: 21 | FY9: 22 | FZ9: 23 | GA9: 24 | GB9: 25 | GC9: 26 | GD9: 27 | GE9: 28 | GF9: 29 | GG9: 30 | GH9: 31
C10: HE | D10: Jan | E10: Feb | F10: Mar | G10: Apr | H10: May | I10: Jun | J10: Jul | K10: Aug | L10: Sep | M10: Oct | N10: Nov | O10: Dec | S10: =COUNT(D11:O34) -> 288 | T10: Cells with Contents | Y10: =VLOOKUP(WEEKDAY(CONCATENATE("1","/",Y9,"/",$AE$6)),$DN$11:$DO$17,2,FALSE) -> Sat | Z10: =VLOOKUP(WEEKDAY(CONCATENATE("1","/",Z9,"/",$AE$6)),$DN$11:$DO$17,2,FALSE) -> Sun | AA10: =VLOOKUP(WEEKDAY(CONCATENATE("1","/",AA9,"/",$AE$6)),$DN$11:$DO$17,2,FALSE) -> Mon | AB10: =VLOOKUP(WEEKDAY(CONCATENATE("1","/",AB9,"/",$AE$6)),$DN$11:$DO$17,2,FALSE) -> Tues | AC10: =VLOOKUP(WEEKDAY(CONCATENATE("1","/",AC9,"/",$AE$6)),$DN$11:$DO$17,2,FALSE) -> Wed | AD10: =VLOOKUP(WEEKDAY(CONCATENATE("1","/",AD9,"/",$AE$6)),$DN$11:$DO$17,2,FALSE) -> Thur | AE10: =VLOOKUP(WEEKDAY(CONCATENATE("1","/",AE9,"/",$AE$6)),$DN$11:$DO$17,2,FALSE) -> Fri | AF10: =Y10 -> Sat | AG10: =Z10 -> Sun | AH10: =AA10 -> Mon | AI10: =AB10 -> Tues | AJ10: =AC10 -> Wed | AK10: =AD10 -> Thur | AL10: =AE10 -> Fri | AM10: =AF10 -> Sat | ... BC10: =AV10 -> Mon | BD10: Avg | BF10: MWh | BG10: MWh | BH10: Avg | BI10: Avg | BJ10: =COUNT(Y11:BC34,Y42:AZ65,Y73:BC96,Y104:BB127,Y135:BC158,Y166:BB189,Y197:BC220,Y228:BC251,Y259:BB282,Y290:BC313,Y321:BB344,Y352:BC375) -> 0 | BK10: Cells with Contents | BO10: =Y10 -> Sat | BP10: =Z10 -> Sun | BQ10: =AA10 -> Mon | BR10: =AB10 -> Tues | BS10: =AC10 -> Wed | BT10: =AD10 -> Thur | BU10: =AE10 -> Fri | BV10: =BO10 -> Sat | BW10: =BP10 -> Sun | BX10: =BQ10 -> Mon | BY10: =BR10 -> Tues | BZ10: =BS10 -> Wed | CA10: =BT10 -> Thur | CB10: =BU10 -> Fri | CC10: =BV10 -> Sat | ... CS10: =CL10 -> Mon | CT10: Avg | CV10: MWh | CW10: MWh | CX10: Avg | CY10: Avg | CZ10: =COUNT(BO11:CS34,BO42:CP65,BO73:CS96,BO104:CR127,BO135:CS158,BO166:CR189,BO197:CS220,BO228:CS251,BO259:CR282,BO290:CS313,BO321:CR344,BO352:CS375) -> 0 | DA10: Cells with Contents | DN10: Weekday | DO10: DayofWeek | DU10: =Y10 -> Sat | DV10: =Z10 -> Sun | DW10: =AA10 -> Mon | DX10: =AB10 -> Tues | DY10: =AC10 -> Wed | DZ10: =AD10 -> Thur | EA10: =AE10 -> Fri | EB10: =DU10 -> Sat | EC10: =DV10 -> Sun | ED10: =DW10 -> Mon | EE10: =DX10 -> Tues | EF10: =DY10 -> Wed | EG10: =DZ10 -> Thur | EH10: =EA10 -> Fri | EI10: =EB10 -> Sat | ... EY10: =ER10 -> Mon | FD10: =BO10 -> Sat | FE10: =BP10 -> Sun | FF10: =BQ10 -> Mon | FG10: =BR10 -> Tues | FH10: =BS10 -> Wed | FI10: =BT10 -> Thur | FJ10: =BU10 -> Fri | FK10: =FD10 -> Sat | FL10: =FE10 -> Sun | FM10: =FF10 -> Mon | FN10: =FG10 -> Tues | FO10: =FH10 -> Wed | FP10: =FI10 -> Thur | FQ10: =FJ10 -> Fri | FR10: =FK10 -> Sat | ... GH10: =GA10 -> Mon
C11: 1 | D11: =$BD11 -> 0 | E11: =$BD42 -> 0 | F11: =$BD73 -> 0 | G11: =$BD104 -> 0 | H11: =$BD135 -> 0 | I11: =$BD166 -> 0 | J11: =$BD197 -> 0 | K11: =$BD228 -> 0 | L11: =$BD259 -> 0 | M11: =$BD290 -> 0 | N11: =$BD321 -> 0 | O11: =$BD352 -> 0 | R11: =IF(AND(S10<288,M5="12 Months by 24 Hours"),"<<< Full Matrix is Required Information","") | X11: 1 | BD11: =SUM(Y11:BC11)/COUNT(Y$9:BC$9) -> 0 | BE11: =SUM(Z11:BB11)/COUNT(Z$40:BB$40) -> 0 | BF11: =SUM($Y11:$BC11) -> 0 | BG11: 0 | BH11: =IFERROR(SUM(Y11:BC11)/COUNT(Y11:BC11),0) -> 0 | BI11: 0 | BN11: 1 | CT11: =SUM(BO11:CS11)/COUNT(BO$9:CS$9) -> 0 | CU11: =SUM(BP11:CR11)/COUNT(BP$40:CR$40) -> 0 | CV11: =SUM($Y11:$BC11) -> 0 | CW11: 0 | CX11: =SUMIF(BO11:CS11,"<0",BO11:CS11) -> 0 | CY11: =SUMIF(BO11:CS11,">0",BO11:CS11) -> 0 | DN11: 1 | DO11: Sat | DT11: 1 | DU11: =Y11+BO11 -> 0 | DV11: =Z11+BP11 -> 0 | DW11: =AA11+BQ11 -> 0 | DX11: =AB11+BR11 -> 0 | DY11: =AC11+BS11 -> 0 | DZ11: =AD11+BT11 -> 0 | EA11: =AE11+BU11 -> 0 | EB11: =AF11+BV11 -> 0 | ... EY11: =BC11+CS11 -> 0 | FC11: 1 | FD11: =IF(BO11<0,BO11,BO11/(StorEff/100)) -> #DIV/0! | FE11: =FD34+IF(BP11<0,BP11,BP11/(StorEff/100)) -> #DIV/0! | FF11: =FE34+IF(BQ11<0,BQ11,BQ11/(StorEff/100)) -> #DIV/0! | FG11: =FF34+IF(BR11<0,BR11,BR11/(StorEff/100)) -> #DIV/0! | FH11: =FG34+IF(BS11<0,BS11,BS11/(StorEff/100)) -> #DIV/0! | FI11: =FH34+IF(BT11<0,BT11,BT11/(StorEff/100)) -> #DIV/0! | FJ11: =FI34+IF(BU11<0,BU11,BU11/(StorEff/100)) -> #DIV/0! | FK11: =FJ34+IF(BV11<0,BV11,BV11/(StorEff/100)) -> #DIV/0! | FL11: =FK34+IF(BW11<0,BW11,BW11/(StorEff/100)) -> #DIV/0! | ... GH11: =GG34+IF(CS11<0,CS11,CS11/(StorEff/100)) -> #DIV/0!
C12: 2 | D12: =$BD12 -> 0 | E12: =$BD43 -> 0 | F12: =$BD74 -> 0 | G12: =$BD105 -> 0 | H12: =$BD136 -> 0 | I12: =$BD167 -> 0 | J12: =$BD198 -> 0 | K12: =$BD229 -> 0 | L12: =$BD260 -> 0 | M12: =$BD291 -> 0 | N12: =$BD322 -> 0 | O12: =$BD353 -> 0 | V12: =IF(AND(BJ10<8760,M5="Hourly Profile"),"Full Hourly Matrix is Required Information>>>","") -> Full Hourly Matrix is Required Information>>> | X12: 2 | BD12: =SUM(Y12:BC12)/COUNT(Y$9:BC$9) -> 0 | BE12: =SUM(Z12:BB12)/COUNT(Z$40:BB$40) -> 0 | BF12: =SUM($Y12:$BC12) -> 0 | BG12: 0 | BH12: =IFERROR(SUM(Y12:BC12)/COUNT(Y12:BC12),0) -> 0 | BI12: 0 | BN12: 2 | CT12: =SUM(BO12:CS12)/COUNT(BO$9:CS$9) -> 0 | CU12: =SUM(BP12:CR12)/COUNT(BP$40:CR$40) -> 0 | CV12: =SUM($Y12:$BC12) -> 0 | CW12: 0 | CX12: =SUMIF(BO12:CS12,"<0",BO12:CS12) -> 0 | CY12: =SUMIF(BO12:CS12,">0",BO12:CS12) -> 0 | DN12: 2 | DO12: Sun | DT12: 2 | DU12: =Y12+BO12 -> 0 | DV12: =Z12+BP12 -> 0 | DW12: =AA12+BQ12 -> 0 | DX12: =AB12+BR12 -> 0 | DY12: =AC12+BS12 -> 0 | DZ12: =AD12+BT12 -> 0 | EA12: =AE12+BU12 -> 0 | EB12: =AF12+BV12 -> 0 | ... EY12: =BC12+CS12 -> 0 | FC12: 2 | FD12: =FD11+IF(BO12<0,BO12,BO12/(StorEff/100)) -> #DIV/0! | FE12: =FE11+IF(BP12<0,BP12,BP12/(StorEff/100)) -> #DIV/0! | FF12: =FF11+IF(BQ12<0,BQ12,BQ12/(StorEff/100)) -> #DIV/0! | FG12: =FG11+IF(BR12<0,BR12,BR12/(StorEff/100)) -> #DIV/0! | FH12: =FH11+IF(BS12<0,BS12,BS12/(StorEff/100)) -> #DIV/0! | FI12: =FI11+IF(BT12<0,BT12,BT12/(StorEff/100)) -> #DIV/0! | FJ12: =FJ11+IF(BU12<0,BU12,BU12/(StorEff/100)) -> #DIV/0! | FK12: =FK11+IF(BV12<0,BV12,BV12/(StorEff/100)) -> #DIV/0! | ... GH12: =GH11+IF(CS12<0,CS12,CS12/(StorEff/100)) -> #DIV/0!
C13: 3 | D13: =$BD13 -> 0 | E13: =$BD44 -> 0 | F13: =$BD75 -> 0 | G13: =$BD106 -> 0 | H13: =$BD137 -> 0 | I13: =$BD168 -> 0 | J13: =$BD199 -> 0 | K13: =$BD230 -> 0 | L13: =$BD261 -> 0 | M13: =$BD292 -> 0 | N13: =$BD323 -> 0 | O13: =$BD354 -> 0 | X13: 3 | BD13: =SUM(Y13:BC13)/COUNT(Y$9:BC$9) -> 0 | BE13: =SUM(Z13:BB13)/COUNT(Z$40:BB$40) -> 0 | BF13: =SUM($Y13:$BC13) -> 0 | BG13: 0 | BH13: =IFERROR(SUM(Y13:BC13)/COUNT(Y13:BC13),0) -> 0 | BI13: 0 | BN13: 3 | CT13: =SUM(BO13:CS13)/COUNT(BO$9:CS$9) -> 0 | CU13: =SUM(BP13:CR13)/COUNT(BP$40:CR$40) -> 0 | CV13: =SUM($Y13:$BC13) -> 0 | CW13: 0 | CX13: =SUMIF(BO13:CS13,"<0",BO13:CS13) -> 0 | CY13: =SUMIF(BO13:CS13,">0",BO13:CS13) -> 0 | DN13: 3 | DO13: Mon | DT13: 3 | DU13: =Y13+BO13 -> 0 | DV13: =Z13+BP13 -> 0 | DW13: =AA13+BQ13 -> 0 | DX13: =AB13+BR13 -> 0 | DY13: =AC13+BS13 -> 0 | DZ13: =AD13+BT13 -> 0 | EA13: =AE13+BU13 -> 0 | EB13: =AF13+BV13 -> 0 | ... EY13: =BC13+CS13 -> 0 | FC13: 3 | FD13: =FD12+IF(BO13<0,BO13,BO13/(StorEff/100)) -> #DIV/0! | FE13: =FE12+IF(BP13<0,BP13,BP13/(StorEff/100)) -> #DIV/0! | FF13: =FF12+IF(BQ13<0,BQ13,BQ13/(StorEff/100)) -> #DIV/0! | FG13: =FG12+IF(BR13<0,BR13,BR13/(StorEff/100)) -> #DIV/0! | FH13: =FH12+IF(BS13<0,BS13,BS13/(StorEff/100)) -> #DIV/0! | FI13: =FI12+IF(BT13<0,BT13,BT13/(StorEff/100)) -> #DIV/0! | FJ13: =FJ12+IF(BU13<0,BU13,BU13/(StorEff/100)) -> #DIV/0! | FK13: =FK12+IF(BV13<0,BV13,BV13/(StorEff/100)) -> #DIV/0! | ... GH13: =GH12+IF(CS13<0,CS13,CS13/(StorEff/100)) -> #DIV/0!
C14: 4 | D14: =$BD14 -> 0 | E14: =$BD45 -> 0 | F14: =$BD76 -> 0 | G14: =$BD107 -> 0 | H14: =$BD138 -> 0 | I14: =$BD169 -> 0 | J14: =$BD200 -> 0 | K14: =$BD231 -> 0 | L14: =$BD262 -> 0 | M14: =$BD293 -> 0 | N14: =$BD324 -> 0 | O14: =$BD355 -> 0 | V14: =IF(DA380>0,CONCATENATE("(",DA380,") Hours above Maximum Discharge Rate>>>"),"") | X14: 4 | BD14: =SUM(Y14:BC14)/COUNT(Y$9:BC$9) -> 0 | BE14: =SUM(Z14:BB14)/COUNT(Z$40:BB$40) -> 0 | BF14: =SUM($Y14:$BC14) -> 0 | BG14: 0 | BH14: =IFERROR(SUM(Y14:BC14)/COUNT(Y14:BC14),0) -> 0 | BI14: 0 | BN14: 4 | CT14: =SUM(BO14:CS14)/COUNT(BO$9:CS$9) -> 0 | CU14: =SUM(BP14:CR14)/COUNT(BP$40:CR$40) -> 0 | CV14: =SUM($Y14:$BC14) -> 0 | CW14: 0 | CX14: =SUMIF(BO14:CS14,"<0",BO14:CS14) -> 0 | CY14: =SUMIF(BO14:CS14,">0",BO14:CS14) -> 0 | DN14: 4 | DO14: Tues | DT14: 4 | DU14: =Y14+BO14 -> 0 | DV14: =Z14+BP14 -> 0 | DW14: =AA14+BQ14 -> 0 | DX14: =AB14+BR14 -> 0 | DY14: =AC14+BS14 -> 0 | DZ14: =AD14+BT14 -> 0 | EA14: =AE14+BU14 -> 0 | EB14: =AF14+BV14 -> 0 | ... EY14: =BC14+CS14 -> 0 | FC14: 4 | FD14: =FD13+IF(BO14<0,BO14,BO14/(StorEff/100)) -> #DIV/0! | FE14: =FE13+IF(BP14<0,BP14,BP14/(StorEff/100)) -> #DIV/0! | FF14: =FF13+IF(BQ14<0,BQ14,BQ14/(StorEff/100)) -> #DIV/0! | FG14: =FG13+IF(BR14<0,BR14,BR14/(StorEff/100)) -> #DIV/0! | FH14: =FH13+IF(BS14<0,BS14,BS14/(StorEff/100)) -> #DIV/0! | FI14: =FI13+IF(BT14<0,BT14,BT14/(StorEff/100)) -> #DIV/0! | FJ14: =FJ13+IF(BU14<0,BU14,BU14/(StorEff/100)) -> #DIV/0! | FK14: =FK13+IF(BV14<0,BV14,BV14/(StorEff/100)) -> #DIV/0! | ... GH14: =GH13+IF(CS14<0,CS14,CS14/(StorEff/100)) -> #DIV/0!
C15: 5 | D15: =$BD15 -> 0 | E15: =$BD46 -> 0 | F15: =$BD77 -> 0 | G15: =$BD108 -> 0 | H15: =$BD139 -> 0 | I15: =$BD170 -> 0 | J15: =$BD201 -> 0 | K15: =$BD232 -> 0 | L15: =$BD263 -> 0 | M15: =$BD294 -> 0 | N15: =$BD325 -> 0 | O15: =$BD356 -> 0 | X15: 5 | BD15: =SUM(Y15:BC15)/COUNT(Y$9:BC$9) -> 0 | BE15: =SUM(Z15:BB15)/COUNT(Z$40:BB$40) -> 0 | BF15: =SUM($Y15:$BC15) -> 0 | BG15: 0 | BH15: =IFERROR(SUM(Y15:BC15)/COUNT(Y15:BC15),0) -> 0 | BI15: 0 | BN15: 5 | CT15: =SUM(BO15:CS15)/COUNT(BO$9:CS$9) -> 0 | CU15: =SUM(BP15:CR15)/COUNT(BP$40:CR$40) -> 0 | CV15: =SUM($Y15:$BC15) -> 0 | CW15: 0 | CX15: =SUMIF(BO15:CS15,"<0",BO15:CS15) -> 0 | CY15: =SUMIF(BO15:CS15,">0",BO15:CS15) -> 0 | DN15: 5 | DO15: Wed | DT15: 5 | DU15: =Y15+BO15 -> 0 | DV15: =Z15+BP15 -> 0 | DW15: =AA15+BQ15 -> 0 | DX15: =AB15+BR15 -> 0 | DY15: =AC15+BS15 -> 0 | DZ15: =AD15+BT15 -> 0 | EA15: =AE15+BU15 -> 0 | EB15: =AF15+BV15 -> 0 | ... EY15: =BC15+CS15 -> 0 | FC15: 5 | FD15: =FD14+IF(BO15<0,BO15,BO15/(StorEff/100)) -> #DIV/0! | FE15: =FE14+IF(BP15<0,BP15,BP15/(StorEff/100)) -> #DIV/0! | FF15: =FF14+IF(BQ15<0,BQ15,BQ15/(StorEff/100)) -> #DIV/0! | FG15: =FG14+IF(BR15<0,BR15,BR15/(StorEff/100)) -> #DIV/0! | FH15: =FH14+IF(BS15<0,BS15,BS15/(StorEff/100)) -> #DIV/0! | FI15: =FI14+IF(BT15<0,BT15,BT15/(StorEff/100)) -> #DIV/0! | FJ15: =FJ14+IF(BU15<0,BU15,BU15/(StorEff/100)) -> #DIV/0! | FK15: =FK14+IF(BV15<0,BV15,BV15/(StorEff/100)) -> #DIV/0! | ... GH15: =GH14+IF(CS15<0,CS15,CS15/(StorEff/100)) -> #DIV/0!
C16: 6 | D16: =$BD16 -> 0 | E16: =$BD47 -> 0 | F16: =$BD78 -> 0 | G16: =$BD109 -> 0 | H16: =$BD140 -> 0 | I16: =$BD171 -> 0 | J16: =$BD202 -> 0 | K16: =$BD233 -> 0 | L16: =$BD264 -> 0 | M16: =$BD295 -> 0 | N16: =$BD326 -> 0 | O16: =$BD357 -> 0 | V16: =IF(DA381>0,CONCATENATE("(",DA381,") Hours below Maximum Charge Rate>>>"),"") | X16: 6 | BD16: =SUM(Y16:BC16)/COUNT(Y$9:BC$9) -> 0 | BE16: =SUM(Z16:BB16)/COUNT(Z$40:BB$40) -> 0 | BF16: =SUM($Y16:$BC16) -> 0 | BG16: 0 | BH16: =IFERROR(SUM(Y16:BC16)/COUNT(Y16:BC16),0) -> 0 | BI16: 0 | BN16: 6 | CT16: =SUM(BO16:CS16)/COUNT(BO$9:CS$9) -> 0 | CU16: =SUM(BP16:CR16)/COUNT(BP$40:CR$40) -> 0 | CV16: =SUM($Y16:$BC16) -> 0 | CW16: 0 | CX16: =SUMIF(BO16:CS16,"<0",BO16:CS16) -> 0 | CY16: =SUMIF(BO16:CS16,">0",BO16:CS16) -> 0 | DN16: 6 | DO16: Thur | DT16: 6 | DU16: =Y16+BO16 -> 0 | DV16: =Z16+BP16 -> 0 | DW16: =AA16+BQ16 -> 0 | DX16: =AB16+BR16 -> 0 | DY16: =AC16+BS16 -> 0 | DZ16: =AD16+BT16 -> 0 | EA16: =AE16+BU16 -> 0 | EB16: =AF16+BV16 -> 0 | ... EY16: =BC16+CS16 -> 0 | FC16: 6 | FD16: =FD15+IF(BO16<0,BO16,BO16/(StorEff/100)) -> #DIV/0! | FE16: =FE15+IF(BP16<0,BP16,BP16/(StorEff/100)) -> #DIV/0! | FF16: =FF15+IF(BQ16<0,BQ16,BQ16/(StorEff/100)) -> #DIV/0! | FG16: =FG15+IF(BR16<0,BR16,BR16/(StorEff/100)) -> #DIV/0! | FH16: =FH15+IF(BS16<0,BS16,BS16/(StorEff/100)) -> #DIV/0! | FI16: =FI15+IF(BT16<0,BT16,BT16/(StorEff/100)) -> #DIV/0! | FJ16: =FJ15+IF(BU16<0,BU16,BU16/(StorEff/100)) -> #DIV/0! | FK16: =FK15+IF(BV16<0,BV16,BV16/(StorEff/100)) -> #DIV/0! | ... GH16: =GH15+IF(CS16<0,CS16,CS16/(StorEff/100)) -> #DIV/0!
C17: 7 | D17: =$BD17 -> 0 | E17: =$BD48 -> 0 | F17: =$BD79 -> 0 | G17: =$BD110 -> 0 | H17: =$BD141 -> 0 | I17: =$BD172 -> 0 | J17: =$BD203 -> 0 | K17: =$BD234 -> 0 | L17: =$BD265 -> 0 | M17: =$BD296 -> 0 | N17: =$BD327 -> 0 | O17: =$BD358 -> 0 | X17: 7 | BD17: =SUM(Y17:BC17)/COUNT(Y$9:BC$9) -> 0 | BE17: =SUM(Z17:BB17)/COUNT(Z$40:BB$40) -> 0 | BF17: =SUM($Y17:$BC17) -> 0 | BG17: 0 | BH17: =IFERROR(SUM(Y17:BC17)/COUNT(Y17:BC17),0) -> 0 | BI17: 0 | BN17: 7 | CT17: =SUM(BO17:CS17)/COUNT(BO$9:CS$9) -> 0 | CU17: =SUM(BP17:CR17)/COUNT(BP$40:CR$40) -> 0 | CV17: =SUM($Y17:$BC17) -> 0 | CW17: 0 | CX17: =SUMIF(BO17:CS17,"<0",BO17:CS17) -> 0 | CY17: =SUMIF(BO17:CS17,">0",BO17:CS17) -> 0 | DN17: 7 | DO17: Fri | DT17: 7 | DU17: =Y17+BO17 -> 0 | DV17: =Z17+BP17 -> 0 | DW17: =AA17+BQ17 -> 0 | DX17: =AB17+BR17 -> 0 | DY17: =AC17+BS17 -> 0 | DZ17: =AD17+BT17 -> 0 | EA17: =AE17+BU17 -> 0 | EB17: =AF17+BV17 -> 0 | ... EY17: =BC17+CS17 -> 0 | FC17: 7 | FD17: =FD16+IF(BO17<0,BO17,BO17/(StorEff/100)) -> #DIV/0! | FE17: =FE16+IF(BP17<0,BP17,BP17/(StorEff/100)) -> #DIV/0! | FF17: =FF16+IF(BQ17<0,BQ17,BQ17/(StorEff/100)) -> #DIV/0! | FG17: =FG16+IF(BR17<0,BR17,BR17/(StorEff/100)) -> #DIV/0! | FH17: =FH16+IF(BS17<0,BS17,BS17/(StorEff/100)) -> #DIV/0! | FI17: =FI16+IF(BT17<0,BT17,BT17/(StorEff/100)) -> #DIV/0! | FJ17: =FJ16+IF(BU17<0,BU17,BU17/(StorEff/100)) -> #DIV/0! | FK17: =FK16+IF(BV17<0,BV17,BV17/(StorEff/100)) -> #DIV/0! | ... GH17: =GH16+IF(CS17<0,CS17,CS17/(StorEff/100)) -> #DIV/0!
C18: 8 | D18: =$BD18 -> 0 | E18: =$BD49 -> 0 | F18: =$BD80 -> 0 | G18: =$BD111 -> 0 | H18: =$BD142 -> 0 | I18: =$BD173 -> 0 | J18: =$BD204 -> 0 | K18: =$BD235 -> 0 | L18: =$BD266 -> 0 | M18: =$BD297 -> 0 | N18: =$BD328 -> 0 | O18: =$BD359 -> 0 | V18: =IF(EL6>0,CONCATENATE("(",EL6,") Hours with a Negative Net Delivery>>>"),"") | X18: 8 | BD18: =SUM(Y18:BC18)/COUNT(Y$9:BC$9) -> 0 | BE18: =SUM(Z18:BB18)/COUNT(Z$40:BB$40) -> 0 | BF18: =(SUMIF($Y$10:$BC$10,"Sat",$Y18:$BC18)+SUMIF($Y$10:$BC$10,"Sun",$Y18:$BC18)) -> 0 | BG18: =(SUM($Y18:$BC18)-(SUMIF($Y$10:$BC$10,"Sat",$Y18:$BC18)+SUMIF($Y$10:$BC$10,"Sun",$Y18:$BC18))) -> 0 | BH18: =(SUMIF($Y$10:$BC$10,"Sat",$Y18:$BC18)+SUMIF($Y$10:$BC$10,"Sun",$Y18:$BC18))/(COUNTIF($Y$10:$BC$10,"Sat")+COUNTIF($Y$10:$BC$10,"Sun")) -> 0 | BI18: =(SUM($Y18:$BC18)-(SUMIF($Y$10:$BC$10,"Sat",$Y18:$BC18)+SUMIF($Y$10:$BC$10,"Sun",$Y18:$BC18)))/(COUNT(Y18:BC18)-(COUNTIF($Y$10:$BC$10,"Sat")+COUNTIF($Y$10:$BC$10,"Sun"))) -> 0 | BN18: 8 | CT18: =SUM(BO18:CS18)/COUNT(BO$9:CS$9) -> 0 | CU18: =SUM(BP18:CR18)/COUNT(BP$40:CR$40) -> 0 | CV18: =(SUMIF($Y$10:$BC$10,"Sat",$Y18:$BC18)+SUMIF($Y$10:$BC$10,"Sun",$Y18:$BC18)) -> 0 | CW18: =(SUM($Y18:$BC18)-(SUMIF($Y$10:$BC$10,"Sat",$Y18:$BC18)+SUMIF($Y$10:$BC$10,"Sun",$Y18:$BC18))) -> 0 | CX18: =SUMIF(BO18:CS18,"<0",BO18:CS18) -> 0 | CY18: =SUMIF(BO18:CS18,">0",BO18:CS18) -> 0 | DT18: 8 | DU18: =Y18+BO18 -> 0 | DV18: =Z18+BP18 -> 0 | DW18: =AA18+BQ18 -> 0 | DX18: =AB18+BR18 -> 0 | DY18: =AC18+BS18 -> 0 | DZ18: =AD18+BT18 -> 0 | EA18: =AE18+BU18 -> 0 | EB18: =AF18+BV18 -> 0 | ... EY18: =BC18+CS18 -> 0 | FC18: 8 | FD18: =FD17+IF(BO18<0,BO18,BO18/(StorEff/100)) -> #DIV/0! | FE18: =FE17+IF(BP18<0,BP18,BP18/(StorEff/100)) -> #DIV/0! | FF18: =FF17+IF(BQ18<0,BQ18,BQ18/(StorEff/100)) -> #DIV/0! | FG18: =FG17+IF(BR18<0,BR18,BR18/(StorEff/100)) -> #DIV/0! | FH18: =FH17+IF(BS18<0,BS18,BS18/(StorEff/100)) -> #DIV/0! | FI18: =FI17+IF(BT18<0,BT18,BT18/(StorEff/100)) -> #DIV/0! | FJ18: =FJ17+IF(BU18<0,BU18,BU18/(StorEff/100)) -> #DIV/0! | FK18: =FK17+IF(BV18<0,BV18,BV18/(StorEff/100)) -> #DIV/0! | ... GH18: =GH17+IF(CS18<0,CS18,CS18/(StorEff/100)) -> #DIV/0!
C19: 9 | D19: =$BD19 -> 0 | E19: =$BD50 -> 0 | F19: =$BD81 -> 0 | G19: =$BD112 -> 0 | H19: =$BD143 -> 0 | I19: =$BD174 -> 0 | J19: =$BD205 -> 0 | K19: =$BD236 -> 0 | L19: =$BD267 -> 0 | M19: =$BD298 -> 0 | N19: =$BD329 -> 0 | O19: =$BD360 -> 0 | X19: 9 | BD19: =SUM(Y19:BC19)/COUNT(Y$9:BC$9) -> 0 | BE19: =SUM(Z19:BB19)/COUNT(Z$40:BB$40) -> 0 | BF19: =(SUMIF($Y$10:$BC$10,"Sat",$Y19:$BC19)+SUMIF($Y$10:$BC$10,"Sun",$Y19:$BC19)) -> 0 | BG19: =(SUM($Y19:$BC19)-(SUMIF($Y$10:$BC$10,"Sat",$Y19:$BC19)+SUMIF($Y$10:$BC$10,"Sun",$Y19:$BC19))) -> 0 | BH19: =(SUMIF($Y$10:$BC$10,"Sat",$Y19:$BC19)+SUMIF($Y$10:$BC$10,"Sun",$Y19:$BC19))/(COUNTIF($Y$10:$BC$10,"Sat")+COUNTIF($Y$10:$BC$10,"Sun")) -> 0 | BI19: =(SUM($Y19:$BC19)-(SUMIF($Y$10:$BC$10,"Sat",$Y19:$BC19)+SUMIF($Y$10:$BC$10,"Sun",$Y19:$BC19)))/(COUNT(Y19:BC19)-(COUNTIF($Y$10:$BC$10,"Sat")+COUNTIF($Y$10:$BC$10,"Sun"))) -> 0 | BN19: 9 | CT19: =SUM(BO19:CS19)/COUNT(BO$9:CS$9) -> 0 | CU19: =SUM(BP19:CR19)/COUNT(BP$40:CR$40) -> 0 | CV19: =(SUMIF($Y$10:$BC$10,"Sat",$Y19:$BC19)+SUMIF($Y$10:$BC$10,"Sun",$Y19:$BC19)) -> 0 | CW19: =(SUM($Y19:$BC19)-(SUMIF($Y$10:$BC$10,"Sat",$Y19:$BC19)+SUMIF($Y$10:$BC$10,"Sun",$Y19:$BC19))) -> 0 | CX19: =SUMIF(BO19:CS19,"<0",BO19:CS19) -> 0 | CY19: =SUMIF(BO19:CS19,">0",BO19:CS19) -> 0 | DT19: 9 | DU19: =Y19+BO19 -> 0 | DV19: =Z19+BP19 -> 0 | DW19: =AA19+BQ19 -> 0 | DX19: =AB19+BR19 -> 0 | DY19: =AC19+BS19 -> 0 | DZ19: =AD19+BT19 -> 0 | EA19: =AE19+BU19 -> 0 | EB19: =AF19+BV19 -> 0 | ... EY19: =BC19+CS19 -> 0 | FC19: 9 | FD19: =FD18+IF(BO19<0,BO19,BO19/(StorEff/100)) -> #DIV/0! | FE19: =FE18+IF(BP19<0,BP19,BP19/(StorEff/100)) -> #DIV/0! | FF19: =FF18+IF(BQ19<0,BQ19,BQ19/(StorEff/100)) -> #DIV/0! | FG19: =FG18+IF(BR19<0,BR19,BR19/(StorEff/100)) -> #DIV/0! | FH19: =FH18+IF(BS19<0,BS19,BS19/(StorEff/100)) -> #DIV/0! | FI19: =FI18+IF(BT19<0,BT19,BT19/(StorEff/100)) -> #DIV/0! | FJ19: =FJ18+IF(BU19<0,BU19,BU19/(StorEff/100)) -> #DIV/0! | FK19: =FK18+IF(BV19<0,BV19,BV19/(StorEff/100)) -> #DIV/0! | ... GH19: =GH18+IF(CS19<0,CS19,CS19/(StorEff/100)) -> #DIV/0!
C20: 10 | D20: =$BD20 -> 0 | E20: =$BD51 -> 0 | F20: =$BD82 -> 0 | G20: =$BD113 -> 0 | H20: =$BD144 -> 0 | I20: =$BD175 -> 0 | J20: =$BD206 -> 0 | K20: =$BD237 -> 0 | L20: =$BD268 -> 0 | M20: =$BD299 -> 0 | N20: =$BD330 -> 0 | O20: =$BD361 -> 0 | X20: 10 | BD20: =SUM(Y20:BC20)/COUNT(Y$9:BC$9) -> 0 | BE20: =SUM(Z20:BB20)/COUNT(Z$40:BB$40) -> 0 | BF20: =(SUMIF($Y$10:$BC$10,"Sat",$Y20:$BC20)+SUMIF($Y$10:$BC$10,"Sun",$Y20:$BC20)) -> 0 | BG20: =(SUM($Y20:$BC20)-(SUMIF($Y$10:$BC$10,"Sat",$Y20:$BC20)+SUMIF($Y$10:$BC$10,"Sun",$Y20:$BC20))) -> 0 | BH20: =(SUMIF($Y$10:$BC$10,"Sat",$Y20:$BC20)+SUMIF($Y$10:$BC$10,"Sun",$Y20:$BC20))/(COUNTIF($Y$10:$BC$10,"Sat")+COUNTIF($Y$10:$BC$10,"Sun")) -> 0 | BI20: =(SUM($Y20:$BC20)-(SUMIF($Y$10:$BC$10,"Sat",$Y20:$BC20)+SUMIF($Y$10:$BC$10,"Sun",$Y20:$BC20)))/(COUNT(Y20:BC20)-(COUNTIF($Y$10:$BC$10,"Sat")+COUNTIF($Y$10:$BC$10,"Sun"))) -> 0 | BN20: 10 | CT20: =SUM(BO20:CS20)/COUNT(BO$9:CS$9) -> 0 | CU20: =SUM(BP20:CR20)/COUNT(BP$40:CR$40) -> 0 | CV20: =(SUMIF($Y$10:$BC$10,"Sat",$Y20:$BC20)+SUMIF($Y$10:$BC$10,"Sun",$Y20:$BC20)) -> 0 | CW20: =(SUM($Y20:$BC20)-(SUMIF($Y$10:$BC$10,"Sat",$Y20:$BC20)+SUMIF($Y$10:$BC$10,"Sun",$Y20:$BC20))) -> 0 | CX20: =SUMIF(BO20:CS20,"<0",BO20:CS20) -> 0 | CY20: =SUMIF(BO20:CS20,">0",BO20:CS20) -> 0 | DT20: 10 | DU20: =Y20+BO20 -> 0 | DV20: =Z20+BP20 -> 0 | DW20: =AA20+BQ20 -> 0 | DX20: =AB20+BR20 -> 0 | DY20: =AC20+BS20 -> 0 | DZ20: =AD20+BT20 -> 0 | EA20: =AE20+BU20 -> 0 | EB20: =AF20+BV20 -> 0 | ... EY20: =BC20+CS20 -> 0 | FC20: 10 | FD20: =FD19+IF(BO20<0,BO20,BO20/(StorEff/100)) -> #DIV/0! | FE20: =FE19+IF(BP20<0,BP20,BP20/(StorEff/100)) -> #DIV/0! | FF20: =FF19+IF(BQ20<0,BQ20,BQ20/(StorEff/100)) -> #DIV/0! | FG20: =FG19+IF(BR20<0,BR20,BR20/(StorEff/100)) -> #DIV/0! | FH20: =FH19+IF(BS20<0,BS20,BS20/(StorEff/100)) -> #DIV/0! | FI20: =FI19+IF(BT20<0,BT20,BT20/(StorEff/100)) -> #DIV/0! | FJ20: =FJ19+IF(BU20<0,BU20,BU20/(StorEff/100)) -> #DIV/0! | FK20: =FK19+IF(BV20<0,BV20,BV20/(StorEff/100)) -> #DIV/0! | ... GH20: =GH19+IF(CS20<0,CS20,CS20/(StorEff/100)) -> #DIV/0!
C21: 11 | D21: =$BD21 -> 0 | E21: =$BD52 -> 0 | F21: =$BD83 -> 0 | G21: =$BD114 -> 0 | H21: =$BD145 -> 0 | I21: =$BD176 -> 0 | J21: =$BD207 -> 0 | K21: =$BD238 -> 0 | L21: =$BD269 -> 0 | M21: =$BD300 -> 0 | N21: =$BD331 -> 0 | O21: =$BD362 -> 0 | X21: 11 | BD21: =SUM(Y21:BC21)/COUNT(Y$9:BC$9) -> 0 | BE21: =SUM(Z21:BB21)/COUNT(Z$40:BB$40) -> 0 | BF21: =(SUMIF($Y$10:$BC$10,"Sat",$Y21:$BC21)+SUMIF($Y$10:$BC$10,"Sun",$Y21:$BC21)) -> 0 | BG21: =(SUM($Y21:$BC21)-(SUMIF($Y$10:$BC$10,"Sat",$Y21:$BC21)+SUMIF($Y$10:$BC$10,"Sun",$Y21:$BC21))) -> 0 | BH21: =(SUMIF($Y$10:$BC$10,"Sat",$Y21:$BC21)+SUMIF($Y$10:$BC$10,"Sun",$Y21:$BC21))/(COUNTIF($Y$10:$BC$10,"Sat")+COUNTIF($Y$10:$BC$10,"Sun")) -> 0 | BI21: =(SUM($Y21:$BC21)-(SUMIF($Y$10:$BC$10,"Sat",$Y21:$BC21)+SUMIF($Y$10:$BC$10,"Sun",$Y21:$BC21)))/(COUNT(Y21:BC21)-(COUNTIF($Y$10:$BC$10,"Sat")+COUNTIF($Y$10:$BC$10,"Sun"))) -> 0 | BN21: 11 | CT21: =SUM(BO21:CS21)/COUNT(BO$9:CS$9) -> 0 | CU21: =SUM(BP21:CR21)/COUNT(BP$40:CR$40) -> 0 | CV21: =(SUMIF($Y$10:$BC$10,"Sat",$Y21:$BC21)+SUMIF($Y$10:$BC$10,"Sun",$Y21:$BC21)) -> 0 | CW21: =(SUM($Y21:$BC21)-(SUMIF($Y$10:$BC$10,"Sat",$Y21:$BC21)+SUMIF($Y$10:$BC$10,"Sun",$Y21:$BC21))) -> 0 | CX21: =SUMIF(BO21:CS21,"<0",BO21:CS21) -> 0 | CY21: =SUMIF(BO21:CS21,">0",BO21:CS21) -> 0 | DT21: 11 | DU21: =Y21+BO21 -> 0 | DV21: =Z21+BP21 -> 0 | DW21: =AA21+BQ21 -> 0 | DX21: =AB21+BR21 -> 0 | DY21: =AC21+BS21 -> 0 | DZ21: =AD21+BT21 -> 0 | EA21: =AE21+BU21 -> 0 | EB21: =AF21+BV21 -> 0 | ... EY21: =BC21+CS21 -> 0 | FC21: 11 | FD21: =FD20+IF(BO21<0,BO21,BO21/(StorEff/100)) -> #DIV/0! | FE21: =FE20+IF(BP21<0,BP21,BP21/(StorEff/100)) -> #DIV/0! | FF21: =FF20+IF(BQ21<0,BQ21,BQ21/(StorEff/100)) -> #DIV/0! | FG21: =FG20+IF(BR21<0,BR21,BR21/(StorEff/100)) -> #DIV/0! | FH21: =FH20+IF(BS21<0,BS21,BS21/(StorEff/100)) -> #DIV/0! | FI21: =FI20+IF(BT21<0,BT21,BT21/(StorEff/100)) -> #DIV/0! | FJ21: =FJ20+IF(BU21<0,BU21,BU21/(StorEff/100)) -> #DIV/0! | FK21: =FK20+IF(BV21<0,BV21,BV21/(StorEff/100)) -> #DIV/0! | ... GH21: =GH20+IF(CS21<0,CS21,CS21/(StorEff/100)) -> #DIV/0!
C22: 12 | D22: =$BD22 -> 0 | E22: =$BD53 -> 0 | F22: =$BD84 -> 0 | G22: =$BD115 -> 0 | H22: =$BD146 -> 0 | I22: =$BD177 -> 0 | J22: =$BD208 -> 0 | K22: =$BD239 -> 0 | L22: =$BD270 -> 0 | M22: =$BD301 -> 0 | N22: =$BD332 -> 0 | O22: =$BD363 -> 0 | X22: 12 | BD22: =SUM(Y22:BC22)/COUNT(Y$9:BC$9) -> 0 | BE22: =SUM(Z22:BB22)/COUNT(Z$40:BB$40) -> 0 | BF22: =(SUMIF($Y$10:$BC$10,"Sat",$Y22:$BC22)+SUMIF($Y$10:$BC$10,"Sun",$Y22:$BC22)) -> 0 | BG22: =(SUM($Y22:$BC22)-(SUMIF($Y$10:$BC$10,"Sat",$Y22:$BC22)+SUMIF($Y$10:$BC$10,"Sun",$Y22:$BC22))) -> 0 | BH22: =(SUMIF($Y$10:$BC$10,"Sat",$Y22:$BC22)+SUMIF($Y$10:$BC$10,"Sun",$Y22:$BC22))/(COUNTIF($Y$10:$BC$10,"Sat")+COUNTIF($Y$10:$BC$10,"Sun")) -> 0 | BI22: =(SUM($Y22:$BC22)-(SUMIF($Y$10:$BC$10,"Sat",$Y22:$BC22)+SUMIF($Y$10:$BC$10,"Sun",$Y22:$BC22)))/(COUNT(Y22:BC22)-(COUNTIF($Y$10:$BC$10,"Sat")+COUNTIF($Y$10:$BC$10,"Sun"))) -> 0 | BN22: 12 | CT22: =SUM(BO22:CS22)/COUNT(BO$9:CS$9) -> 0 | CU22: =SUM(BP22:CR22)/COUNT(BP$40:CR$40) -> 0 | CV22: =(SUMIF($Y$10:$BC$10,"Sat",$Y22:$BC22)+SUMIF($Y$10:$BC$10,"Sun",$Y22:$BC22)) -> 0 | CW22: =(SUM($Y22:$BC22)-(SUMIF($Y$10:$BC$10,"Sat",$Y22:$BC22)+SUMIF($Y$10:$BC$10,"Sun",$Y22:$BC22))) -> 0 | CX22: =SUMIF(BO22:CS22,"<0",BO22:CS22) -> 0 | CY22: =SUMIF(BO22:CS22,">0",BO22:CS22) -> 0 | DT22: 12 | DU22: =Y22+BO22 -> 0 | DV22: =Z22+BP22 -> 0 | DW22: =AA22+BQ22 -> 0 | DX22: =AB22+BR22 -> 0 | DY22: =AC22+BS22 -> 0 | DZ22: =AD22+BT22 -> 0 | EA22: =AE22+BU22 -> 0 | EB22: =AF22+BV22 -> 0 | ... EY22: =BC22+CS22 -> 0 | FC22: 12 | FD22: =FD21+IF(BO22<0,BO22,BO22/(StorEff/100)) -> #DIV/0! | FE22: =FE21+IF(BP22<0,BP22,BP22/(StorEff/100)) -> #DIV/0! | FF22: =FF21+IF(BQ22<0,BQ22,BQ22/(StorEff/100)) -> #DIV/0! | FG22: =FG21+IF(BR22<0,BR22,BR22/(StorEff/100)) -> #DIV/0! | FH22: =FH21+IF(BS22<0,BS22,BS22/(StorEff/100)) -> #DIV/0! | FI22: =FI21+IF(BT22<0,BT22,BT22/(StorEff/100)) -> #DIV/0! | FJ22: =FJ21+IF(BU22<0,BU22,BU22/(StorEff/100)) -> #DIV/0! | FK22: =FK21+IF(BV22<0,BV22,BV22/(StorEff/100)) -> #DIV/0! | ... GH22: =GH21+IF(CS22<0,CS22,CS22/(StorEff/100)) -> #DIV/0!
C23: 13 | D23: =$BD23 -> 0 | E23: =$BD54 -> 0 | F23: =$BD85 -> 0 | G23: =$BD116 -> 0 | H23: =$BD147 -> 0 | I23: =$BD178 -> 0 | J23: =$BD209 -> 0 | K23: =$BD240 -> 0 | L23: =$BD271 -> 0 | M23: =$BD302 -> 0 | N23: =$BD333 -> 0 | O23: =$BD364 -> 0 | X23: 13 | BD23: =SUM(Y23:BC23)/COUNT(Y$9:BC$9) -> 0 | BE23: =SUM(Z23:BB23)/COUNT(Z$40:BB$40) -> 0 | BF23: =(SUMIF($Y$10:$BC$10,"Sat",$Y23:$BC23)+SUMIF($Y$10:$BC$10,"Sun",$Y23:$BC23)) -> 0 | BG23: =(SUM($Y23:$BC23)-(SUMIF($Y$10:$BC$10,"Sat",$Y23:$BC23)+SUMIF($Y$10:$BC$10,"Sun",$Y23:$BC23))) -> 0 | BH23: =(SUMIF($Y$10:$BC$10,"Sat",$Y23:$BC23)+SUMIF($Y$10:$BC$10,"Sun",$Y23:$BC23))/(COUNTIF($Y$10:$BC$10,"Sat")+COUNTIF($Y$10:$BC$10,"Sun")) -> 0 | BI23: =(SUM($Y23:$BC23)-(SUMIF($Y$10:$BC$10,"Sat",$Y23:$BC23)+SUMIF($Y$10:$BC$10,"Sun",$Y23:$BC23)))/(COUNT(Y23:BC23)-(COUNTIF($Y$10:$BC$10,"Sat")+COUNTIF($Y$10:$BC$10,"Sun"))) -> 0 | BN23: 13 | CT23: =SUM(BO23:CS23)/COUNT(BO$9:CS$9) -> 0 | CU23: =SUM(BP23:CR23)/COUNT(BP$40:CR$40) -> 0 | CV23: =(SUMIF($Y$10:$BC$10,"Sat",$Y23:$BC23)+SUMIF($Y$10:$BC$10,"Sun",$Y23:$BC23)) -> 0 | CW23: =(SUM($Y23:$BC23)-(SUMIF($Y$10:$BC$10,"Sat",$Y23:$BC23)+SUMIF($Y$10:$BC$10,"Sun",$Y23:$BC23))) -> 0 | CX23: =SUMIF(BO23:CS23,"<0",BO23:CS23) -> 0 | CY23: =SUMIF(BO23:CS23,">0",BO23:CS23) -> 0 | DT23: 13 | DU23: =Y23+BO23 -> 0 | DV23: =Z23+BP23 -> 0 | DW23: =AA23+BQ23 -> 0 | DX23: =AB23+BR23 -> 0 | DY23: =AC23+BS23 -> 0 | DZ23: =AD23+BT23 -> 0 | EA23: =AE23+BU23 -> 0 | EB23: =AF23+BV23 -> 0 | ... EY23: =BC23+CS23 -> 0 | FC23: 13 | FD23: =FD22+IF(BO23<0,BO23,BO23/(StorEff/100)) -> #DIV/0! | FE23: =FE22+IF(BP23<0,BP23,BP23/(StorEff/100)) -> #DIV/0! | FF23: =FF22+IF(BQ23<0,BQ23,BQ23/(StorEff/100)) -> #DIV/0! | FG23: =FG22+IF(BR23<0,BR23,BR23/(StorEff/100)) -> #DIV/0! | FH23: =FH22+IF(BS23<0,BS23,BS23/(StorEff/100)) -> #DIV/0! | FI23: =FI22+IF(BT23<0,BT23,BT23/(StorEff/100)) -> #DIV/0! | FJ23: =FJ22+IF(BU23<0,BU23,BU23/(StorEff/100)) -> #DIV/0! | FK23: =FK22+IF(BV23<0,BV23,BV23/(StorEff/100)) -> #DIV/0! | ... GH23: =GH22+IF(CS23<0,CS23,CS23/(StorEff/100)) -> #DIV/0!
