Workbook
Name AnnCO: 'Part VIII'!$I$22
Name AnnCO2Eq: 'Part VIII'!$I$25
Name AnnNOX: 'Part VIII'!$I$21
Name AnnOffPkMWh: 'Part V (with StorageCT)'!$I$248
Name AnnPHMWh: 'Part V (with StorageCT)'!$E$248
Name AnnPkMWh: 'Part V (with StorageCT)'!$G$248
Name AnnPM: 'Part VIII'!$I$23
Name AnnSO2: 'Part VIII'!$I$20
Name AnnTotGen: 'Part V (with StorageCT)'!$K$247
Name AnnTotGen: 'Part V'!$I$179
Name AnnTotGen_woStrg: 'Part V (with Storage)'!$I$226
Name AnnTotMWH: 'Part V (with Storage)'!$I$227
Name AnnTotMWH: 'Part V (with StorageCT)'!$K$248
Name AvCO: 'Part VIII'!$F$22
Name AvCO2Eq: 'Part VIII'!$F$25
Name AvNOX: 'Part VIII'!$F$21
Name AvPM: 'Part VIII'!$F$23
Name AvSOX: 'Part VIII'!$F$20
Name BeginCCP: 'Part VII'!$I$26
Name BidderName: 'Part II'!$F$34
Name BidderRep: 'Part II'!$F$37
Name BidderRepTitle: 'Part II'!$F$40
Name BidNum1: 'Part III'!$E$22
Name BidNum2: 'Part III'!$E$23
Name BidNum3: 'Part III'!$E$24
Name Biennial_DR: 'Part V'!$N$179
Name Biennial_DR_wStrg: 'Part V (with Storage)'!$N$227
Name BuyEnt: 'Part IV'!$J$27
Name CalcCF: 'Part V (with Storage)'!#REF!
Name CalcCF: 'Part V (with StorageCT)'!$M$248
Name CalcCF: 'Part V'!#REF!
Name CalcStorEff: 'Part V (with StorageCT)'!$O$249
Name CalcStorEff: 'Part V (with Storage)'!$K$228
Name CapGross: '[1]Part IV'!$H$16
Name CapNet: 'Part IV'!$J$20
Name CntMailAdd1: 'Part III'!$G$29
Name CntMailAdd2: 'Part III'!$G$30
Name CntMax: 'Part IV'!$J$21
Name December_AllHours: '[1]Part V-Firm Energy'!$D$446:$AH$469
Name DelEff: 'Part V (with Storage)'!#REF!
Name DelEff: 'Part V (with StorageCT)'!$O$248
Name EarlyEffDate: Tables!$E$15
Name ElectCSO: 'Part VII'!$I$22
Name EndCCP: 'Part VII'!#REF!
Name ener1: 'Part VII'!$K$34
Name EstCOD: 'Part IV'!$H$16
Name EvalCntrctDate: 'Part IV'!$J$18
Name FacTech: 'Part IV'!$E$11
Name FilePathName: 'Part I'!$C$108
Name GenCF: 'Part V (with StorageCT)'!$M$247
Name GenCF: 'Part V'!$K$179
Name GenCF_preStrg: 'Part V (with Storage)'!$K$226
Name IntCnPnt: 'Part IV'!$G$41
Name ISO_CSO: '[1]Part VII'!$I$14
Name LateEffDate: Tables!$E$18
Name LoadZone: 'Part IV'!$H$45
Name MaxMCA: Tables!$E$12
Name MinMCA: Tables!$E$9
Name MinPct: 'Part IV'!$J$33
Name MXChgRate: 'Part IV'!$J$60

Sheet Part I
B2: ="Version: " & Version -> Version: 09/04/2018
B3: Part I
F4: Guidelines and Instructions
B6: For Long Term Contract Proposals Under Long-Term Contracting Standard
B7: Appendix B - Section 1
B8: Certification, Project and Pricing Data (CPPD)
B53: Part I (continued)
F54: Guidelines and Instructions

Sheet Part II
B2: ="Version: " & Version -> Version: 09/04/2018
B3: Part II
B4: Proposal Certification and Authorization (Appendix B.1)
D31: Project Name | M31: =IF(F31="","<<< Required Information","") -> <<< Required Information
D32: (Eligible Facility)
D34: Bidder Name | M34: =IF(F34="","<<< Required Information","") -> <<< Required Information
D36: Bidder or Bidder's
D37: Representative | M37: =IF(F37="","<<< Required Information","") -> <<< Required Information
D39: Bidder Representative's
D40: Title | M40: =IF(F40="","<<< Required Information","") -> <<< Required Information
M42: =IF(I42="","<<< Date Required to be Inputted Electronically","") -> <<< Date Required to be Inputted Electronically
D43: Signature of Bidder or Authorized | I43: Date Signed
D44: Representative

Sheet Part III
B2: ="Version: " & Version -> Version: 09/04/2018
B3: Part III (a)
B4: Bid and Contact Information
B6: ='Part I'!$B$6 -> For Long Term Contract Proposals Under Long-Term Contracting Standard
C9: Bidder Name | G9: =IF(BidderName="","",BidderName) | N9: =IF(G9="","<<< Enter Information in Part II","") -> <<< Enter Information in Part II
C11: Project Name | G11: =IF(ProjName="","",ProjName) | N11: =IF(G11="","<<<Enter Information in Part II","") -> <<<Enter Information in Part II
C13: Resource Type: | N13: =IF(G13="","<<< Required Information","") -> <<< Required Information
C15: Status of Project: | N15: =IF(G15="","<<< Required Information","") -> <<< Required Information
C16: If proposal reflects a proposed modification to an existing project, Part IV should only provide information for the incremental capacity offered.
C18: Bid Structure
G20: Energy Pricing | I20: Pricing
E21: Bid # | G21: Bid Form | I21: Option | K21: Term (years)
E22: 1 | G22: Part VI (a) | N22: =IF(OR(I22="",K22=""),"<<< Required Information","") -> <<< Required Information
E23: 2 | G23: Part VI (b) | N23: =IF(OR(I23="",K23=""),"<<< Required Information","") -> <<< Required Information
E24: 3 | G24: Part VI (c) | N24: =IF(OR(I24="",K24=""),"<<< Required Information","") -> <<< Required Information
C25: Use additional CPPD spreadsheet(s) if submitting more than three pricing proposals for this project, or offering different project size, technology type, production/delivery profile, in-service date , or delivery location. If submitting more then 3 proposals you may change the Bid #s [cells(E22:E24)].
C27: Contact Information For Project
C28: Bidder Name | G28: =IF(BidderName="","",BidderName) | N28: =IF(G28="","<<< Enter Information in Part II","") -> <<< Enter Information in Part II
C29: Mailing Address | N29: =IF(CntMailAdd1="","<<< Required Information","") -> <<< Required Information
C31: Courier Address (If Different)
C33: Primary Contact Information
C34: Name | N34: =IF(G34="","<<< Required Information","") -> <<< Required Information
C35: Telephone Number | N35: =IF(PrimCntPhone="","<<< Required Information","") -> <<< Required Information
C36: Fax Number | N36: =IF(PrimCntFax="","<<< Required Information","") -> <<< Required Information
C37: E-mail Address | N37: =IF(PrimCntEmail="","<<< Required Information","") -> <<< Required Information
C38: Secondary Contact Information
C39: Name
C40: Telephone Number
C41: Fax Number
C42: E-mail Address
B45: ="Version " & Version -> Version 09/04/2018
B46: Part III (b)
B47: Bid Overview and Bid Fee
C49: Bidder Name | G49: =IF(BidderName="","",BidderName)
C51: Bidder Representative | G51: =IF(BidderRep="","",BidderRep)
C53: Project Name | G53: =IF(ProjName="","",ProjName)
C55: For the Bid Fee Calculation to follow: Enter additional Bid Proposals below. Include the Nameplate Capacity and the CPPD File Location for each specific additional Bid Proposal.
C57: These Bid Proposals will be included on a Primary Bid Fee Summary? | K57: No | N57: =IF(K57="","<<< Required Information","")
C58: =IF(K57="Yes","Copy these bid proposals to the Projects Primary Bid Fee Summary.","")
C59: Bid Proposals | F59: Contract Amount (MW) | I59: CPPD (Excel) Filename
C60: =CONCATENATE("Bid ",E22) -> Bid 1 | G60: =CntMax -> 0 | I60: =MID(CELL("filename",$A$1),SEARCH("[",CELL("filename",$A$1))+1, SEARCH("]",CELL("filename",$A$1))-SEARCH("[",CELL("filename",$A$1))-6) -> CPPD 2018 RI RFP v2
C61: =IF(term2<>"",CONCATENATE("Bid ",E23),"") | G61: =IF(term2<>"",CntMax,"") | I61: =IF(term2<>"",MID(CELL("filename",$A$1),SEARCH("[",CELL("filename",$A$1))+1, SEARCH("]",CELL("filename",$A$1))-SEARCH("[",CELL("filename",$A$1))-6),"")
C62: =IF(term3<>"",CONCATENATE("Bid ",E24),"") | G62: =IF(term3<>"",CntMax,"") | I62: =IF(term3<>"",MID(CELL("filename",$A$1),SEARCH("[",CELL("filename",$A$1))+1, SEARCH("]",CELL("filename",$A$1))-SEARCH("[",CELL("filename",$A$1))-6),"")
N63: =IF(C63="","<<< Enter Additional Bid Proposals Starting Here. If copying/pasting use PASTE VALUES only.","") -> <<< Enter Additional Bid Proposals Starting Here. If copying/pasting use PASTE VALUES only.
N64: =IF(AND(C64="",IF(((ROW(N64)-63)-COUNTIF(N$63:N63,""))=0,TRUE,FALSE)),"<<< Enter Additional Bid Proposals Starting Here. If copying/pasting use PASTE VALUES only.","")
N65: =IF(AND(C65="",IF(((ROW(N65)-63)-COUNTIF(N$63:N64,""))=0,TRUE,FALSE)),"<<< Enter Additional Bid Proposals Starting Here. If copying/pasting use PASTE VALUES only.","")
N66: =IF(AND(C66="",IF(((ROW(N66)-63)-COUNTIF(N$63:N65,""))=0,TRUE,FALSE)),"<<< Enter Additional Bid Proposals Starting Here. If copying/pasting use PASTE VALUES only.","")
N67: =IF(AND(C67="",IF(((ROW(N67)-63)-COUNTIF(N$63:N66,""))=0,TRUE,FALSE)),"<<< Enter Additional Bid Proposals Starting Here. If copying/pasting use PASTE VALUES only.","")
N68: =IF(AND(C68="",IF(((ROW(N68)-63)-COUNTIF(N$63:N67,""))=0,TRUE,FALSE)),"<<< Enter Additional Bid Proposals Starting Here. If copying/pasting use PASTE VALUES only.","")
N69: =IF(AND(C69="",IF(((ROW(N69)-63)-COUNTIF(N$63:N68,""))=0,TRUE,FALSE)),"<<< Enter Additional Bid Proposals Starting Here. If copying/pasting use PASTE VALUES only.","")
N70: =IF(AND(C70="",IF(((ROW(N70)-63)-COUNTIF(N$63:N69,""))=0,TRUE,FALSE)),"<<< Enter Additional Bid Proposals Starting Here. If copying/pasting use PASTE VALUES only.","")
N71: =IF(AND(C71="",IF(((ROW(N71)-63)-COUNTIF(N$63:N70,""))=0,TRUE,FALSE)),"<<< Enter Additional Bid Proposals Starting Here. If copying/pasting use PASTE VALUES only.","")
C73: What is the Projects maximum Contract Amount ? | K73: =MAX(G60:G71) -> 0
C74: Based on all listed Bid Proposals in the table above.
C76: Do the listed Bid Proposals include a Conforming Proposal? | K76: =IF(COUNTIFS(G60:G71,">=20",G60:G71,"<=200")>0,"Yes","No") -> No | N76: =IF(K76="No","<<<Each eligible bidder is required to submit at least one Conforming Proposal.","") -> <<<Each eligible bidder is required to submit at least one Conforming Proposal.
C77: (20 MW ≤ Conforming Proposal ≤ 200MW) Obligation, per Section 2.2.2.5 of the RFP.
C79: Bid Fee Instructions
C81: Initial Proposal Bid Fee: | K81: =IF(K73<=20,25000,IF(K73>95,100000,(25000+(K73-20)*1000))) -> 25000
C83: Additional Pricing Offers (at $25,000/bid): | H83: =COUNT(G60:G71)-1 -> 0 | I83: Additional Bids | K83: =(COUNT(G60:G71)-1)*25000 -> 0
C86: Total Bid Fee Payment Amount: | K86: =IF(K57="Yes","Will be included on Primary Bid Fee Summary",K81+K83) -> 25000

Sheet Part IV
B2: ="Version: " & Version -> Version: 09/04/2018
B3: Part IV (a)
B4: Eligible Facility Summary Information
B6: ='Part I'!$B$6 -> For Long Term Contract Proposals Under Long-Term Contracting Standard
C9: Project Name | E9: =IF(ProjName<>"",ProjName,"") | M9: =IF(E9="","<<< Enter Information in Part III","") -> <<< Enter Information in Part III
C11: Resource Type | E11: =IF(ResType="","",ResType) | M11: =IF(E11="","<<< Enter Information in Part III","") -> <<< Enter Information in Part III
C13: Storage Included | M13: =IF(E13="","<<< Required Information","") -> <<< Required Information
D14: =IF(StorIncl="Yes","Projects Paired and Co-Located with Energy Storage must fill out the 'Part V (with Storage)' tab, for Generation and Storage charging/discharging schedules. Also, complete Section Part IV (b) below.","")
C15: =IF(ProjStatus=Tables!$B$21,"For a Proposed Expansion of an Existing Project, capacities and quantities should be limited to the offered expansion.","")
C16: Guaranteed Commercial Operation Date | M16: =IF(H16="","<<< Required Information","") -> <<< Required Information
C17: (for new facility or proposed modification)
C18: For evaluation purposes, the term is assumed to start on the first day of the first full calendar month beginning on or after the proposed Effective Date, as shown to the right: | J18: =MAX(TestStDate,IF(DAY(TestStDate)>1,DATE(YEAR(TestStDate),MONTH(TestStDate)+1,1),TestStDate)) -> 43831
C20: Net Generating Capability of Eligible Facility (Nameplate Capacity) | K20: MW | M20: =IF(J20="","<<< Required Information","") -> <<< Required Information
C21: Contract Maximum Amount | K21: MWh/hr | M21: =IF(J21="","<<< Required Information","") -> <<< Required Information
C22: =IF(StorIncl="Yes","Capacity Factor of Generating Project (from Part V (with Storage))","Capacity Factor of Generating Project (from Part V)") -> Capacity Factor of Generating Project (from Part V) | J22: =IF(AND(ISERROR(GenCF),ISERROR(GenCF_preStrg)),"",IF(StorIncl="Yes",GenCF_preStrg*100,GenCF*100)) -> 0 | K22: % | M22: =IF(AND(J22=0,J21<>""),IF(StorIncl="Yes","<<< The Capacity Factor will be calculated based on the Production Data provided in Part V(with Storage).","<<< The Capacity Factor will be calculated based on the Production Data provided in Part V."),"")
C24: Biennial Delivery Requirement: | J24: =IF(StorIncl="Yes",Biennial_DR_wStrg,Biennial_DR) -> 0 | K24: MWh
C25: Obligation, per Section 4.9 of the PPA, for any two consecutive Contract Years.
C27: Buyers' Percentage Entitlement of Project Output | J27: =IF(AND(CapNet<>"",CntMax<>""),(CntMax/CapNet)*100,"") | K27: % | M27: =IF(AND(J27<>"",J27<>100),IF(StorIncl="Yes","<<< For Part V(with Storage) enter production data for only the Buyers' Entitlement of the Eligible Facility.","<<< For Part V enter production data for only the Buyers' Entitlement of the Eligible Facility."),"")
C28: Percent relative to entire Project, not Seller's entitlement if part owner.
C30: Is the Buyer's Percentage Entitlement scalable downward in the event that acceptance of the full amount offered would result in exceedance of the target procurement amount?
M31: =IF(J31="","<<< Required Information","") -> <<< Required Information
C33: What is the minimum Buyer's Percentage Entitlement acceptable ? | K33: % | M33: =IF(AND(PctAdj<>"",J33=""),"<<< Required Information","")
C34: (for proposal with multiple resources, scale down is same % across all resources)
C37: Project Site/Location: | E37: Street | M37: =IF(F37="","<<< Required Information","") -> <<< Required Information
E38: City | M38: =IF(F38="","<<< Required Information","") -> <<< Required Information
E39: State/Prv | H39: Zip | M39: =IF(OR(F39="",I39=""),"<<< Required Information","") -> <<< Required Information
C41: Proposed Interconnection Point | M41: =IF(G41="","<<< Required Information","") -> <<< Required Information
C43: Pricing Node (ISO-NE PTF Node) | M43: =IF(G43="","<<< Required Information","") -> <<< Required Information
C45: ISO New England Load Zone for Proposed Pricing Node | M45: =IF(H45="","<<< Required Information","") -> <<< Required Information
B49: ="Version: " & Version -> Version: 09/04/2018
B50: Part IV (b)
B51: Energy Storage Facility Summary Information
B53: ='Part I'!$B$6 -> For Long Term Contract Proposals Under Long-Term Contracting Standard
C55: Energy Storage Technology: | M55: =IF(AND(StorIncl="Yes",F55=""),"<<< Required Information","")
C57: Paired and Co-Located Energy Storage Specifications
C58: Storage Capacity | K58: MWh | M58: =IF(AND(StorIncl="Yes",J58=""),"<<< Required Information","")
C59: Maximum Discharge Rate | K59: MW | M59: =IF(AND(StorIncl="Yes",J59=""),"<<< Required Information","")
C60: Maximum Charge Rate (enter as a negative value) | K60: MW | M60: =IF(AND(StorIncl="Yes",J60=""),"<<< Required Information","")
C61: Output/Input Cycle Efficiency | K61: % | M61: =IF(AND(StorIncl="Yes",J61=""),"<<< Required Information","")
C62: Calculated Storage Efficiency (from Part V (with Storage)): | J62: =IF(OR(StorIncl="No",StorIncl=""),"",CalcStorEff*100) | K62: %
C64: The Energy Storage schedule provided in Part V (with Storage) will be analyzed to verify compliance with the maximum charging rate, maximum discharging rate, potential for exceeding storage capacity,and combined hourly scheduled negative net deliveries.

Sheet Part V
B2: ="Version: " & Version -> Version: 09/04/2018 | W2: ="Version " & Version -> Version 09/04/2018
B3: Part V (a) | W3: Part V (a) (i)
B4: ="Operational Information - Production Data of "& ResType -> Operational Information - Production Data of | W4: Representative Deliveries in Representative Year
C5: Project Name | E5: =IF(ProjName="","Auto-Filled",ProjName) -> Auto-Filled | L5: Data Entry: | R5: =IF(M5="","<<< Required Information",IF(M5="hourly profile"," Enter Hourly Profile in Part V(a)(i) >>>>>>","")) -> <<< Required Information
AD6: Enter Representative Year: | AE6: 2012
C7: If you will be inserting an Hourly Profile, due so to the right. If you are not providing an Hourly Profile, then use this table by inserting expected generation for 12 Months by 24 Hours. Table Part V (b) below will be populated automatically. | W7: JANUARY | AA7: =IF(OR(ResType="Land Based Wind",ResType="Off Shore Wind",ResType="Solar"),"Solar and Wind units are required to provide an hourly profile specific to 2012.","")
B8: EXPECTED HOURLY GENERATION in MW - 12 Months by 24 Hours For Representative Day For Each Month
X9: HE | Y9: 1 | Z9: 2 | AA9: 3 | AB9: 4 | AC9: 5 | AD9: 6 | AE9: 7 | AF9: 8 | AG9: 9 | AH9: 10 | AI9: 11 | AJ9: 12 | AK9: 13 | AL9: 14 | AM9: 15 | AN9: 16 | AO9: 17 | AP9: 18 | AQ9: 19 | AR9: 20 | AS9: 21 | AT9: 22 | AU9: 23 | AV9: 24 | AW9: 25 | AX9: 26 | AY9: 27 | AZ9: 28 | BA9: 29 | BB9: 30 | BC9: 31 | BD9: Month | BF9: Off-Pk | BG9: On-Peak | BH9: Off-Pk | BI9: On-Peak | BX9: VLOOKUP
C10: HE | D10: Jan | E10: Feb | F10: Mar | G10: Apr | H10: May | I10: Jun | J10: Jul | K10: Aug | L10: Sep | M10: Oct | N10: Nov | O10: Dec | S10: =COUNT(D11:O34) -> 0 | T10: Cells with Contents | Y10: =VLOOKUP(WEEKDAY(CONCATENATE("1","/",Y9,"/",$AE$6)),$BX$11:$BY$17,2,FALSE) -> Sat | Z10: =VLOOKUP(WEEKDAY(CONCATENATE("1","/",Z9,"/",$AE$6)),$BX$11:$BY$17,2,FALSE) -> Sun | AA10: =VLOOKUP(WEEKDAY(CONCATENATE("1","/",AA9,"/",$AE$6)),$BX$11:$BY$17,2,FALSE) -> Mon | AB10: =VLOOKUP(WEEKDAY(CONCATENATE("1","/",AB9,"/",$AE$6)),$BX$11:$BY$17,2,FALSE) -> Tues | AC10: =VLOOKUP(WEEKDAY(CONCATENATE("1","/",AC9,"/",$AE$6)),$BX$11:$BY$17,2,FALSE) -> Wed | AD10: =VLOOKUP(WEEKDAY(CONCATENATE("1","/",AD9,"/",$AE$6)),$BX$11:$BY$17,2,FALSE) -> Thur | AE10: =VLOOKUP(WEEKDAY(CONCATENATE("1","/",AE9,"/",$AE$6)),$BX$11:$BY$17,2,FALSE) -> Fri | AF10: =Y10 -> Sat | AG10: =Z10 -> Sun | AH10: =AA10 -> Mon | AI10: =AB10 -> Tues | AJ10: =AC10 -> Wed | AK10: =AD10 -> Thur | AL10: =AE10 -> Fri | AM10: =AF10 -> Sat | ... BC10: =AV10 -> Mon | BD10: Avg | BF10: MWh | BG10: MWh | BH10: Avg | BI10: Avg | BJ10: =COUNT(Y11:BC34,Y42:AZ65,Y73:BC96,Y104:BB127,Y135:BC158,Y166:BB189,Y197:BC220,Y228:BC251,Y259:BB282,Y290:BC313,Y321:BB344,Y352:BC375) -> 0 | BK10: Cells with Contents | BX10: Weekday | BY10: DayofWeek
C11: 1 | R11: =IF(AND(S10<288,M5="12 Months by 24 Hours"),"<<< Full Matrix is Required Information","") | X11: 1 | BD11: =IFERROR(AVERAGE(Y11:BC11),"") | BF11: =SUM($Y11:$BC11) -> 0 | BG11: 0 | BH11: =IFERROR(SUM(Y11:BC11)/COUNT(Y11:BC11),0) -> 0 | BI11: 0 | BX11: 1 | BY11: Sat
C12: 2 | V12: =IF(AND(BJ10<8760,M5="Hourly Profile"),"Full Hourly Matrix is Required Information>>>","") | X12: 2 | BD12: =IFERROR(AVERAGE(Y12:BC12),"") | BF12: =SUM($Y12:$BC12) -> 0 | BG12: 0 | BH12: =IFERROR(SUM(Y12:BC12)/COUNT(Y12:BC12),0) -> 0 | BI12: 0 | BX12: 2 | BY12: Sun
C13: 3 | X13: 3 | BD13: =IFERROR(AVERAGE(Y13:BC13),"") | BF13: =SUM($Y13:$BC13) -> 0 | BG13: 0 | BH13: =IFERROR(SUM(Y13:BC13)/COUNT(Y13:BC13),0) -> 0 | BI13: 0 | BX13: 3 | BY13: Mon
C14: 4 | X14: 4 | BD14: =IFERROR(AVERAGE(Y14:BC14),"") | BF14: =SUM($Y14:$BC14) -> 0 | BG14: 0 | BH14: =IFERROR(SUM(Y14:BC14)/COUNT(Y14:BC14),0) -> 0 | BI14: 0 | BX14: 4 | BY14: Tues
C15: 5 | X15: 5 | BD15: =IFERROR(AVERAGE(Y15:BC15),"") | BF15: =SUM($Y15:$BC15) -> 0 | BG15: 0 | BH15: =IFERROR(SUM(Y15:BC15)/COUNT(Y15:BC15),0) -> 0 | BI15: 0 | BX15: 5 | BY15: Wed
C16: 6 | X16: 6 | BD16: =IFERROR(AVERAGE(Y16:BC16),"") | BF16: =SUM($Y16:$BC16) -> 0 | BG16: 0 | BH16: =IFERROR(SUM(Y16:BC16)/COUNT(Y16:BC16),0) -> 0 | BI16: 0 | BX16: 6 | BY16: Thur
C17: 7 | X17: 7 | BD17: =IFERROR(AVERAGE(Y17:BC17),"") | BF17: =SUM($Y17:$BC17) -> 0 | BG17: 0 | BH17: =IFERROR(SUM(Y17:BC17)/COUNT(Y17:BC17),0) -> 0 | BI17: 0 | BX17: 7 | BY17: Fri
C18: 8 | X18: 8 | BD18: =IFERROR(AVERAGE(Y18:BC18),"") | BF18: =(SUMIF($Y$10:$BC$10,"Sat",$Y18:$BC18)+SUMIF($Y$10:$BC$10,"Sun",$Y18:$BC18)) -> 0 | BG18: =(SUM($Y18:$BC18)-(SUMIF($Y$10:$BC$10,"Sat",$Y18:$BC18)+SUMIF($Y$10:$BC$10,"Sun",$Y18:$BC18))) -> 0 | BH18: =(SUMIF($Y$10:$BC$10,"Sat",$Y18:$BC18)+SUMIF($Y$10:$BC$10,"Sun",$Y18:$BC18))/(COUNTIF($Y$10:$BC$10,"Sat")+COUNTIF($Y$10:$BC$10,"Sun")) -> 0 | BI18: =(SUM($Y18:$BC18)-(SUMIF($Y$10:$BC$10,"Sat",$Y18:$BC18)+SUMIF($Y$10:$BC$10,"Sun",$Y18:$BC18)))/(COUNT(Y18:BC18)-(COUNTIF($Y$10:$BC$10,"Sat")+COUNTIF($Y$10:$BC$10,"Sun"))) -> 0
C19: 9 | X19: 9 | BD19: =IFERROR(AVERAGE(Y19:BC19),"") | BF19: =(SUMIF($Y$10:$BC$10,"Sat",$Y19:$BC19)+SUMIF($Y$10:$BC$10,"Sun",$Y19:$BC19)) -> 0 | BG19: =(SUM($Y19:$BC19)-(SUMIF($Y$10:$BC$10,"Sat",$Y19:$BC19)+SUMIF($Y$10:$BC$10,"Sun",$Y19:$BC19))) -> 0 | BH19: =(SUMIF($Y$10:$BC$10,"Sat",$Y19:$BC19)+SUMIF($Y$10:$BC$10,"Sun",$Y19:$BC19))/(COUNTIF($Y$10:$BC$10,"Sat")+COUNTIF($Y$10:$BC$10,"Sun")) -> 0 | BI19: =(SUM($Y19:$BC19)-(SUMIF($Y$10:$BC$10,"Sat",$Y19:$BC19)+SUMIF($Y$10:$BC$10,"Sun",$Y19:$BC19)))/(COUNT(Y19:BC19)-(COUNTIF($Y$10:$BC$10,"Sat")+COUNTIF($Y$10:$BC$10,"Sun"))) -> 0
C20: 10 | X20: 10 | BD20: =IFERROR(AVERAGE(Y20:BC20),"") | BF20: =(SUMIF($Y$10:$BC$10,"Sat",$Y20:$BC20)+SUMIF($Y$10:$BC$10,"Sun",$Y20:$BC20)) -> 0 | BG20: =(SUM($Y20:$BC20)-(SUMIF($Y$10:$BC$10,"Sat",$Y20:$BC20)+SUMIF($Y$10:$BC$10,"Sun",$Y20:$BC20))) -> 0 | BH20: =(SUMIF($Y$10:$BC$10,"Sat",$Y20:$BC20)+SUMIF($Y$10:$BC$10,"Sun",$Y20:$BC20))/(COUNTIF($Y$10:$BC$10,"Sat")+COUNTIF($Y$10:$BC$10,"Sun")) -> 0 | BI20: =(SUM($Y20:$BC20)-(SUMIF($Y$10:$BC$10,"Sat",$Y20:$BC20)+SUMIF($Y$10:$BC$10,"Sun",$Y20:$BC20)))/(COUNT(Y20:BC20)-(COUNTIF($Y$10:$BC$10,"Sat")+COUNTIF($Y$10:$BC$10,"Sun"))) -> 0
C21: 11 | X21: 11 | BD21: =IFERROR(AVERAGE(Y21:BC21),"") | BF21: =(SUMIF($Y$10:$BC$10,"Sat",$Y21:$BC21)+SUMIF($Y$10:$BC$10,"Sun",$Y21:$BC21)) -> 0 | BG21: =(SUM($Y21:$BC21)-(SUMIF($Y$10:$BC$10,"Sat",$Y21:$BC21)+SUMIF($Y$10:$BC$10,"Sun",$Y21:$BC21))) -> 0 | BH21: =(SUMIF($Y$10:$BC$10,"Sat",$Y21:$BC21)+SUMIF($Y$10:$BC$10,"Sun",$Y21:$BC21))/(COUNTIF($Y$10:$BC$10,"Sat")+COUNTIF($Y$10:$BC$10,"Sun")) -> 0 | BI21: =(SUM($Y21:$BC21)-(SUMIF($Y$10:$BC$10,"Sat",$Y21:$BC21)+SUMIF($Y$10:$BC$10,"Sun",$Y21:$BC21)))/(COUNT(Y21:BC21)-(COUNTIF($Y$10:$BC$10,"Sat")+COUNTIF($Y$10:$BC$10,"Sun"))) -> 0
C22: 12 | X22: 12 | BD22: =IFERROR(AVERAGE(Y22:BC22),"") | BF22: =(SUMIF($Y$10:$BC$10,"Sat",$Y22:$BC22)+SUMIF($Y$10:$BC$10,"Sun",$Y22:$BC22)) -> 0 | BG22: =(SUM($Y22:$BC22)-(SUMIF($Y$10:$BC$10,"Sat",$Y22:$BC22)+SUMIF($Y$10:$BC$10,"Sun",$Y22:$BC22))) -> 0 | BH22: =(SUMIF($Y$10:$BC$10,"Sat",$Y22:$BC22)+SUMIF($Y$10:$BC$10,"Sun",$Y22:$BC22))/(COUNTIF($Y$10:$BC$10,"Sat")+COUNTIF($Y$10:$BC$10,"Sun")) -> 0 | BI22: =(SUM($Y22:$BC22)-(SUMIF($Y$10:$BC$10,"Sat",$Y22:$BC22)+SUMIF($Y$10:$BC$10,"Sun",$Y22:$BC22)))/(COUNT(Y22:BC22)-(COUNTIF($Y$10:$BC$10,"Sat")+COUNTIF($Y$10:$BC$10,"Sun"))) -> 0
C23: 13 | X23: 13 | BD23: =IFERROR(AVERAGE(Y23:BC23),"") | BF23: =(SUMIF($Y$10:$BC$10,"Sat",$Y23:$BC23)+SUMIF($Y$10:$BC$10,"Sun",$Y23:$BC23)) -> 0 | BG23: =(SUM($Y23:$BC23)-(SUMIF($Y$10:$BC$10,"Sat",$Y23:$BC23)+SUMIF($Y$10:$BC$10,"Sun",$Y23:$BC23))) -> 0 | BH23: =(SUMIF($Y$10:$BC$10,"Sat",$Y23:$BC23)+SUMIF($Y$10:$BC$10,"Sun",$Y23:$BC23))/(COUNTIF($Y$10:$BC$10,"Sat")+COUNTIF($Y$10:$BC$10,"Sun")) -> 0 | BI23: =(SUM($Y23:$BC23)-(SUMIF($Y$10:$BC$10,"Sat",$Y23:$BC23)+SUMIF($Y$10:$BC$10,"Sun",$Y23:$BC23)))/(COUNT(Y23:BC23)-(COUNTIF($Y$10:$BC$10,"Sat")+COUNTIF($Y$10:$BC$10,"Sun"))) -> 0
C24: 14 | X24: 14 | BD24: =IFERROR(AVERAGE(Y24:BC24),"") | BF24: =(SUMIF($Y$10:$BC$10,"Sat",$Y24:$BC24)+SUMIF($Y$10:$BC$10,"Sun",$Y24:$BC24)) -> 0 | BG24: =(SUM($Y24:$BC24)-(SUMIF($Y$10:$BC$10,"Sat",$Y24:$BC24)+SUMIF($Y$10:$BC$10,"Sun",$Y24:$BC24))) -> 0 | BH24: =(SUMIF($Y$10:$BC$10,"Sat",$Y24:$BC24)+SUMIF($Y$10:$BC$10,"Sun",$Y24:$BC24))/(COUNTIF($Y$10:$BC$10,"Sat")+COUNTIF($Y$10:$BC$10,"Sun")) -> 0 | BI24: =(SUM($Y24:$BC24)-(SUMIF($Y$10:$BC$10,"Sat",$Y24:$BC24)+SUMIF($Y$10:$BC$10,"Sun",$Y24:$BC24)))/(COUNT(Y24:BC24)-(COUNTIF($Y$10:$BC$10,"Sat")+COUNTIF($Y$10:$BC$10,"Sun"))) -> 0
C25: 15 | X25: 15 | BD25: =IFERROR(AVERAGE(Y25:BC25),"") | BF25: =(SUMIF($Y$10:$BC$10,"Sat",$Y25:$BC25)+SUMIF($Y$10:$BC$10,"Sun",$Y25:$BC25)) -> 0 | BG25: =(SUM($Y25:$BC25)-(SUMIF($Y$10:$BC$10,"Sat",$Y25:$BC25)+SUMIF($Y$10:$BC$10,"Sun",$Y25:$BC25))) -> 0 | BH25: =(SUMIF($Y$10:$BC$10,"Sat",$Y25:$BC25)+SUMIF($Y$10:$BC$10,"Sun",$Y25:$BC25))/(COUNTIF($Y$10:$BC$10,"Sat")+COUNTIF($Y$10:$BC$10,"Sun")) -> 0 | BI25: =(SUM($Y25:$BC25)-(SUMIF($Y$10:$BC$10,"Sat",$Y25:$BC25)+SUMIF($Y$10:$BC$10,"Sun",$Y25:$BC25)))/(COUNT(Y25:BC25)-(COUNTIF($Y$10:$BC$10,"Sat")+COUNTIF($Y$10:$BC$10,"Sun"))) -> 0
C26: 16 | X26: 16 | BD26: =IFERROR(AVERAGE(Y26:BC26),"") | BF26: =(SUMIF($Y$10:$BC$10,"Sat",$Y26:$BC26)+SUMIF($Y$10:$BC$10,"Sun",$Y26:$BC26)) -> 0 | BG26: =(SUM($Y26:$BC26)-(SUMIF($Y$10:$BC$10,"Sat",$Y26:$BC26)+SUMIF($Y$10:$BC$10,"Sun",$Y26:$BC26))) -> 0 | BH26: =(SUMIF($Y$10:$BC$10,"Sat",$Y26:$BC26)+SUMIF($Y$10:$BC$10,"Sun",$Y26:$BC26))/(COUNTIF($Y$10:$BC$10,"Sat")+COUNTIF($Y$10:$BC$10,"Sun")) -> 0 | BI26: =(SUM($Y26:$BC26)-(SUMIF($Y$10:$BC$10,"Sat",$Y26:$BC26)+SUMIF($Y$10:$BC$10,"Sun",$Y26:$BC26)))/(COUNT(Y26:BC26)-(COUNTIF($Y$10:$BC$10,"Sat")+COUNTIF($Y$10:$BC$10,"Sun"))) -> 0
C27: 17 | X27: 17 | BD27: =IFERROR(AVERAGE(Y27:BC27),"") | BF27: =(SUMIF($Y$10:$BC$10,"Sat",$Y27:$BC27)+SUMIF($Y$10:$BC$10,"Sun",$Y27:$BC27)) -> 0 | BG27: =(SUM($Y27:$BC27)-(SUMIF($Y$10:$BC$10,"Sat",$Y27:$BC27)+SUMIF($Y$10:$BC$10,"Sun",$Y27:$BC27))) -> 0 | BH27: =(SUMIF($Y$10:$BC$10,"Sat",$Y27:$BC27)+SUMIF($Y$10:$BC$10,"Sun",$Y27:$BC27))/(COUNTIF($Y$10:$BC$10,"Sat")+COUNTIF($Y$10:$BC$10,"Sun")) -> 0 | BI27: =(SUM($Y27:$BC27)-(SUMIF($Y$10:$BC$10,"Sat",$Y27:$BC27)+SUMIF($Y$10:$BC$10,"Sun",$Y27:$BC27)))/(COUNT(Y27:BC27)-(COUNTIF($Y$10:$BC$10,"Sat")+COUNTIF($Y$10:$BC$10,"Sun"))) -> 0
C28: 18 | X28: 18 | BD28: =IFERROR(AVERAGE(Y28:BC28),"") | BF28: =(SUMIF($Y$10:$BC$10,"Sat",$Y28:$BC28)+SUMIF($Y$10:$BC$10,"Sun",$Y28:$BC28)) -> 0 | BG28: =(SUM($Y28:$BC28)-(SUMIF($Y$10:$BC$10,"Sat",$Y28:$BC28)+SUMIF($Y$10:$BC$10,"Sun",$Y28:$BC28))) -> 0 | BH28: =(SUMIF($Y$10:$BC$10,"Sat",$Y28:$BC28)+SUMIF($Y$10:$BC$10,"Sun",$Y28:$BC28))/(COUNTIF($Y$10:$BC$10,"Sat")+COUNTIF($Y$10:$BC$10,"Sun")) -> 0 | BI28: =(SUM($Y28:$BC28)-(SUMIF($Y$10:$BC$10,"Sat",$Y28:$BC28)+SUMIF($Y$10:$BC$10,"Sun",$Y28:$BC28)))/(COUNT(Y28:BC28)-(COUNTIF($Y$10:$BC$10,"Sat")+COUNTIF($Y$10:$BC$10,"Sun"))) -> 0
C29: 19 | X29: 19 | BD29: =IFERROR(AVERAGE(Y29:BC29),"") | BF29: =(SUMIF($Y$10:$BC$10,"Sat",$Y29:$BC29)+SUMIF($Y$10:$BC$10,"Sun",$Y29:$BC29)) -> 0 | BG29: =(SUM($Y29:$BC29)-(SUMIF($Y$10:$BC$10,"Sat",$Y29:$BC29)+SUMIF($Y$10:$BC$10,"Sun",$Y29:$BC29))) -> 0 | BH29: =(SUMIF($Y$10:$BC$10,"Sat",$Y29:$BC29)+SUMIF($Y$10:$BC$10,"Sun",$Y29:$BC29))/(COUNTIF($Y$10:$BC$10,"Sat")+COUNTIF($Y$10:$BC$10,"Sun")) -> 0 | BI29: =(SUM($Y29:$BC29)-(SUMIF($Y$10:$BC$10,"Sat",$Y29:$BC29)+SUMIF($Y$10:$BC$10,"Sun",$Y29:$BC29)))/(COUNT(Y29:BC29)-(COUNTIF($Y$10:$BC$10,"Sat")+COUNTIF($Y$10:$BC$10,"Sun"))) -> 0
... C33: 23 | X33: 23 | BD33: =IFERROR(AVERAGE(Y33:BC33),"") | BF33: =(SUMIF($Y$10:$BC$10,"Sat",$Y33:$BC33)+SUMIF($Y$10:$BC$10,"Sun",$Y33:$BC33)) -> 0 | BG33: =(SUM($Y33:$BC33)-(SUMIF($Y$10:$BC$10,"Sat",$Y33:$BC33)+SUMIF($Y$10:$BC$10,"Sun",$Y33:$BC33))) -> 0 | BH33: =(SUMIF($Y$10:$BC$10,"Sat",$Y33:$BC33)+SUMIF($Y$10:$BC$10,"Sun",$Y33:$BC33))/(COUNTIF($Y$10:$BC$10,"Sat")+COUNTIF($Y$10:$BC$10,"Sun")) -> 0 | BI33: =(SUM($Y33:$BC33)-(SUMIF($Y$10:$BC$10,"Sat",$Y33:$BC33)+SUMIF($Y$10:$BC$10,"Sun",$Y33:$BC33)))/(COUNT(Y33:BC33)-(COUNTIF($Y$10:$BC$10,"Sat")+COUNTIF($Y$10:$BC$10,"Sun"))) -> 0
C34: 24 | X34: 24 | BD34: =IFERROR(AVERAGE(Y34:BC34),"") | BF34: =SUM($Y34:$BC34) -> 0 | BG34: 0 | BH34: =IFERROR(SUM(Y34:BC34)/COUNT(Y34:BC34),0) -> 0 | BI34: 0
S36: Eligible Facility Location | BF36: =SUM(BF11:BF34) -> 0 | BG36: =SUM(BG18:BG33) -> 0
B37: ="Version: " & Version -> Version: 09/04/2018
B38: Part V (b) | S38: Latitude: | W38: FEBRUARY
B39: ="Operational Information - Production Data of "& ResType -> Operational Information - Production Data of
C40: Project Name | E40: =IF(ProjName="","Auto-Filled",ProjName) -> Auto-Filled | L40: Data Entry: | M40: =M5 -> 0 | S40: Longitude: | X40: HE | Y40: 1 | Z40: 2 | AA40: 3 | AB40: 4 | AC40: 5 | AD40: 6 | AE40: 7 | AF40: 8 | AG40: 9 | AH40: 10 | AI40: 11 | AJ40: 12 | AK40: 13 | AL40: 14 | AM40: 15 | AN40: 16 | AO40: 17 | AP40: 18 | AQ40: 19 | AR40: 20 | AS40: 21 | AT40: 22 | AU40: 23 | AV40: 24 | AW40: 25 | AX40: 26 | AY40: 27 | AZ40: 28 | BA40: =IF(AE6/4=ROUND(AE6/4,0),29,"") -> 29 | BD40: Month | BF40: Off-Pk | BG40: On-Peak | BH40: Off-Pk | BI40: On-Peak
Y41: =VLOOKUP(WEEKDAY(CONCATENATE("2","/",Y40,"/",$AE$6)),$BX$11:$BY$17,2,FALSE) -> Tues | Z41: =VLOOKUP(WEEKDAY(CONCATENATE("2","/",Z40,"/",$AE$6)),$BX$11:$BY$17,2,FALSE) -> Wed | AA41: =VLOOKUP(WEEKDAY(CONCATENATE("2","/",AA40,"/",$AE$6)),$BX$11:$BY$17,2,FALSE) -> Thur | AB41: =VLOOKUP(WEEKDAY(CONCATENATE("2","/",AB40,"/",$AE$6)),$BX$11:$BY$17,2,FALSE) -> Fri | AC41: =VLOOKUP(WEEKDAY(CONCATENATE("2","/",AC40,"/",$AE$6)),$BX$11:$BY$17,2,FALSE) -> Sat | AD41: =VLOOKUP(WEEKDAY(CONCATENATE("2","/",AD40,"/",$AE$6)),$BX$11:$BY$17,2,FALSE) -> Sun | AE41: =VLOOKUP(WEEKDAY(CONCATENATE("2","/",AE40,"/",$AE$6)),$BX$11:$BY$17,2,FALSE) -> Mon | AF41: =Y41 -> Tues | AG41: =Z41 -> Wed | AH41: =AA41 -> Thur | AI41: =AB41 -> Fri | AJ41: =AC41 -> Sat | AK41: =AD41 -> Sun | AL41: =AE41 -> Mon | AM41: =AF41 -> Tues | ... AZ41: =AS41 -> Mon | BA41: =IF(BA40="","",AT41) -> Tues | BD41: Avg | BF41: MWh | BG41: MWh | BH41: Avg | BI41: Avg
C42: This table is calculated from either Part V(a) or Part V(a)(i). | X42: 1 | BD42: =IFERROR(AVERAGE(Y42:BA42),"") | BF42: =SUM($Y42:$BC42) -> 0 | BG42: 0 | BH42: =IFERROR(SUM(Y42:BC42)/COUNT(Y42:BC42),0) -> 0 | BI42: 0
B43: HOURLY DELIVERY in MW (Averaged) - 12 Months by 24 Hours For Representative Day For Each Month | X43: 2 | BD43: =IFERROR(AVERAGE(Y43:BA43),"") | BF43: =SUM($Y43:$BC43) -> 0 | BG43: 0 | BH43: =IFERROR(SUM(Y43:BC43)/COUNT(Y43:BC43),0) -> 0 | BI43: 0
X44: 3 | BD44: =IFERROR(AVERAGE(Y44:BA44),"") | BF44: =SUM($Y44:$BC44) -> 0 | BG44: 0 | BH44: =IFERROR(SUM(Y44:BC44)/COUNT(Y44:BC44),0) -> 0 | BI44: 0
C45: HE | D45: Jan | E45: Feb | F45: Mar | G45: Apr | H45: May | I45: Jun | J45: Jul | K45: Aug | L45: Sep | M45: Oct | N45: Nov | O45: Dec | X45: 4 | BD45: =IFERROR(AVERAGE(Y45:BA45),"") | BF45: =SUM($Y45:$BC45) -> 0 | BG45: 0 | BH45: =IFERROR(SUM(Y45:BC45)/COUNT(Y45:BC45),0) -> 0 | BI45: 0
C46: 1 | D46: =IF($M$40="Hourly Profile",BD11,D11) -> 0 | E46: =IF($M$40="Hourly Profile",BD42,E11) -> 0 | F46: =IF($M$40="Hourly Profile",BD73,F11) -> 0 | G46: =IF($M$40="Hourly Profile",BD104,G11) -> 0 | H46: =IF($M$40="Hourly Profile",BD135,H11) -> 0 | I46: =IF($M$40="Hourly Profile",BD166,I11) -> 0 | J46: =IF($M$40="Hourly Profile",BD197,J11) -> 0 | K46: =IF($M$40="Hourly Profile",BD228,K11) -> 0 | L46: =IF($M$40="Hourly Profile",BD259,L11) -> 0 | M46: =IF($M$40="Hourly Profile",BD290,M11) -> 0 | N46: =IF($M$40="Hourly Profile",BD321,N11) -> 0 | O46: =IF($M$40="Hourly Profile",BD352,O11) -> 0 | X46: 5 | BD46: =IFERROR(AVERAGE(Y46:BA46),"") | BF46: =SUM($Y46:$BC46) -> 0 | BG46: 0 | BH46: =IFERROR(SUM(Y46:BC46)/COUNT(Y46:BC46),0) -> 0 | BI46: 0
C47: 2 | D47: =IF($M$40="Hourly Profile",BD12,D12) -> 0 | E47: =IF($M$40="Hourly Profile",BD43,E12) -> 0 | F47: =IF($M$40="Hourly Profile",BD74,F12) -> 0 | G47: =IF($M$40="Hourly Profile",BD105,G12) -> 0 | H47: =IF($M$40="Hourly Profile",BD136,H12) -> 0 | I47: =IF($M$40="Hourly Profile",BD167,I12) -> 0 | J47: =IF($M$40="Hourly Profile",BD198,J12) -> 0 | K47: =IF($M$40="Hourly Profile",BD229,K12) -> 0 | L47: =IF($M$40="Hourly Profile",BD260,L12) -> 0 | M47: =IF($M$40="Hourly Profile",BD291,M12) -> 0 | N47: =IF($M$40="Hourly Profile",BD322,N12) -> 0 | O47: =IF($M$40="Hourly Profile",BD353,O12) -> 0 | X47: 6 | BD47: =IFERROR(AVERAGE(Y47:BA47),"") | BF47: =SUM($Y47:$BC47) -> 0 | BG47: 0 | BH47: =IFERROR(SUM(Y47:BC47)/COUNT(Y47:BC47),0) -> 0 | BI47: 0
C48: 3 | D48: =IF($M$40="Hourly Profile",BD13,D13) -> 0 | E48: =IF($M$40="Hourly Profile",BD44,E13) -> 0 | F48: =IF($M$40="Hourly Profile",BD75,F13) -> 0 | G48: =IF($M$40="Hourly Profile",BD106,G13) -> 0 | H48: =IF($M$40="Hourly Profile",BD137,H13) -> 0 | I48: =IF($M$40="Hourly Profile",BD168,I13) -> 0 | J48: =IF($M$40="Hourly Profile",BD199,J13) -> 0 | K48: =IF($M$40="Hourly Profile",BD230,K13) -> 0 | L48: =IF($M$40="Hourly Profile",BD261,L13) -> 0 | M48: =IF($M$40="Hourly Profile",BD292,M13) -> 0 | N48: =IF($M$40="Hourly Profile",BD323,N13) -> 0 | O48: =IF($M$40="Hourly Profile",BD354,O13) -> 0 | X48: 7 | BD48: =IFERROR(AVERAGE(Y48:BA48),"") | BF48: =SUM($Y48:$BC48) -> 0 | BG48: 0 | BH48: =IFERROR(SUM(Y48:BC48)/COUNT(Y48:BC48),0) -> 0 | BI48: 0
C49: 4 | D49: =IF($M$40="Hourly Profile",BD14,D14) -> 0 | E49: =IF($M$40="Hourly Profile",BD45,E14) -> 0 | F49: =IF($M$40="Hourly Profile",BD76,F14) -> 0 | G49: =IF($M$40="Hourly Profile",BD107,G14) -> 0 | H49: =IF($M$40="Hourly Profile",BD138,H14) -> 0 | I49: =IF($M$40="Hourly Profile",BD169,I14) -> 0 | J49: =IF($M$40="Hourly Profile",BD200,J14) -> 0 | K49: =IF($M$40="Hourly Profile",BD231,K14) -> 0 | L49: =IF($M$40="Hourly Profile",BD262,L14) -> 0 | M49: =IF($M$40="Hourly Profile",BD293,M14) -> 0 | N49: =IF($M$40="Hourly Profile",BD324,N14) -> 0 | O49: =IF($M$40="Hourly Profile",BD355,O14) -> 0 | X49: 8 | BD49: =IFERROR(AVERAGE(Y49:BA49),"") | BF49: =(SUMIF($Y$41:$BC$41,"Sat",$Y49:$BC49)+SUMIF($Y$41:$BC$41,"Sun",$Y49:$BC49)) -> 0 | BG49: =(SUM($Y49:$BC49)-(SUMIF($Y$41:$BC$41,"Sat",$Y49:$BC49)+SUMIF($Y$41:$BC$41,"Sun",$Y49:$BC49))) -> 0 | BH49: =(SUMIF($Y$41:$BC$41,"Sat",$Y49:$BC49)+SUMIF($Y$41:$BC$41,"Sun",$Y49:$BC49))/(COUNTIF($Y$41:$BC$41,"Sat")+COUNTIF($Y$41:$BC$41,"Sun")) -> 0 | BI49: =(SUM($Y49:$BC49)-(SUMIF($Y$41:$BC$41,"Sat",$Y49:$BC49)+SUMIF($Y$41:$BC$41,"Sun",$Y49:$BC49)))/(COUNT(Y49:BC49)-(COUNTIF($Y$41:$BC$41,"Sat")+COUNTIF($Y$41:$BC$41,"Sun"))) -> 0
C50: 5 | D50: =IF($M$40="Hourly Profile",BD15,D15) -> 0 | E50: =IF($M$40="Hourly Profile",BD46,E15) -> 0 | F50: =IF($M$40="Hourly Profile",BD77,F15) -> 0 | G50: =IF($M$40="Hourly Profile",BD108,G15) -> 0 | H50: =IF($M$40="Hourly Profile",BD139,H15) -> 0 | I50: =IF($M$40="Hourly Profile",BD170,I15) -> 0 | J50: =IF($M$40="Hourly Profile",BD201,J15) -> 0 | K50: =IF($M$40="Hourly Profile",BD232,K15) -> 0 | L50: =IF($M$40="Hourly Profile",BD263,L15) -> 0 | M50: =IF($M$40="Hourly Profile",BD294,M15) -> 0 | N50: =IF($M$40="Hourly Profile",BD325,N15) -> 0 | O50: =IF($M$40="Hourly Profile",BD356,O15) -> 0 | X50: 9 | BD50: =IFERROR(AVERAGE(Y50:BA50),"") | BF50: =(SUMIF($Y$41:$BC$41,"Sat",$Y50:$BC50)+SUMIF($Y$41:$BC$41,"Sun",$Y50:$BC50)) -> 0 | BG50: =(SUM($Y50:$BC50)-(SUMIF($Y$41:$BC$41,"Sat",$Y50:$BC50)+SUMIF($Y$41:$BC$41,"Sun",$Y50:$BC50))) -> 0 | BH50: =(SUMIF($Y$41:$BC$41,"Sat",$Y50:$BC50)+SUMIF($Y$41:$BC$41,"Sun",$Y50:$BC50))/(COUNTIF($Y$41:$BC$41,"Sat")+COUNTIF($Y$41:$BC$41,"Sun")) -> 0 | BI50: =(SUM($Y50:$BC50)-(SUMIF($Y$41:$BC$41,"Sat",$Y50:$BC50)+SUMIF($Y$41:$BC$41,"Sun",$Y50:$BC50)))/(COUNT(Y50:BC50)-(COUNTIF($Y$41:$BC$41,"Sat")+COUNTIF($Y$41:$BC$41,"Sun"))) -> 0
C51: 6 | D51: =IF($M$40="Hourly Profile",BD16,D16) -> 0 | E51: =IF($M$40="Hourly Profile",BD47,E16) -> 0 | F51: =IF($M$40="Hourly Profile",BD78,F16) -> 0 | G51: =IF($M$40="Hourly Profile",BD109,G16) -> 0 | H51: =IF($M$40="Hourly Profile",BD140,H16) -> 0 | I51: =IF($M$40="Hourly Profile",BD171,I16) -> 0 | J51: =IF($M$40="Hourly Profile",BD202,J16) -> 0 | K51: =IF($M$40="Hourly Profile",BD233,K16) -> 0 | L51: =IF($M$40="Hourly Profile",BD264,L16) -> 0 | M51: =IF($M$40="Hourly Profile",BD295,M16) -> 0 | N51: =IF($M$40="Hourly Profile",BD326,N16) -> 0 | O51: =IF($M$40="Hourly Profile",BD357,O16) -> 0 | X51: 10 | BD51: =IFERROR(AVERAGE(Y51:BA51),"") | BF51: =(SUMIF($Y$41:$BC$41,"Sat",$Y51:$BC51)+SUMIF($Y$41:$BC$41,"Sun",$Y51:$BC51)) -> 0 | BG51: =(SUM($Y51:$BC51)-(SUMIF($Y$41:$BC$41,"Sat",$Y51:$BC51)+SUMIF($Y$41:$BC$41,"Sun",$Y51:$BC51))) -> 0 | BH51: =(SUMIF($Y$41:$BC$41,"Sat",$Y51:$BC51)+SUMIF($Y$41:$BC$41,"Sun",$Y51:$BC51))/(COUNTIF($Y$41:$BC$41,"Sat")+COUNTIF($Y$41:$BC$41,"Sun")) -> 0 | BI51: =(SUM($Y51:$BC51)-(SUMIF($Y$41:$BC$41,"Sat",$Y51:$BC51)+SUMIF($Y$41:$BC$41,"Sun",$Y51:$BC51)))/(COUNT(Y51:BC51)-(COUNTIF($Y$41:$BC$41,"Sat")+COUNTIF($Y$41:$BC$41,"Sun"))) -> 0
C52: 7 | D52: =IF($M$40="Hourly Profile",BD17,D17) -> 0 | E52: =IF($M$40="Hourly Profile",BD48,E17) -> 0 | F52: =IF($M$40="Hourly Profile",BD79,F17) -> 0 | G52: =IF($M$40="Hourly Profile",BD110,G17) -> 0 | H52: =IF($M$40="Hourly Profile",BD141,H17) -> 0 | I52: =IF($M$40="Hourly Profile",BD172,I17) -> 0 | J52: =IF($M$40="Hourly Profile",BD203,J17) -> 0 | K52: =IF($M$40="Hourly Profile",BD234,K17) -> 0 | L52: =IF($M$40="Hourly Profile",BD265,L17) -> 0 | M52: =IF($M$40="Hourly Profile",BD296,M17) -> 0 | N52: =IF($M$40="Hourly Profile",BD327,N17) -> 0 | O52: =IF($M$40="Hourly Profile",BD358,O17) -> 0 | X52: 11 | BD52: =IFERROR(AVERAGE(Y52:BA52),"") | BF52: =(SUMIF($Y$41:$BC$41,"Sat",$Y52:$BC52)+SUMIF($Y$41:$BC$41,"Sun",$Y52:$BC52)) -> 0 | BG52: =(SUM($Y52:$BC52)-(SUMIF($Y$41:$BC$41,"Sat",$Y52:$BC52)+SUMIF($Y$41:$BC$41,"Sun",$Y52:$BC52))) -> 0 | BH52: =(SUMIF($Y$41:$BC$41,"Sat",$Y52:$BC52)+SUMIF($Y$41:$BC$41,"Sun",$Y52:$BC52))/(COUNTIF($Y$41:$BC$41,"Sat")+COUNTIF($Y$41:$BC$41,"Sun")) -> 0 | BI52: =(SUM($Y52:$BC52)-(SUMIF($Y$41:$BC$41,"Sat",$Y52:$BC52)+SUMIF($Y$41:$BC$41,"Sun",$Y52:$BC52)))/(COUNT(Y52:BC52)-(COUNTIF($Y$41:$BC$41,"Sat")+COUNTIF($Y$41:$BC$41,"Sun"))) -> 0
C53: 8 | D53: =IF($M$40="Hourly Profile",BD18,D18) -> 0 | E53: =IF($M$40="Hourly Profile",BD49,E18) -> 0 | F53: =IF($M$40="Hourly Profile",BD80,F18) -> 0 | G53: =IF($M$40="Hourly Profile",BD111,G18) -> 0 | H53: =IF($M$40="Hourly Profile",BD142,H18) -> 0 | I53: =IF($M$40="Hourly Profile",BD173,I18) -> 0 | J53: =IF($M$40="Hourly Profile",BD204,J18) -> 0 | K53: =IF($M$40="Hourly Profile",BD235,K18) -> 0 | L53: =IF($M$40="Hourly Profile",BD266,L18) -> 0 | M53: =IF($M$40="Hourly Profile",BD297,M18) -> 0 | N53: =IF($M$40="Hourly Profile",BD328,N18) -> 0 | O53: =IF($M$40="Hourly Profile",BD359,O18) -> 0 | X53: 12 | BD53: =IFERROR(AVERAGE(Y53:BA53),"") | BF53: =(SUMIF($Y$41:$BC$41,"Sat",$Y53:$BC53)+SUMIF($Y$41:$BC$41,"Sun",$Y53:$BC53)) -> 0 | BG53: =(SUM($Y53:$BC53)-(SUMIF($Y$41:$BC$41,"Sat",$Y53:$BC53)+SUMIF($Y$41:$BC$41,"Sun",$Y53:$BC53))) -> 0 | BH53: =(SUMIF($Y$41:$BC$41,"Sat",$Y53:$BC53)+SUMIF($Y$41:$BC$41,"Sun",$Y53:$BC53))/(COUNTIF($Y$41:$BC$41,"Sat")+COUNTIF($Y$41:$BC$41,"Sun")) -> 0 | BI53: =(SUM($Y53:$BC53)-(SUMIF($Y$41:$BC$41,"Sat",$Y53:$BC53)+SUMIF($Y$41:$BC$41,"Sun",$Y53:$BC53)))/(COUNT(Y53:BC53)-(COUNTIF($Y$41:$BC$41,"Sat")+COUNTIF($Y$41:$BC$41,"Sun"))) -> 0
C54: 9 | D54: =IF($M$40="Hourly Profile",BD19,D19) -> 0 | E54: =IF($M$40="Hourly Profile",BD50,E19) -> 0 | F54: =IF($M$40="Hourly Profile",BD81,F19) -> 0 | G54: =IF($M$40="Hourly Profile",BD112,G19) -> 0 | H54: =IF($M$40="Hourly Profile",BD143,H19) -> 0 | I54: =IF($M$40="Hourly Profile",BD174,I19) -> 0 | J54: =IF($M$40="Hourly Profile",BD205,J19) -> 0 | K54: =IF($M$40="Hourly Profile",BD236,K19) -> 0 | L54: =IF($M$40="Hourly Profile",BD267,L19) -> 0 | M54: =IF($M$40="Hourly Profile",BD298,M19) -> 0 | N54: =IF($M$40="Hourly Profile",BD329,N19) -> 0 | O54: =IF($M$40="Hourly Profile",BD360,O19) -> 0 | X54: 13 | BD54: =IFERROR(AVERAGE(Y54:BA54),"") | BF54: =(SUMIF($Y$41:$BC$41,"Sat",$Y54:$BC54)+SUMIF($Y$41:$BC$41,"Sun",$Y54:$BC54)) -> 0 | BG54: =(SUM($Y54:$BC54)-(SUMIF($Y$41:$BC$41,"Sat",$Y54:$BC54)+SUMIF($Y$41:$BC$41,"Sun",$Y54:$BC54))) -> 0 | BH54: =(SUMIF($Y$41:$BC$41,"Sat",$Y54:$BC54)+SUMIF($Y$41:$BC$41,"Sun",$Y54:$BC54))/(COUNTIF($Y$41:$BC$41,"Sat")+COUNTIF($Y$41:$BC$41,"Sun")) -> 0 | BI54: =(SUM($Y54:$BC54)-(SUMIF($Y$41:$BC$41,"Sat",$Y54:$BC54)+SUMIF($Y$41:$BC$41,"Sun",$Y54:$BC54)))/(COUNT(Y54:BC54)-(COUNTIF($Y$41:$BC$41,"Sat")+COUNTIF($Y$41:$BC$41,"Sun"))) -> 0
C55: 10 | D55: =IF($M$40="Hourly Profile",BD20,D20) -> 0 | E55: =IF($M$40="Hourly Profile",BD51,E20) -> 0 | F55: =IF($M$40="Hourly Profile",BD82,F20) -> 0 | G55: =IF($M$40="Hourly Profile",BD113,G20) -> 0 | H55: =IF($M$40="Hourly Profile",BD144,H20) -> 0 | I55: =IF($M$40="Hourly Profile",BD175,I20) -> 0 | J55: =IF($M$40="Hourly Profile",BD206,J20) -> 0 | K55: =IF($M$40="Hourly Profile",BD237,K20) -> 0 | L55: =IF($M$40="Hourly Profile",BD268,L20) -> 0 | M55: =IF($M$40="Hourly Profile",BD299,M20) -> 0 | N55: =IF($M$40="Hourly Profile",BD330,N20) -> 0 | O55: =IF($M$40="Hourly Profile",BD361,O20) -> 0 | X55: 14 | BD55: =IFERROR(AVERAGE(Y55:BA55),"") | BF55: =(SUMIF($Y$41:$BC$41,"Sat",$Y55:$BC55)+SUMIF($Y$41:$BC$41,"Sun",$Y55:$BC55)) -> 0 | BG55: =(SUM($Y55:$BC55)-(SUMIF($Y$41:$BC$41,"Sat",$Y55:$BC55)+SUMIF($Y$41:$BC$41,"Sun",$Y55:$BC55))) -> 0 | BH55: =(SUMIF($Y$41:$BC$41,"Sat",$Y55:$BC55)+SUMIF($Y$41:$BC$41,"Sun",$Y55:$BC55))/(COUNTIF($Y$41:$BC$41,"Sat")+COUNTIF($Y$41:$BC$41,"Sun")) -> 0 | BI55: =(SUM($Y55:$BC55)-(SUMIF($Y$41:$BC$41,"Sat",$Y55:$BC55)+SUMIF($Y$41:$BC$41,"Sun",$Y55:$BC55)))/(COUNT(Y55:BC55)-(COUNTIF($Y$41:$BC$41,"Sat")+COUNTIF($Y$41:$BC$41,"Sun"))) -> 0
C56: 11 | D56: =IF($M$40="Hourly Profile",BD21,D21) -> 0 | E56: =IF($M$40="Hourly Profile",BD52,E21) -> 0 | F56: =IF($M$40="Hourly Profile",BD83,F21) -> 0 | G56: =IF($M$40="Hourly Profile",BD114,G21) -> 0 | H56: =IF($M$40="Hourly Profile",BD145,H21) -> 0 | I56: =IF($M$40="Hourly Profile",BD176,I21) -> 0 | J56: =IF($M$40="Hourly Profile",BD207,J21) -> 0 | K56: =IF($M$40="Hourly Profile",BD238,K21) -> 0 | L56: =IF($M$40="Hourly Profile",BD269,L21) -> 0 | M56: =IF($M$40="Hourly Profile",BD300,M21) -> 0 | N56: =IF($M$40="Hourly Profile",BD331,N21) -> 0 | O56: =IF($M$40="Hourly Profile",BD362,O21) -> 0 | X56: 15 | BD56: =IFERROR(AVERAGE(Y56:BA56),"") | BF56: =(SUMIF($Y$41:$BC$41,"Sat",$Y56:$BC56)+SUMIF($Y$41:$BC$41,"Sun",$Y56:$BC56)) -> 0 | BG56: =(SUM($Y56:$BC56)-(SUMIF($Y$41:$BC$41,"Sat",$Y56:$BC56)+SUMIF($Y$41:$BC$41,"Sun",$Y56:$BC56))) -> 0 | BH56: =(SUMIF($Y$41:$BC$41,"Sat",$Y56:$BC56)+SUMIF($Y$41:$BC$41,"Sun",$Y56:$BC56))/(COUNTIF($Y$41:$BC$41,"Sat")+COUNTIF($Y$41:$BC$41,"Sun")) -> 0 | BI56: =(SUM($Y56:$BC56)-(SUMIF($Y$41:$BC$41,"Sat",$Y56:$BC56)+SUMIF($Y$41:$BC$41,"Sun",$Y56:$BC56)))/(COUNT(Y56:BC56)-(COUNTIF($Y$41:$BC$41,"Sat")+COUNTIF($Y$41:$BC$41,"Sun"))) -> 0
C57: 12 | D57: =IF($M$40="Hourly Profile",BD22,D22) -> 0 | E57: =IF($M$40="Hourly Profile",BD53,E22) -> 0 | F57: =IF($M$40="Hourly Profile",BD84,F22) -> 0 | G57: =IF($M$40="Hourly Profile",BD115,G22) -> 0 | H57: =IF($M$40="Hourly Profile",BD146,H22) -> 0 | I57: =IF($M$40="Hourly Profile",BD177,I22) -> 0 | J57: =IF($M$40="Hourly Profile",BD208,J22) -> 0 | K57: =IF($M$40="Hourly Profile",BD239,K22) -> 0 | L57: =IF($M$40="Hourly Profile",BD270,L22) -> 0 | M57: =IF($M$40="Hourly Profile",BD301,M22) -> 0 | N57: =IF($M$40="Hourly Profile",BD332,N22) -> 0 | O57: =IF($M$40="Hourly Profile",BD363,O22) -> 0 | X57: 16 | BD57: =IFERROR(AVERAGE(Y57:BA57),"") | BF57: =(SUMIF($Y$41:$BC$41,"Sat",$Y57:$BC57)+SUMIF($Y$41:$BC$41,"Sun",$Y57:$BC57)) -> 0 | BG57: =(SUM($Y57:$BC57)-(SUMIF($Y$41:$BC$41,"Sat",$Y57:$BC57)+SUMIF($Y$41:$BC$41,"Sun",$Y57:$BC57))) -> 0 | BH57: =(SUMIF($Y$41:$BC$41,"Sat",$Y57:$BC57)+SUMIF($Y$41:$BC$41,"Sun",$Y57:$BC57))/(COUNTIF($Y$41:$BC$41,"Sat")+COUNTIF($Y$41:$BC$41,"Sun")) -> 0 | BI57: =(SUM($Y57:$BC57)-(SUMIF($Y$41:$BC$41,"Sat",$Y57:$BC57)+SUMIF($Y$41:$BC$41,"Sun",$Y57:$BC57)))/(COUNT(Y57:BC57)-(COUNTIF($Y$41:$BC$41,"Sat")+COUNTIF($Y$41:$BC$41,"Sun"))) -> 0
C58: 13 | D58: =IF($M$40="Hourly Profile",BD23,D23) -> 0 | E58: =IF($M$40="Hourly Profile",BD54,E23) -> 0 | F58: =IF($M$40="Hourly Profile",BD85,F23) -> 0 | G58: =IF($M$40="Hourly Profile",BD116,G23) -> 0 | H58: =IF($M$40="Hourly Profile",BD147,H23) -> 0 | I58: =IF($M$40="Hourly Profile",BD178,I23) -> 0 | J58: =IF($M$40="Hourly Profile",BD209,J23) -> 0 | K58: =IF($M$40="Hourly Profile",BD240,K23) -> 0 | L58: =IF($M$40="Hourly Profile",BD271,L23) -> 0 | M58: =IF($M$40="Hourly Profile",BD302,M23) -> 0 | N58: =IF($M$40="Hourly Profile",BD333,N23) -> 0 | O58: =IF($M$40="Hourly Profile",BD364,O23) -> 0 | X58: 17 | BD58: =IFERROR(AVERAGE(Y58:BA58),"") | BF58: =(SUMIF($Y$41:$BC$41,"Sat",$Y58:$BC58)+SUMIF($Y$41:$BC$41,"Sun",$Y58:$BC58)) -> 0 | BG58: =(SUM($Y58:$BC58)-(SUMIF($Y$41:$BC$41,"Sat",$Y58:$BC58)+SUMIF($Y$41:$BC$41,"Sun",$Y58:$BC58))) -> 0 | BH58: =(SUMIF($Y$41:$BC$41,"Sat",$Y58:$BC58)+SUMIF($Y$41:$BC$41,"Sun",$Y58:$BC58))/(COUNTIF($Y$41:$BC$41,"Sat")+COUNTIF($Y$41:$BC$41,"Sun")) -> 0 | BI58: =(SUM($Y58:$BC58)-(SUMIF($Y$41:$BC$41,"Sat",$Y58:$BC58)+SUMIF($Y$41:$BC$41,"Sun",$Y58:$BC58)))/(COUNT(Y58:BC58)-(COUNTIF($Y$41:$BC$41,"Sat")+COUNTIF($Y$41:$BC$41,"Sun"))) -> 0
C59: 14 | D59: =IF($M$40="Hourly Profile",BD24,D24) -> 0 | E59: =IF($M$40="Hourly Profile",BD55,E24) -> 0 | F59: =IF($M$40="Hourly Profile",BD86,F24) -> 0 | G59: =IF($M$40="Hourly Profile",BD117,G24) -> 0 | H59: =IF($M$40="Hourly Profile",BD148,H24) -> 0 | I59: =IF($M$40="Hourly Profile",BD179,I24) -> 0 | J59: =IF($M$40="Hourly Profile",BD210,J24) -> 0 | K59: =IF($M$40="Hourly Profile",BD241,K24) -> 0 | L59: =IF($M$40="Hourly Profile",BD272,L24) -> 0 | M59: =IF($M$40="Hourly Profile",BD303,M24) -> 0 | N59: =IF($M$40="Hourly Profile",BD334,N24) -> 0 | O59: =IF($M$40="Hourly Profile",BD365,O24) -> 0 | X59: 18 | BD59: =IFERROR(AVERAGE(Y59:BA59),"") | BF59: =(SUMIF($Y$41:$BC$41,"Sat",$Y59:$BC59)+SUMIF($Y$41:$BC$41,"Sun",$Y59:$BC59)) -> 0 | BG59: =(SUM($Y59:$BC59)-(SUMIF($Y$41:$BC$41,"Sat",$Y59:$BC59)+SUMIF($Y$41:$BC$41,"Sun",$Y59:$BC59))) -> 0 | BH59: =(SUMIF($Y$41:$BC$41,"Sat",$Y59:$BC59)+SUMIF($Y$41:$BC$41,"Sun",$Y59:$BC59))/(COUNTIF($Y$41:$BC$41,"Sat")+COUNTIF($Y$41:$BC$41,"Sun")) -> 0 | BI59: =(SUM($Y59:$BC59)-(SUMIF($Y$41:$BC$41,"Sat",$Y59:$BC59)+SUMIF($Y$41:$BC$41,"Sun",$Y59:$BC59)))/(COUNT(Y59:BC59)-(COUNTIF($Y$41:$BC$41,"Sat")+COUNTIF($Y$41:$BC$41,"Sun"))) -> 0
C60: 15 | D60: =IF($M$40="Hourly Profile",BD25,D25) -> 0 | E60: =IF($M$40="Hourly Profile",BD56,E25) -> 0 | F60: =IF($M$40="Hourly Profile",BD87,F25) -> 0 | G60: =IF($M$40="Hourly Profile",BD118,G25) -> 0 | H60: =IF($M$40="Hourly Profile",BD149,H25) -> 0 | I60: =IF($M$40="Hourly Profile",BD180,I25) -> 0 | J60: =IF($M$40="Hourly Profile",BD211,J25) -> 0 | K60: =IF($M$40="Hourly Profile",BD242,K25) -> 0 | L60: =IF($M$40="Hourly Profile",BD273,L25) -> 0 | M60: =IF($M$40="Hourly Profile",BD304,M25) -> 0 | N60: =IF($M$40="Hourly Profile",BD335,N25) -> 0 | O60: =IF($M$40="Hourly Profile",BD366,O25) -> 0 | X60: 19 | BD60: =IFERROR(AVERAGE(Y60:BA60),"") | BF60: =(SUMIF($Y$41:$BC$41,"Sat",$Y60:$BC60)+SUMIF($Y$41:$BC$41,"Sun",$Y60:$BC60)) -> 0 | BG60: =(SUM($Y60:$BC60)-(SUMIF($Y$41:$BC$41,"Sat",$Y60:$BC60)+SUMIF($Y$41:$BC$41,"Sun",$Y60:$BC60))) -> 0 | BH60: =(SUMIF($Y$41:$BC$41,"Sat",$Y60:$BC60)+SUMIF($Y$41:$BC$41,"Sun",$Y60:$BC60))/(COUNTIF($Y$41:$BC$41,"Sat")+COUNTIF($Y$41:$BC$41,"Sun")) -> 0 | BI60: =(SUM($Y60:$BC60)-(SUMIF($Y$41:$BC$41,"Sat",$Y60:$BC60)+SUMIF($Y$41:$BC$41,"Sun",$Y60:$BC60)))/(COUNT(Y60:BC60)-(COUNTIF($Y$41:$BC$41,"Sat")+COUNTIF($Y$41:$BC$41,"Sun"))) -> 0
... C64: 19 | D64: =IF($M$40="Hourly Profile",BD29,D29) -> 0 | E64: =IF($M$40="Hourly Profile",BD60,E29) -> 0 | F64: =IF($M$40="Hourly Profile",BD91,F29) -> 0 | G64: =IF($M$40="Hourly Profile",BD122,G29) -> 0 | H64: =IF($M$40="Hourly Profile",BD153,H29) -> 0 | I64: =IF($M$40="Hourly Profile",BD184,I29) -> 0 | J64: =IF($M$40="Hourly Profile",BD215,J29) -> 0 | K64: =IF($M$40="Hourly Profile",BD246,K29) -> 0 | L64: =IF($M$40="Hourly Profile",BD277,L29) -> 0 | M64: =IF($M$40="Hourly Profile",BD308,M29) -> 0 | N64: =IF($M$40="Hourly Profile",BD339,N29) -> 0 | O64: =IF($M$40="Hourly Profile",BD370,O29) -> 0 | X64: 23 | BD64: =IFERROR(AVERAGE(Y64:BA64),"") | BF64: =(SUMIF($Y$41:$BC$41,"Sat",$Y64:$BC64)+SUMIF($Y$41:$BC$41,"Sun",$Y64:$BC64)) -> 0 | BG64: =(SUM($Y64:$BC64)-(SUMIF($Y$41:$BC$41,"Sat",$Y64:$BC64)+SUMIF($Y$41:$BC$41,"Sun",$Y64:$BC64))) -> 0 | BH64: =(SUMIF($Y$41:$BC$41,"Sat",$Y64:$BC64)+SUMIF($Y$41:$BC$41,"Sun",$Y64:$BC64))/(COUNTIF($Y$41:$BC$41,"Sat")+COUNTIF($Y$41:$BC$41,"Sun")) -> 0 | BI64: =(SUM($Y64:$BC64)-(SUMIF($Y$41:$BC$41,"Sat",$Y64:$BC64)+SUMIF($Y$41:$BC$41,"Sun",$Y64:$BC64)))/(COUNT(Y64:BC64)-(COUNTIF($Y$41:$BC$41,"Sat")+COUNTIF($Y$41:$BC$41,"Sun"))) -> 0
C65: 20 | D65: =IF($M$40="Hourly Profile",BD30,D30) -> 0 | E65: =IF($M$40="Hourly Profile",BD61,E30) -> 0 | F65: =IF($M$40="Hourly Profile",BD92,F30) -> 0 | G65: =IF($M$40="Hourly Profile",BD123,G30) -> 0 | H65: =IF($M$40="Hourly Profile",BD154,H30) -> 0 | I65: =IF($M$40="Hourly Profile",BD185,I30) -> 0 | J65: =IF($M$40="Hourly Profile",BD216,J30) -> 0 | K65: =IF($M$40="Hourly Profile",BD247,K30) -> 0 | L65: =IF($M$40="Hourly Profile",BD278,L30) -> 0 | M65: =IF($M$40="Hourly Profile",BD309,M30) -> 0 | N65: =IF($M$40="Hourly Profile",BD340,N30) -> 0 | O65: =IF($M$40="Hourly Profile",BD371,O30) -> 0 | X65: 24 | BD65: =IFERROR(AVERAGE(Y65:BA65),"") | BF65: =SUM($Y65:$BC65) -> 0 | BG65: 0 | BH65: =IFERROR(SUM(Y65:BC65)/COUNT(Y65:BC65),0) -> 0 | BI65: 0
C66: 21 | D66: =IF($M$40="Hourly Profile",BD31,D31) -> 0 | E66: =IF($M$40="Hourly Profile",BD62,E31) -> 0 | F66: =IF($M$40="Hourly Profile",BD93,F31) -> 0 | G66: =IF($M$40="Hourly Profile",BD124,G31) -> 0 | H66: =IF($M$40="Hourly Profile",BD155,H31) -> 0 | I66: =IF($M$40="Hourly Profile",BD186,I31) -> 0 | J66: =IF($M$40="Hourly Profile",BD217,J31) -> 0 | K66: =IF($M$40="Hourly Profile",BD248,K31) -> 0 | L66: =IF($M$40="Hourly Profile",BD279,L31) -> 0 | M66: =IF($M$40="Hourly Profile",BD310,M31) -> 0 | N66: =IF($M$40="Hourly Profile",BD341,N31) -> 0 | O66: =IF($M$40="Hourly Profile",BD372,O31) -> 0 | BF66: =SUM(BF42:BF65) -> 0 | BG66: =SUM(BG49:BG64) -> 0
C67: 22 | D67: =IF($M$40="Hourly Profile",BD32,D32) -> 0 | E67: =IF($M$40="Hourly Profile",BD63,E32) -> 0 | F67: =IF($M$40="Hourly Profile",BD94,F32) -> 0 | G67: =IF($M$40="Hourly Profile",BD125,G32) -> 0 | H67: =IF($M$40="Hourly Profile",BD156,H32) -> 0 | I67: =IF($M$40="Hourly Profile",BD187,I32) -> 0 | J67: =IF($M$40="Hourly Profile",BD218,J32) -> 0 | K67: =IF($M$40="Hourly Profile",BD249,K32) -> 0 | L67: =IF($M$40="Hourly Profile",BD280,L32) -> 0 | M67: =IF($M$40="Hourly Profile",BD311,M32) -> 0 | N67: =IF($M$40="Hourly Profile",BD342,N32) -> 0 | O67: =IF($M$40="Hourly Profile",BD373,O32) -> 0
C68: 23 | D68: =IF($M$40="Hourly Profile",BD33,D33) -> 0 | E68: =IF($M$40="Hourly Profile",BD64,E33) -> 0 | F68: =IF($M$40="Hourly Profile",BD95,F33) -> 0 | G68: =IF($M$40="Hourly Profile",BD126,G33) -> 0 | H68: =IF($M$40="Hourly Profile",BD157,H33) -> 0 | I68: =IF($M$40="Hourly Profile",BD188,I33) -> 0 | J68: =IF($M$40="Hourly Profile",BD219,J33) -> 0 | K68: =IF($M$40="Hourly Profile",BD250,K33) -> 0 | L68: =IF($M$40="Hourly Profile",BD281,L33) -> 0 | M68: =IF($M$40="Hourly Profile",BD312,M33) -> 0 | N68: =IF($M$40="Hourly Profile",BD343,N33) -> 0 | O68: =IF($M$40="Hourly Profile",BD374,O33) -> 0
C69: 24 | D69: =IF($M$40="Hourly Profile",BD34,D34) -> 0 | E69: =IF($M$40="Hourly Profile",BD65,E34) -> 0 | F69: =IF($M$40="Hourly Profile",BD96,F34) -> 0 | G69: =IF($M$40="Hourly Profile",BD127,G34) -> 0 | H69: =IF($M$40="Hourly Profile",BD158,H34) -> 0 | I69: =IF($M$40="Hourly Profile",BD189,I34) -> 0 | J69: =IF($M$40="Hourly Profile",BD220,J34) -> 0 | K69: =IF($M$40="Hourly Profile",BD251,K34) -> 0 | L69: =IF($M$40="Hourly Profile",BD282,L34) -> 0 | M69: =IF($M$40="Hourly Profile",BD313,M34) -> 0 | N69: =IF($M$40="Hourly Profile",BD344,N34) -> 0 | O69: =IF($M$40="Hourly Profile",BD375,O34) -> 0 | W69: MARCH
X71: HE | Y71: 1 | Z71: 2 | AA71: 3 | AB71: 4 | AC71: 5 | AD71: 6 | AE71: 7 | AF71: 8 | AG71: 9 | AH71: 10 | AI71: 11 | AJ71: 12 | AK71: 13 | AL71: 14 | AM71: 15 | AN71: 16 | AO71: 17 | AP71: 18 | AQ71: 19 | AR71: 20 | AS71: 21 | AT71: 22 | AU71: 23 | AV71: 24 | AW71: 25 | AX71: 26 | AY71: 27 | AZ71: 28 | BA71: 29 | BB71: 30 | BC71: 31 | BD71: Month | BF71: Off-Pk | BG71: On-Peak | BH71: Off-Pk | BI71: On-Peak
Y72: =VLOOKUP(WEEKDAY(CONCATENATE("3","/",Y71,"/",$AE$6)),$BX$11:$BY$17,2,FALSE) -> Wed | Z72: =VLOOKUP(WEEKDAY(CONCATENATE("3","/",Z71,"/",$AE$6)),$BX$11:$BY$17,2,FALSE) -> Thur | AA72: =VLOOKUP(WEEKDAY(CONCATENATE("3","/",AA71,"/",$AE$6)),$BX$11:$BY$17,2,FALSE) -> Fri | AB72: =VLOOKUP(WEEKDAY(CONCATENATE("3","/",AB71,"/",$AE$6)),$BX$11:$BY$17,2,FALSE) -> Sat | AC72: =VLOOKUP(WEEKDAY(CONCATENATE("3","/",AC71,"/",$AE$6)),$BX$11:$BY$17,2,FALSE) -> Sun | AD72: =VLOOKUP(WEEKDAY(CONCATENATE("3","/",AD71,"/",$AE$6)),$BX$11:$BY$17,2,FALSE) -> Mon | AE72: =VLOOKUP(WEEKDAY(CONCATENATE("3","/",AE71,"/",$AE$6)),$BX$11:$BY$17,2,FALSE) -> Tues | AF72: =Y72 -> Wed | AG72: =Z72 -> Thur | AH72: =AA72 -> Fri | AI72: =AB72 -> Sat | AJ72: =AC72 -> Sun | AK72: =AD72 -> Mon | AL72: =AE72 -> Tues | AM72: =AF72 -> Wed | ... BC72: =AV72 -> Fri | BD72: Avg | BF72: MWh | BG72: MWh | BH72: Avg | BI72: Avg
X73: 1 | BD73: =IFERROR(AVERAGE(Y73:BC73),"") | BF73: =SUM($Y73:$BC73) -> 0 | BG73: 0 | BH73: =IFERROR(SUM(Y73:BC73)/COUNT(Y73:BC73),0) -> 0 | BI73: 0
X74: 2 | BD74: =IFERROR(AVERAGE(Y74:BC74),"") | BF74: =SUM($Y74:$BC74) -> 0 | BG74: 0 | BH74: =IFERROR(SUM(Y74:BC74)/COUNT(Y74:BC74),0) -> 0 | BI74: 0
X75: 3 | BD75: =IFERROR(AVERAGE(Y75:BC75),"") | BF75: =SUM($Y75:$BC75) -> 0 | BG75: 0 | BH75: =IFERROR(SUM(Y75:BC75)/COUNT(Y75:BC75),0) -> 0 | BI75: 0
X76: 4 | BD76: =IFERROR(AVERAGE(Y76:BC76),"") | BF76: =SUM($Y76:$BC76) -> 0 | BG76: 0 | BH76: =IFERROR(SUM(Y76:BC76)/COUNT(Y76:BC76),0) -> 0 | BI76: 0
X77: 5 | BD77: =IFERROR(AVERAGE(Y77:BC77),"") | BF77: =SUM($Y77:$BC77) -> 0 | BG77: 0 | BH77: =IFERROR(SUM(Y77:BC77)/COUNT(Y77:BC77),0) -> 0 | BI77: 0
X78: 6 | BD78: =IFERROR(AVERAGE(Y78:BC78),"") | BF78: =SUM($Y78:$BC78) -> 0 | BG78: 0 | BH78: =IFERROR(SUM(Y78:BC78)/COUNT(Y78:BC78),0) -> 0 | BI78: 0
X79: 7 | BD79: =IFERROR(AVERAGE(Y79:BC79),"") | BF79: =SUM($Y79:$BC79) -> 0 | BG79: 0 | BH79: =IFERROR(SUM(Y79:BC79)/COUNT(Y79:BC79),0) -> 0 | BI79: 0
X80: 8 | BD80: =IFERROR(AVERAGE(Y80:BC80),"") | BF80: =(SUMIF($Y$72:$BC$72,"Sat",$Y80:$BC80)+SUMIF($Y$72:$BC$72,"Sun",$Y80:$BC80)) -> 0 | BG80: =(SUM($Y80:$BC80)-(SUMIF($Y$72:$BC$72,"Sat",$Y80:$BC80)+SUMIF($Y$72:$BC$72,"Sun",$Y80:$BC80))) -> 0 | BH80: =(SUMIF($Y$72:$BC$72,"Sat",$Y80:$BC80)+SUMIF($Y$72:$BC$72,"Sun",$Y80:$BC80))/(COUNTIF($Y$72:$BC$72,"Sat")+COUNTIF($Y$72:$BC$72,"Sun")) -> 0 | BI80: =(SUM($Y80:$BC80)-(SUMIF($Y$72:$BC$72,"Sat",$Y80:$BC80)+SUMIF($Y$72:$BC$72,"Sun",$Y80:$BC80)))/(COUNT(Y80:BC80)-(COUNTIF($Y$72:$BC$72,"Sat")+COUNTIF($Y$72:$BC$72,"Sun"))) -> 0
X81: 9 | BD81: =IFERROR(AVERAGE(Y81:BC81),"") | BF81: =(SUMIF($Y$72:$BC$72,"Sat",$Y81:$BC81)+SUMIF($Y$72:$BC$72,"Sun",$Y81:$BC81)) -> 0 | BG81: =(SUM($Y81:$BC81)-(SUMIF($Y$72:$BC$72,"Sat",$Y81:$BC81)+SUMIF($Y$72:$BC$72,"Sun",$Y81:$BC81))) -> 0 | BH81: =(SUMIF($Y$72:$BC$72,"Sat",$Y81:$BC81)+SUMIF($Y$72:$BC$72,"Sun",$Y81:$BC81))/(COUNTIF($Y$72:$BC$72,"Sat")+COUNTIF($Y$72:$BC$72,"Sun")) -> 0 | BI81: =(SUM($Y81:$BC81)-(SUMIF($Y$72:$BC$72,"Sat",$Y81:$BC81)+SUMIF($Y$72:$BC$72,"Sun",$Y81:$BC81)))/(COUNT(Y81:BC81)-(COUNTIF($Y$72:$BC$72,"Sat")+COUNTIF($Y$72:$BC$72,"Sun"))) -> 0
X82: 10 | BD82: =IFERROR(AVERAGE(Y82:BC82),"") | BF82: =(SUMIF($Y$72:$BC$72,"Sat",$Y82:$BC82)+SUMIF($Y$72:$BC$72,"Sun",$Y82:$BC82)) -> 0 | BG82: =(SUM($Y82:$BC82)-(SUMIF($Y$72:$BC$72,"Sat",$Y82:$BC82)+SUMIF($Y$72:$BC$72,"Sun",$Y82:$BC82))) -> 0 | BH82: =(SUMIF($Y$72:$BC$72,"Sat",$Y82:$BC82)+SUMIF($Y$72:$BC$72,"Sun",$Y82:$BC82))/(COUNTIF($Y$72:$BC$72,"Sat")+COUNTIF($Y$72:$BC$72,"Sun")) -> 0 | BI82: =(SUM($Y82:$BC82)-(SUMIF($Y$72:$BC$72,"Sat",$Y82:$BC82)+SUMIF($Y$72:$BC$72,"Sun",$Y82:$BC82)))/(COUNT(Y82:BC82)-(COUNTIF($Y$72:$BC$72,"Sat")+COUNTIF($Y$72:$BC$72,"Sun"))) -> 0
X83: 11 | BD83: =IFERROR(AVERAGE(Y83:BC83),"") | BF83: =(SUMIF($Y$72:$BC$72,"Sat",$Y83:$BC83)+SUMIF($Y$72:$BC$72,"Sun",$Y83:$BC83)) -> 0 | BG83: =(SUM($Y83:$BC83)-(SUMIF($Y$72:$BC$72,"Sat",$Y83:$BC83)+SUMIF($Y$72:$BC$72,"Sun",$Y83:$BC83))) -> 0 | BH83: =(SUMIF($Y$72:$BC$72,"Sat",$Y83:$BC83)+SUMIF($Y$72:$BC$72,"Sun",$Y83:$BC83))/(COUNTIF($Y$72:$BC$72,"Sat")+COUNTIF($Y$72:$BC$72,"Sun")) -> 0 | BI83: =(SUM($Y83:$BC83)-(SUMIF($Y$72:$BC$72,"Sat",$Y83:$BC83)+SUMIF($Y$72:$BC$72,"Sun",$Y83:$BC83)))/(COUNT(Y83:BC83)-(COUNTIF($Y$72:$BC$72,"Sat")+COUNTIF($Y$72:$BC$72,"Sun"))) -> 0
X84: 12 | BD84: =IFERROR(AVERAGE(Y84:BC84),"") | BF84: =(SUMIF($Y$72:$BC$72,"Sat",$Y84:$BC84)+SUMIF($Y$72:$BC$72,"Sun",$Y84:$BC84)) -> 0 | BG84: =(SUM($Y84:$BC84)-(SUMIF($Y$72:$BC$72,"Sat",$Y84:$BC84)+SUMIF($Y$72:$BC$72,"Sun",$Y84:$BC84))) -> 0 | BH84: =(SUMIF($Y$72:$BC$72,"Sat",$Y84:$BC84)+SUMIF($Y$72:$BC$72,"Sun",$Y84:$BC84))/(COUNTIF($Y$72:$BC$72,"Sat")+COUNTIF($Y$72:$BC$72,"Sun")) -> 0 | BI84: =(SUM($Y84:$BC84)-(SUMIF($Y$72:$BC$72,"Sat",$Y84:$BC84)+SUMIF($Y$72:$BC$72,"Sun",$Y84:$BC84)))/(COUNT(Y84:BC84)-(COUNTIF($Y$72:$BC$72,"Sat")+COUNTIF($Y$72:$BC$72,"Sun"))) -> 0
X85: 13 | BD85: =IFERROR(AVERAGE(Y85:BC85),"") | BF85: =(SUMIF($Y$72:$BC$72,"Sat",$Y85:$BC85)+SUMIF($Y$72:$BC$72,"Sun",$Y85:$BC85)) -> 0 | BG85: =(SUM($Y85:$BC85)-(SUMIF($Y$72:$BC$72,"Sat",$Y85:$BC85)+SUMIF($Y$72:$BC$72,"Sun",$Y85:$BC85))) -> 0 | BH85: =(SUMIF($Y$72:$BC$72,"Sat",$Y85:$BC85)+SUMIF($Y$72:$BC$72,"Sun",$Y85:$BC85))/(COUNTIF($Y$72:$BC$72,"Sat")+COUNTIF($Y$72:$BC$72,"Sun")) -> 0 | BI85: =(SUM($Y85:$BC85)-(SUMIF($Y$72:$BC$72,"Sat",$Y85:$BC85)+SUMIF($Y$72:$BC$72,"Sun",$Y85:$BC85)))/(COUNT(Y85:BC85)-(COUNTIF($Y$72:$BC$72,"Sat")+COUNTIF($Y$72:$BC$72,"Sun"))) -> 0
X86: 14 | BD86: =IFERROR(AVERAGE(Y86:BC86),"") | BF86: =(SUMIF($Y$72:$BC$72,"Sat",$Y86:$BC86)+SUMIF($Y$72:$BC$72,"Sun",$Y86:$BC86)) -> 0 | BG86: =(SUM($Y86:$BC86)-(SUMIF($Y$72:$BC$72,"Sat",$Y86:$BC86)+SUMIF($Y$72:$BC$72,"Sun",$Y86:$BC86))) -> 0 | BH86: =(SUMIF($Y$72:$BC$72,"Sat",$Y86:$BC86)+SUMIF($Y$72:$BC$72,"Sun",$Y86:$BC86))/(COUNTIF($Y$72:$BC$72,"Sat")+COUNTIF($Y$72:$BC$72,"Sun")) -> 0 | BI86: =(SUM($Y86:$BC86)-(SUMIF($Y$72:$BC$72,"Sat",$Y86:$BC86)+SUMIF($Y$72:$BC$72,"Sun",$Y86:$BC86)))/(COUNT(Y86:BC86)-(COUNTIF($Y$72:$BC$72,"Sat")+COUNTIF($Y$72:$BC$72,"Sun"))) -> 0
X87: 15 | BD87: =IFERROR(AVERAGE(Y87:BC87),"") | BF87: =(SUMIF($Y$72:$BC$72,"Sat",$Y87:$BC87)+SUMIF($Y$72:$BC$72,"Sun",$Y87:$BC87)) -> 0 | BG87: =(SUM($Y87:$BC87)-(SUMIF($Y$72:$BC$72,"Sat",$Y87:$BC87)+SUMIF($Y$72:$BC$72,"Sun",$Y87:$BC87))) -> 0 | BH87: =(SUMIF($Y$72:$BC$72,"Sat",$Y87:$BC87)+SUMIF($Y$72:$BC$72,"Sun",$Y87:$BC87))/(COUNTIF($Y$72:$BC$72,"Sat")+COUNTIF($Y$72:$BC$72,"Sun")) -> 0 | BI87: =(SUM($Y87:$BC87)-(SUMIF($Y$72:$BC$72,"Sat",$Y87:$BC87)+SUMIF($Y$72:$BC$72,"Sun",$Y87:$BC87)))/(COUNT(Y87:BC87)-(COUNTIF($Y$72:$BC$72,"Sat")+COUNTIF($Y$72:$BC$72,"Sun"))) -> 0
X88: 16 | BD88: =IFERROR(AVERAGE(Y88:BC88),"") | BF88: =(SUMIF($Y$72:$BC$72,"Sat",$Y88:$BC88)+SUMIF($Y$72:$BC$72,"Sun",$Y88:$BC88)) -> 0 | BG88: =(SUM($Y88:$BC88)-(SUMIF($Y$72:$BC$72,"Sat",$Y88:$BC88)+SUMIF($Y$72:$BC$72,"Sun",$Y88:$BC88))) -> 0 | BH88: =(SUMIF($Y$72:$BC$72,"Sat",$Y88:$BC88)+SUMIF($Y$72:$BC$72,"Sun",$Y88:$BC88))/(COUNTIF($Y$72:$BC$72,"Sat")+COUNTIF($Y$72:$BC$72,"Sun")) -> 0 | BI88: =(SUM($Y88:$BC88)-(SUMIF($Y$72:$BC$72,"Sat",$Y88:$BC88)+SUMIF($Y$72:$BC$72,"Sun",$Y88:$BC88)))/(COUNT(Y88:BC88)-(COUNTIF($Y$72:$BC$72,"Sat")+COUNTIF($Y$72:$BC$72,"Sun"))) -> 0
X89: 17 | BD89: =IFERROR(AVERAGE(Y89:BC89),"") | BF89: =(SUMIF($Y$72:$BC$72,"Sat",$Y89:$BC89)+SUMIF($Y$72:$BC$72,"Sun",$Y89:$BC89)) -> 0 | BG89: =(SUM($Y89:$BC89)-(SUMIF($Y$72:$BC$72,"Sat",$Y89:$BC89)+SUMIF($Y$72:$BC$72,"Sun",$Y89:$BC89))) -> 0 | BH89: =(SUMIF($Y$72:$BC$72,"Sat",$Y89:$BC89)+SUMIF($Y$72:$BC$72,"Sun",$Y89:$BC89))/(COUNTIF($Y$72:$BC$72,"Sat")+COUNTIF($Y$72:$BC$72,"Sun")) -> 0 | BI89: =(SUM($Y89:$BC89)-(SUMIF($Y$72:$BC$72,"Sat",$Y89:$BC89)+SUMIF($Y$72:$BC$72,"Sun",$Y89:$BC89)))/(COUNT(Y89:BC89)-(COUNTIF($Y$72:$BC$72,"Sat")+COUNTIF($Y$72:$BC$72,"Sun"))) -> 0
X90: 18 | BD90: =IFERROR(AVERAGE(Y90:BC90),"") | BF90: =(SUMIF($Y$72:$BC$72,"Sat",$Y90:$BC90)+SUMIF($Y$72:$BC$72,"Sun",$Y90:$BC90)) -> 0 | BG90: =(SUM($Y90:$BC90)-(SUMIF($Y$72:$BC$72,"Sat",$Y90:$BC90)+SUMIF($Y$72:$BC$72,"Sun",$Y90:$BC90))) -> 0 | BH90: =(SUMIF($Y$72:$BC$72,"Sat",$Y90:$BC90)+SUMIF($Y$72:$BC$72,"Sun",$Y90:$BC90))/(COUNTIF($Y$72:$BC$72,"Sat")+COUNTIF($Y$72:$BC$72,"Sun")) -> 0 | BI90: =(SUM($Y90:$BC90)-(SUMIF($Y$72:$BC$72,"Sat",$Y90:$BC90)+SUMIF($Y$72:$BC$72,"Sun",$Y90:$BC90)))/(COUNT(Y90:BC90)-(COUNTIF($Y$72:$BC$72,"Sat")+COUNTIF($Y$72:$BC$72,"Sun"))) -> 0
X91: 19 | BD91: =IFERROR(AVERAGE(Y91:BC91),"") | BF91: =(SUMIF($Y$72:$BC$72,"Sat",$Y91:$BC91)+SUMIF($Y$72:$BC$72,"Sun",$Y91:$BC91)) -> 0 | BG91: =(SUM($Y91:$BC91)-(SUMIF($Y$72:$BC$72,"Sat",$Y91:$BC91)+SUMIF($Y$72:$BC$72,"Sun",$Y91:$BC91))) -> 0 | BH91: =(SUMIF($Y$72:$BC$72,"Sat",$Y91:$BC91)+SUMIF($Y$72:$BC$72,"Sun",$Y91:$BC91))/(COUNTIF($Y$72:$BC$72,"Sat")+COUNTIF($Y$72:$BC$72,"Sun")) -> 0 | BI91: =(SUM($Y91:$BC91)-(SUMIF($Y$72:$BC$72,"Sat",$Y91:$BC91)+SUMIF($Y$72:$BC$72,"Sun",$Y91:$BC91)))/(COUNT(Y91:BC91)-(COUNTIF($Y$72:$BC$72,"Sat")+COUNTIF($Y$72:$BC$72,"Sun"))) -> 0
... X95: 23 | BD95: =IFERROR(AVERAGE(Y95:BC95),"") | BF95: =(SUMIF($Y$72:$BC$72,"Sat",$Y95:$BC95)+SUMIF($Y$72:$BC$72,"Sun",$Y95:$BC95)) -> 0 | BG95: =(SUM($Y95:$BC95)-(SUMIF($Y$72:$BC$72,"Sat",$Y95:$BC95)+SUMIF($Y$72:$BC$72,"Sun",$Y95:$BC95))) -> 0 | BH95: =(SUMIF($Y$72:$BC$72,"Sat",$Y95:$BC95)+SUMIF($Y$72:$BC$72,"Sun",$Y95:$BC95))/(COUNTIF($Y$72:$BC$72,"Sat")+COUNTIF($Y$72:$BC$72,"Sun")) -> 0 | BI95: =(SUM($Y95:$BC95)-(SUMIF($Y$72:$BC$72,"Sat",$Y95:$BC95)+SUMIF($Y$72:$BC$72,"Sun",$Y95:$BC95)))/(COUNT(Y95:BC95)-(COUNTIF($Y$72:$BC$72,"Sat")+COUNTIF($Y$72:$BC$72,"Sun"))) -> 0
X96: 24 | BD96: =IFERROR(AVERAGE(Y96:BC96),"") | BF96: =SUM($Y96:$BC96) -> 0 | BG96: 0 | BH96: =IFERROR(SUM(Y96:BC96)/COUNT(Y96:BC96),0) -> 0 | BI96: 0
BF97: =SUM(BF73:BF96) -> 0 | BG97: =SUM(BG80:BG95) -> 0
W100: APRIL
B101: ="Version: " & Version -> Version: 09/04/2018
B102: Part V (c) | X102: HE | Y102: 1 | Z102: 2 | AA102: 3 | AB102: 4 | AC102: 5 | AD102: 6 | AE102: 7 | AF102: 8 | AG102: 9 | AH102: 10 | AI102: 11 | AJ102: 12 | AK102: 13 | AL102: 14 | AM102: 15 | AN102: 16 | AO102: 17 | AP102: 18 | AQ102: 19 | AR102: 20 | AS102: 21 | AT102: 22 | AU102: 23 | AV102: 24 | AW102: 25 | AX102: 26 | AY102: 27 | AZ102: 28 | BA102: 29 | BB102: 30 | BD102: Month | BF102: Off-Pk | BG102: On-Peak | BH102: Off-Pk | BI102: On-Peak
B103: ="Operational Information - Maintenance Profile for " & ResType -> Operational Information - Maintenance Profile for | Y103: =VLOOKUP(WEEKDAY(CONCATENATE("4","/",Y102,"/",$AE$6)),$BX$11:$BY$17,2,FALSE) -> Sat | Z103: =VLOOKUP(WEEKDAY(CONCATENATE("4","/",Z102,"/",$AE$6)),$BX$11:$BY$17,2,FALSE) -> Sun | AA103: =VLOOKUP(WEEKDAY(CONCATENATE("4","/",AA102,"/",$AE$6)),$BX$11:$BY$17,2,FALSE) -> Mon | AB103: =VLOOKUP(WEEKDAY(CONCATENATE("4","/",AB102,"/",$AE$6)),$BX$11:$BY$17,2,FALSE) -> Tues | AC103: =VLOOKUP(WEEKDAY(CONCATENATE("4","/",AC102,"/",$AE$6)),$BX$11:$BY$17,2,FALSE) -> Wed | AD103: =VLOOKUP(WEEKDAY(CONCATENATE("4","/",AD102,"/",$AE$6)),$BX$11:$BY$17,2,FALSE) -> Thur | AE103: =VLOOKUP(WEEKDAY(CONCATENATE("4","/",AE102,"/",$AE$6)),$BX$11:$BY$17,2,FALSE) -> Fri | AF103: =Y103 -> Sat | AG103: =Z103 -> Sun | AH103: =AA103 -> Mon | AI103: =AB103 -> Tues | AJ103: =AC103 -> Wed | AK103: =AD103 -> Thur | AL103: =AE103 -> Fri | AM103: =AF103 -> Sat | ... BB103: =AU103 -> Sun | BD103: Avg | BF103: MWh | BG103: MWh | BH103: Avg | BI103: Avg
C104: Project Name | E104: =IF(ProjName="","Auto-Filled",ProjName) -> Auto-Filled | X104: 1 | BD104: =IFERROR(AVERAGE(Y104:BB104),"") | BF104: =SUM($Y104:$BC104) -> 0 | BG104: 0 | BH104: =IFERROR(SUM(Y104:BC104)/COUNT(Y104:BC104),0) -> 0 | BI104: 0
X105: 2 | BD105: =IFERROR(AVERAGE(Y105:BB105),"") | BF105: =SUM($Y105:$BC105) -> 0 | BG105: 0 | BH105: =IFERROR(SUM(Y105:BC105)/COUNT(Y105:BC105),0) -> 0 | BI105: 0
X106: 3 | BD106: =IFERROR(AVERAGE(Y106:BB106),"") | BF106: =SUM($Y106:$BC106) -> 0 | BG106: 0 | BH106: =IFERROR(SUM(Y106:BC106)/COUNT(Y106:BC106),0) -> 0 | BI106: 0
B107: MONTHLY ADJUSTMENT FACTORS AS PERCENTAGE OF EXPECTED PRODUCTION | X107: 4 | BD107: =IFERROR(AVERAGE(Y107:BB107),"") | BF107: =SUM($Y107:$BC107) -> 0 | BG107: 0 | BH107: =IFERROR(SUM(Y107:BC107)/COUNT(Y107:BC107),0) -> 0 | BI107: 0
C108: Enter factors in decimal format, where 1 equals no adjustment (i.e. a decrease of 2% should be entered as 0.98) | S108: Max Term | T108: =MAX('Part III'!K22:K24) -> 0 | X108: 5 | BD108: =IFERROR(AVERAGE(Y108:BB108),"") | BF108: =SUM($Y108:$BC108) -> 0 | BG108: 0 | BH108: =IFERROR(SUM(Y108:BC108)/COUNT(Y108:BC108),0) -> 0 | BI108: 0
C109: Year | D109: Jan | E109: Feb | F109: Mar | G109: Apr | H109: May | I109: Jun | J109: Jul | K109: Aug | L109: Sep | M109: Oct | N109: Nov | O109: Dec | S109: =COUNT(D110:O125) -> 0 | X109: 6 | BD109: =IFERROR(AVERAGE(Y109:BB109),"") | BF109: =SUM($Y109:$BC109) -> 0 | BG109: 0 | BH109: =IFERROR(SUM(Y109:BC109)/COUNT(Y109:BC109),0) -> 0 | BI109: 0
C110: =IF(ISBLANK(EstCOD),1,YEAR(EstCOD)) -> 1 | R110: =IF(S109<T108*12,"<<< Information may be Required. Refer to Notes below.","") | X110: 7 | BD110: =IFERROR(AVERAGE(Y110:BB110),"") | BF110: =SUM($Y110:$BC110) -> 0 | BG110: 0 | BH110: =IFERROR(SUM(Y110:BC110)/COUNT(Y110:BC110),0) -> 0 | BI110: 0
C111: =C110+1 -> 2 | X111: 8 | BD111: =IFERROR(AVERAGE(Y111:BB111),"") | BF111: =(SUMIF($Y$103:$BC$103,"Sat",$Y111:$BC111)+SUMIF($Y$103:$BC$103,"Sun",$Y111:$BC111)) -> 0 | BG111: =(SUM($Y111:$BC111)-(SUMIF($Y$103:$BC$103,"Sat",$Y111:$BC111)+SUMIF($Y$103:$BC$103,"Sun",$Y111:$BC111))) -> 0 | BH111: =(SUMIF($Y$103:$BC$103,"Sat",$Y111:$BC111)+SUMIF($Y$103:$BC$103,"Sun",$Y111:$BC111))/(COUNTIF($Y$103:$BC$103,"Sat")+COUNTIF($Y$103:$BC$103,"Sun")) -> 0 | BI111: =(SUM($Y111:$BC111)-(SUMIF($Y$103:$BC$103,"Sat",$Y111:$BC111)+SUMIF($Y$103:$BC$103,"Sun",$Y111:$BC111)))/(COUNT(Y111:BC111)-(COUNTIF($Y$103:$BC$103,"Sat")+COUNTIF($Y$103:$BC$103,"Sun"))) -> 0
C112: =C111+1 -> 3 | X112: 9 | BD112: =IFERROR(AVERAGE(Y112:BB112),"") | BF112: =(SUMIF($Y$103:$BC$103,"Sat",$Y112:$BC112)+SUMIF($Y$103:$BC$103,"Sun",$Y112:$BC112)) -> 0 | BG112: =(SUM($Y112:$BC112)-(SUMIF($Y$103:$BC$103,"Sat",$Y112:$BC112)+SUMIF($Y$103:$BC$103,"Sun",$Y112:$BC112))) -> 0 | BH112: =(SUMIF($Y$103:$BC$103,"Sat",$Y112:$BC112)+SUMIF($Y$103:$BC$103,"Sun",$Y112:$BC112))/(COUNTIF($Y$103:$BC$103,"Sat")+COUNTIF($Y$103:$BC$103,"Sun")) -> 0 | BI112: =(SUM($Y112:$BC112)-(SUMIF($Y$103:$BC$103,"Sat",$Y112:$BC112)+SUMIF($Y$103:$BC$103,"Sun",$Y112:$BC112)))/(COUNT(Y112:BC112)-(COUNTIF($Y$103:$BC$103,"Sat")+COUNTIF($Y$103:$BC$103,"Sun"))) -> 0
C113: =C112+1 -> 4 | X113: 10 | BD113: =IFERROR(AVERAGE(Y113:BB113),"") | BF113: =(SUMIF($Y$103:$BC$103,"Sat",$Y113:$BC113)+SUMIF($Y$103:$BC$103,"Sun",$Y113:$BC113)) -> 0 | BG113: =(SUM($Y113:$BC113)-(SUMIF($Y$103:$BC$103,"Sat",$Y113:$BC113)+SUMIF($Y$103:$BC$103,"Sun",$Y113:$BC113))) -> 0 | BH113: =(SUMIF($Y$103:$BC$103,"Sat",$Y113:$BC113)+SUMIF($Y$103:$BC$103,"Sun",$Y113:$BC113))/(COUNTIF($Y$103:$BC$103,"Sat")+COUNTIF($Y$103:$BC$103,"Sun")) -> 0 | BI113: =(SUM($Y113:$BC113)-(SUMIF($Y$103:$BC$103,"Sat",$Y113:$BC113)+SUMIF($Y$103:$BC$103,"Sun",$Y113:$BC113)))/(COUNT(Y113:BC113)-(COUNTIF($Y$103:$BC$103,"Sat")+COUNTIF($Y$103:$BC$103,"Sun"))) -> 0
C114: =C113+1 -> 5 | X114: 11 | BD114: =IFERROR(AVERAGE(Y114:BB114),"") | BF114: =(SUMIF($Y$103:$BC$103,"Sat",$Y114:$BC114)+SUMIF($Y$103:$BC$103,"Sun",$Y114:$BC114)) -> 0 | BG114: =(SUM($Y114:$BC114)-(SUMIF($Y$103:$BC$103,"Sat",$Y114:$BC114)+SUMIF($Y$103:$BC$103,"Sun",$Y114:$BC114))) -> 0 | BH114: =(SUMIF($Y$103:$BC$103,"Sat",$Y114:$BC114)+SUMIF($Y$103:$BC$103,"Sun",$Y114:$BC114))/(COUNTIF($Y$103:$BC$103,"Sat")+COUNTIF($Y$103:$BC$103,"Sun")) -> 0 | BI114: =(SUM($Y114:$BC114)-(SUMIF($Y$103:$BC$103,"Sat",$Y114:$BC114)+SUMIF($Y$103:$BC$103,"Sun",$Y114:$BC114)))/(COUNT(Y114:BC114)-(COUNTIF($Y$103:$BC$103,"Sat")+COUNTIF($Y$103:$BC$103,"Sun"))) -> 0
...

Sheet Part V (with StorageCT)
B2: ="Version: " & Version -> Version: 09/04/2018
B3: Part V (a)
B4: ="Operational Information - 12 X 24 Profile of "& ResType -> Operational Information - 12 X 24 Profile of
C5: Project Name | E5: =IF(ProjName="","Auto-Filled",ProjName) -> Auto-Filled | L5: Period | M5: All Days
C7: Use this table to show expected generation for all days.
B8: EXPECTED HOURLY GENERATION in MW - 12 Months by 24 Hours For Representative Day For Each Month
C10: HE | D10: Jan | E10: Feb | F10: Mar | G10: Apr | H10: May | I10: Jun | J10: Jul | K10: Aug | L10: Sep | M10: Oct | N10: Nov | O10: Dec | S10: =COUNT(D11:O34) -> 0 | T10: Cells with Contents
C11: 1 | R11: =IF(S10<288,"<<< Full Matrix is Required Information","") -> <<< Full Matrix is Required Information
C12: 2
C13: 3
C14: 4
C15: 5
C16: 6
C17: 7
C18: 8
C19: 9
C20: 10
C21: 11
C22: 12
C23: 13
... C34: 24
B37: ="Version: " & Version -> Version: 09/04/2018
B38: Part V (b-1)
B39: ="Operational Information - 12 X 24 Profile of "& ResType &" with Energy Storage" -> Operational Information - 12 X 24 Profile of with Energy Storage
C40: Project Name | E40: =IF(ProjName="","",ProjName) | L40: Period | M40: Weekdays
C42: Use this table to show net energy delivery to grid for weekdays including the effects of Energy Storage. Note that the amounts entered for Performance Hours (HE 15 through HE 21) will be used to establish the Minimum Percentage Delivery Commitment.
B43: HOURLY DELIVERY in MW - 12 Months by 24 Hours For Representative Day For Each Month
C45: HE | D45: Jan | E45: Feb | F45: Mar | G45: Apr | H45: May | I45: Jun | J45: Jul | K45: Aug | L45: Sep | M45: Oct | N45: Nov | O45: Dec | S45: =COUNT(D46:O69) -> 0 | T45: Cells with Contents
C46: 1 | R46: =IF(AND(StorIncl="YES",S45<288),"<<< Full Matrix is Required Information",IF(AND(NOT(StorIncl="YES"),S45>0),"<<< This Matrix Should be Blank if Storage is Not Offered",""))
C47: 2
C48: 3
C49: 4
C50: 5
C51: 6
C52: 7
C53: 8
C54: 9
C55: 10
C56: 11
C57: 12
C58: 13
... C69: 24
B72: ="Version: " & Version -> Version: 09/04/2018
B73: Part V (b-2)
B74: ="Operational Information - 12 X 24 Profile of "& ResType &" with Energy Storage" -> Operational Information - 12 X 24 Profile of with Energy Storage
C75: Project Name | E75: =IF(ProjName="","",ProjName) | L75: Period | M75: Weekend Days
C77: Use this table to show net energy delivery to grid for weekend days including the effects of Energy Storage.
B78: HOURLY DELIVERY in MW - 12 Months by 24 Hours For Representative Day For Each Month
C80: HE | D80: Jan | E80: Feb | F80: Mar | G80: Apr | H80: May | I80: Jun | J80: Jul | K80: Aug | L80: Sep | M80: Oct | N80: Nov | O80: Dec | S80: =COUNT(D81:O104) -> 0 | T80: Cells with Contents
C81: 1 | R81: =IF(AND(StorIncl="YES",S80<288),"<<< Full Matrix is Required Information",IF(AND(NOT(StorIncl="YES"),S80>0),"<<< This Matrix Should be Blank if Storage is Not Offered",""))
C82: 2
C83: 3
C84: 4
C85: 5
C86: 6
C87: 7
C88: 8
C89: 9
C90: 10
C91: 11
C92: 12
C93: 13
... C104: 24
B139: ="Version: " & Version -> Version: 09/04/2018
B140: Part V (c)
B141: ="Operational Information - Maintenance Profile for " & ResType -> Operational Information - Maintenance Profile for
C142: Project Name | E142: =IF(ProjName="","",ProjName)
B145: MONTHLY ADJUSTMENT FACTORS AS PERCENTAGE OF EXPECTED PRODUCTION
C146: Enter factors in decimal format, where 1 equals no adjustment (i.e. a decrease of 2% should be entered as 0.98) | S146: Max Term | U146: =MAX('Part III'!K22:K24) -> 0
C147: Year | D147: Jan | E147: Feb | F147: Mar | G147: Apr | H147: May | I147: Jun | J147: Jul | K147: Aug | L147: Sep | M147: Oct | N147: Nov | O147: Dec | S147: =COUNT(D148:O168) -> 0
C148: =IF(ISBLANK(EstCOD),1,YEAR(EstCOD)) -> 1 | R148: =IF(S147<U146*12,"<<< Information may be Required. Refer to Notes below.","")
C149: =C148+1 -> 2
C150: =C149+1 -> 3
C151: =C150+1 -> 4
C152: =C151+1 -> 5
C153: =C152+1 -> 6
C154: =C153+1 -> 7
C155: =C154+1 -> 8
C156: =C155+1 -> 9
C157: =C156+1 -> 10
C158: =C157+1 -> 11
C159: =C158+1 -> 12
C160: =C159+1 -> 13
... C168: =C167+1 -> 21
C170: IMPORTANT: These factors are for specific months and calendar years. The first entry must coincide with the project start date.
B184: ="Version: " & Version -> Version: 09/04/2018
B185: Part V (informational)
B186: Validation and Conversion Assumptions and Calculations
D188: Jan | E188: Feb | F188: Mar | G188: Apr | H188: May | I188: Jun | J188: Jul | K188: Aug | L188: Sep | M188: Oct | N188: Nov | O188: Dec
C190: Average Days used to convert hourly profiles into monthly and annual amounts
C191: Average Number of Weekdays
D192: =D196-D194 -> 22.14 | E192: =E196-E194 -> 20.18 | F192: =F196-F194 -> 22.14 | G192: =G196-G194 -> 21.43 | H192: =H196-H194 -> 22.14 | I192: =I196-I194 -> 21.43 | J192: =J196-J194 -> 22.14 | K192: =K196-K194 -> 22.14 | ... O192: =O196-O194 -> 22.14
C193: Average Number of Weekend Days
D194: =ROUND(2/7*D196,2) -> 8.86 | E194: =ROUND(2/7*E196,2) -> 8.07 | F194: =ROUND(2/7*F196,2) -> 8.86 | G194: =ROUND(2/7*G196,2) -> 8.57 | H194: =ROUND(2/7*H196,2) -> 8.86 | I194: =ROUND(2/7*I196,2) -> 8.57 | J194: =ROUND(2/7*J196,2) -> 8.86 | K194: =ROUND(2/7*K196,2) -> 8.86 | ... O194: =ROUND(2/7*O196,2) -> 8.86
C195: Average Days
D196: 31 | E196: 28.25 | F196: 31 | G196: 30 | H196: 31 | I196: 30 | J196: 31 | K196: 31 | L196: 30 | M196: 31 | N196: 30 | O196: 31
C198: Daily Generation and Delivery Prior to Monthly Adjustment Factors (MWh/day)
C199: Sum for Weekday HE 15-21 ("Performance Hours")
C200: Gen | D200: =SUM(D$25:D$31) -> 0 | E200: =SUM(E$25:E$31) -> 0 | F200: =SUM(F$25:F$31) -> 0 | G200: =SUM(G$25:G$31) -> 0 | H200: =SUM(H$25:H$31) -> 0 | I200: =SUM(I$25:I$31) -> 0 | J200: =SUM(J$25:J$31) -> 0 | K200: =SUM(K$25:K$31) -> 0 | ... O200: =SUM(O$25:O$31) -> 0
C201: Del | D201: =IF(StorIncl="Yes",SUM(D$60:D$66),D200) -> 0 | E201: =IF(StorIncl="Yes",SUM(E$60:E$66),E200) -> 0 | F201: =IF(StorIncl="Yes",SUM(F$60:F$66),F200) -> 0 | G201: =IF(StorIncl="Yes",SUM(G$60:G$66),G200) -> 0 | H201: =IF(StorIncl="Yes",SUM(H$60:H$66),H200) -> 0 | I201: =IF(StorIncl="Yes",SUM(I$60:I$66),I200) -> 0 | J201: =IF(StorIncl="Yes",SUM(J$60:J$66),J200) -> 0 | K201: =IF(StorIncl="Yes",SUM(K$60:K$66),K200) -> 0 | ... O201: =IF(StorIncl="Yes",SUM(O$60:O$66),O200) -> 0
...

Sheet Part V (with Storage)
DS1: Verification section - Not for Data Entry! | FB1: Verification section - Not for Data Entry!
B2: ="Version: " & Version -> Version: 09/04/2018 | W2: ="Version " & Version -> Version 09/04/2018 | BM2: ="Version " & Version -> Version 09/04/2018 | DS2: ="Version " & Version -> Version 09/04/2018 | FB2: ="Version " & Version -> Version 09/04/2018
B3: Part V (a -1) - (with Energy Storage) | W3: Part V (a) (i) | BM3: Part V (a) (ii) - Energy Storage | DS3: Part V (a) (iii) - Generation with Energy Storage Combined | FB3: Part V (a) (iv) - Generation with Energy Storage Combined
B4: ="Operational Information - Production Data of "& ResType -> Operational Information - Production Data of | R4: Data Entry | W4: Representative Generation Production in Representative Year | BM4: Representative Energy Storage Charging/Discharging Schedule in Representative Year | DS4: Verification of Hourly Net Deliver of Generation Project Paired and Co-Located with Energy Storage | FB4: Verification of the Storage Capacity (MWh) for the Co-Located Energy Storage
C5: Project Name | E5: =IF(ProjName="","Auto-Filled",ProjName) -> Auto-Filled | L5: Data Entry: | M5: Hourly Profile | R5: Hourly Generation Profile in Part V(a)(i)>>>>
R6: Hourly Storage Profile in Part V(a)(ii)>>>> | AD6: Enter Representative Year: | AE6: 2012 | BQ6: Enter Representative Hourly Charging (-) and Discharging (+) Schedule | DV6: Representative Yearly Number of Hours where forecasted schedules for generation, in conjunction with Energy Storage, create a negative Net Delivery: | EL6: =EZ34+EZ65+EZ96+EZ127+EZ158+EZ189+EZ220+EZ251+EZ282+EZ313+EZ344+EZ375 -> 0 | FE6: Representative Yearly Number of Hours where forecasted schedules for Energy Storage charging/discharging exceed the Storage Capacity: | FT6: =GI34+GI65+GI96+GI127+GI158+GI189+GI220+GI251+GI282+GI313+GI344+GI375 -> 0
C7: You must insert an Hourly Profile, to the right in Part V(a)(i). This table will be populated automatically. | W7: JANUARY | AA7: =IF(OR(ResType="Land Based Wind",ResType="Off Shore Wind",ResType="Solar"),"Solar and Wind units are required to provide an hourly profile specific to 2012.","") | BM7: JANUARY | DS7: JANUARY | FB7: JANUARY
B8: EXPECTED HOURLY GENERATION in MW (averaged) - 12 Months by 24 Hours For Representative Day For Each Month | BO8: =IFERROR(SUMIF(BO11:BO34,">0",BO11:BO34)/-SUMIF(BO11:BO34,"<0",BO11:BO34),"") | BP8: =IFERROR(SUMIF(BP11:BP34,">0",BP11:BP34)/-SUMIF(BP11:BP34,"<0",BP11:BP34),"") | BQ8: =IFERROR(SUMIF(BQ11:BQ34,">0",BQ11:BQ34)/-SUMIF(BQ11:BQ34,"<0",BQ11:BQ34),"") | BR8: =IFERROR(SUMIF(BR11:BR34,">0",BR11:BR34)/-SUMIF(BR11:BR34,"<0",BR11:BR34),"") | BS8: =IFERROR(SUMIF(BS11:BS34,">0",BS11:BS34)/-SUMIF(BS11:BS34,"<0",BS11:BS34),"") | BT8: =IFERROR(SUMIF(BT11:BT34,">0",BT11:BT34)/-SUMIF(BT11:BT34,"<0",BT11:BT34),"") | BU8: =IFERROR(SUMIF(BU11:BU34,">0",BU11:BU34)/-SUMIF(BU11:BU34,"<0",BU11:BU34),"") | BV8: =IFERROR(SUMIF(BV11:BV34,">0",BV11:BV34)/-SUMIF(BV11:BV34,"<0",BV11:BV34),"") | ... CS8: =IFERROR(SUMIF(CS11:CS34,">0",CS11:CS34)/-SUMIF(CS11:CS34,"<0",CS11:CS34),"")
X9: HE | Y9: 1 | Z9: 2 | AA9: 3 | AB9: 4 | AC9: 5 | AD9: 6 | AE9: 7 | AF9: 8 | AG9: 9 | AH9: 10 | AI9: 11 | AJ9: 12 | AK9: 13 | AL9: 14 | AM9: 15 | AN9: 16 | AO9: 17 | AP9: 18 | AQ9: 19 | AR9: 20 | AS9: 21 | AT9: 22 | AU9: 23 | AV9: 24 | AW9: 25 | AX9: 26 | AY9: 27 | AZ9: 28 | BA9: 29 | BB9: 30 | BC9: 31 | BD9: Month | BF9: Off-Pk | BG9: On-Peak | BH9: Off-Pk | BI9: On-Peak | BN9: HE | BO9: 1 | BP9: 2 | BQ9: 3 | BR9: 4 | BS9: 5 | BT9: 6 | BU9: 7 | BV9: 8 | BW9: 9 | BX9: 10 | BY9: 11 | BZ9: 12 | CA9: 13 | CB9: 14 | CC9: 15 | CD9: 16 | CE9: 17 | CF9: 18 | CG9: 19 | CH9: 20 | CI9: 21 | CJ9: 22 | CK9: 23 | CL9: 24 | CM9: 25 | CN9: 26 | CO9: 27 | CP9: 28 | CQ9: 29 | CR9: 30 | CS9: 31 | CT9: Month | CV9: Off-Pk | CW9: On-Peak | CX9: Charging | CY9: Discharging | DN9: VLOOKUP | DT9: HE | DU9: 1 | DV9: 2 | DW9: 3 | DX9: 4 | DY9: 5 | DZ9: 6 | EA9: 7 | EB9: 8 | EC9: 9 | ED9: 10 | EE9: 11 | EF9: 12 | EG9: 13 | EH9: 14 | EI9: 15 | EJ9: 16 | EK9: 17 | EL9: 18 | EM9: 19 | EN9: 20 | EO9: 21 | EP9: 22 | EQ9: 23 | ER9: 24 | ES9: 25 | ET9: 26 | EU9: 27 | EV9: 28 | EW9: 29 | EX9: 30 | EY9: 31 | FC9: HE | FD9: 1 | FE9: 2 | FF9: 3 | FG9: 4 | FH9: 5 | FI9: 6 | FJ9: 7 | FK9: 8 | FL9: 9 | FM9: 10 | FN9: 11 | FO9: 12 | FP9: 13 | FQ9: 14 | FR9: 15 | FS9: 16 | FT9: 17 | FU9: 18 | FV9: 19 | FW9: 20 | FX9: 21 | FY9: 22 | FZ9: 23 | GA9: 24 | GB9: 25 | GC9: 26 | GD9: 27 | GE9: 28 | GF9: 29 | GG9: 30 | GH9: 31
C10: HE | D10: Jan | E10: Feb | F10: Mar | G10: Apr | H10: May | I10: Jun | J10: Jul | K10: Aug | L10: Sep | M10: Oct | N10: Nov | O10: Dec | S10: =COUNT(D11:O34) -> 288 | T10: Cells with Contents | Y10: =VLOOKUP(WEEKDAY(CONCATENATE("1","/",Y9,"/",$AE$6)),$DN$11:$DO$17,2,FALSE) -> Sat | Z10: =VLOOKUP(WEEKDAY(CONCATENATE("1","/",Z9,"/",$AE$6)),$DN$11:$DO$17,2,FALSE) -> Sun | AA10: =VLOOKUP(WEEKDAY(CONCATENATE("1","/",AA9,"/",$AE$6)),$DN$11:$DO$17,2,FALSE) -> Mon | AB10: =VLOOKUP(WEEKDAY(CONCATENATE("1","/",AB9,"/",$AE$6)),$DN$11:$DO$17,2,FALSE) -> Tues | AC10: =VLOOKUP(WEEKDAY(CONCATENATE("1","/",AC9,"/",$AE$6)),$DN$11:$DO$17,2,FALSE) -> Wed | AD10: =VLOOKUP(WEEKDAY(CONCATENATE("1","/",AD9,"/",$AE$6)),$DN$11:$DO$17,2,FALSE) -> Thur | AE10: =VLOOKUP(WEEKDAY(CONCATENATE("1","/",AE9,"/",$AE$6)),$DN$11:$DO$17,2,FALSE) -> Fri | AF10: =Y10 -> Sat | AG10: =Z10 -> Sun | AH10: =AA10 -> Mon | AI10: =AB10 -> Tues | AJ10: =AC10 -> Wed | AK10: =AD10 -> Thur | AL10: =AE10 -> Fri | AM10: =AF10 -> Sat | ... BC10: =AV10 -> Mon | BD10: Avg | BF10: MWh | BG10: MWh | BH10: Avg | BI10: Avg | BJ10: =COUNT(Y11:BC34,Y42:AZ65,Y73:BC96,Y104:BB127,Y135:BC158,Y166:BB189,Y197:BC220,Y228:BC251,Y259:BB282,Y290:BC313,Y321:BB344,Y352:BC375) -> 0 | BK10: Cells with Contents | BO10: =Y10 -> Sat | BP10: =Z10 -> Sun | BQ10: =AA10 -> Mon | BR10: =AB10 -> Tues | BS10: =AC10 -> Wed | BT10: =AD10 -> Thur | BU10: =AE10 -> Fri | BV10: =BO10 -> Sat | BW10: =BP10 -> Sun | BX10: =BQ10 -> Mon | BY10: =BR10 -> Tues | BZ10: =BS10 -> Wed | CA10: =BT10 -> Thur | CB10: =BU10 -> Fri | CC10: =BV10 -> Sat | ... CS10: =CL10 -> Mon | CT10: Avg | CV10: MWh | CW10: MWh | CX10: Avg | CY10: Avg | CZ10: =COUNT(BO11:CS34,BO42:CP65,BO73:CS96,BO104:CR127,BO135:CS158,BO166:CR189,BO197:CS220,BO228:CS251,BO259:CR282,BO290:CS313,BO321:CR344,BO352:CS375) -> 0 | DA10: Cells with Contents | DN10: Weekday | DO10: DayofWeek | DU10: =Y10 -> Sat | DV10: =Z10 -> Sun | DW10: =AA10 -> Mon | DX10: =AB10 -> Tues | DY10: =AC10 -> Wed | DZ10: =AD10 -> Thur | EA10: =AE10 -> Fri | EB10: =DU10 -> Sat | EC10: =DV10 -> Sun | ED10: =DW10 -> Mon | EE10: =DX10 -> Tues | EF10: =DY10 -> Wed | EG10: =DZ10 -> Thur | EH10: =EA10 -> Fri | EI10: =EB10 -> Sat | ... EY10: =ER10 -> Mon | FD10: =BO10 -> Sat | FE10: =BP10 -> Sun | FF10: =BQ10 -> Mon | FG10: =BR10 -> Tues | FH10: =BS10 -> Wed | FI10: =BT10 -> Thur | FJ10: =BU10 -> Fri | FK10: =FD10 -> Sat | FL10: =FE10 -> Sun | FM10: =FF10 -> Mon | FN10: =FG10 -> Tues | FO10: =FH10 -> Wed | FP10: =FI10 -> Thur | FQ10: =FJ10 -> Fri | FR10: =FK10 -> Sat | ... GH10: =GA10 -> Mon
C11: 1 | D11: =$BD11 -> 0 | E11: =$BD42 -> 0 | F11: =$BD73 -> 0 | G11: =$BD104 -> 0 | H11: =$BD135 -> 0 | I11: =$BD166 -> 0 | J11: =$BD197 -> 0 | K11: =$BD228 -> 0 | L11: =$BD259 -> 0 | M11: =$BD290 -> 0 | N11: =$BD321 -> 0 | O11: =$BD352 -> 0 | R11: =IF(AND(S10<288,M5="12 Months by 24 Hours"),"<<< Full Matrix is Required Information","") | X11: 1 | BD11: =SUM(Y11:BC11)/COUNT(Y$9:BC$9) -> 0 | BE11: =SUM(Z11:BB11)/COUNT(Z$40:BB$40) -> 0 | BF11: =SUM($Y11:$BC11) -> 0 | BG11: 0 | BH11: =IFERROR(SUM(Y11:BC11)/COUNT(Y11:BC11),0) -> 0 | BI11: 0 | BN11: 1 | CT11: =SUM(BO11:CS11)/COUNT(BO$9:CS$9) -> 0 | CU11: =SUM(BP11:CR11)/COUNT(BP$40:CR$40) -> 0 | CV11: =SUM($Y11:$BC11) -> 0 | CW11: 0 | CX11: =SUMIF(BO11:CS11,"<0",BO11:CS11) -> 0 | CY11: =SUMIF(BO11:CS11,">0",BO11:CS11) -> 0 | DN11: 1 | DO11: Sat | DT11: 1 | DU11: =Y11+BO11 -> 0 | DV11: =Z11+BP11 -> 0 | DW11: =AA11+BQ11 -> 0 | DX11: =AB11+BR11 -> 0 | DY11: =AC11+BS11 -> 0 | DZ11: =AD11+BT11 -> 0 | EA11: =AE11+BU11 -> 0 | EB11: =AF11+BV11 -> 0 | ... EY11: =BC11+CS11 -> 0 | FC11: 1 | FD11: =IF(BO11<0,BO11,BO11/(StorEff/100)) -> #DIV/0! | FE11: =FD34+IF(BP11<0,BP11,BP11/(StorEff/100)) -> #DIV/0! | FF11: =FE34+IF(BQ11<0,BQ11,BQ11/(StorEff/100)) -> #DIV/0! | FG11: =FF34+IF(BR11<0,BR11,BR11/(StorEff/100)) -> #DIV/0! | FH11: =FG34+IF(BS11<0,BS11,BS11/(StorEff/100)) -> #DIV/0! | FI11: =FH34+IF(BT11<0,BT11,BT11/(StorEff/100)) -> #DIV/0! | FJ11: =FI34+IF(BU11<0,BU11,BU11/(StorEff/100)) -> #DIV/0! | FK11: =FJ34+IF(BV11<0,BV11,BV11/(StorEff/100)) -> #DIV/0! | FL11: =FK34+IF(BW11<0,BW11,BW11/(StorEff/100)) -> #DIV/0! | ... GH11: =GG34+IF(CS11<0,CS11,CS11/(StorEff/100)) -> #DIV/0!
C12: 2 | D12: =$BD12 -> 0 | E12: =$BD43 -> 0 | F12: =$BD74 -> 0 | G12: =$BD105 -> 0 | H12: =$BD136 -> 0 | I12: =$BD167 -> 0 | J12: =$BD198 -> 0 | K12: =$BD229 -> 0 | L12: =$BD260 -> 0 | M12: =$BD291 -> 0 | N12: =$BD322 -> 0 | O12: =$BD353 -> 0 | V12: =IF(AND(BJ10<8760,M5="Hourly Profile"),"Full Hourly Matrix is Required Information>>>","") -> Full Hourly Matrix is Required Information>>> | X12: 2 | BD12: =SUM(Y12:BC12)/COUNT(Y$9:BC$9) -> 0 | BE12: =SUM(Z12:BB12)/COUNT(Z$40:BB$40) -> 0 | BF12: =SUM($Y12:$BC12) -> 0 | BG12: 0 | BH12: =IFERROR(SUM(Y12:BC12)/COUNT(Y12:BC12),0) -> 0 | BI12: 0 | BN12: 2 | CT12: =SUM(BO12:CS12)/COUNT(BO$9:CS$9) -> 0 | CU12: =SUM(BP12:CR12)/COUNT(BP$40:CR$40) -> 0 | CV12: =SUM($Y12:$BC12) -> 0 | CW12: 0 | CX12: =SUMIF(BO12:CS12,"<0",BO12:CS12) -> 0 | CY12: =SUMIF(BO12:CS12,">0",BO12:CS12) -> 0 | DN12: 2 | DO12: Sun | DT12: 2 | DU12: =Y12+BO12 -> 0 | DV12: =Z12+BP12 -> 0 | DW12: =AA12+BQ12 -> 0 | DX12: =AB12+BR12 -> 0 | DY12: =AC12+BS12 -> 0 | DZ12: =AD12+BT12 -> 0 | EA12: =AE12+BU12 -> 0 | EB12: =AF12+BV12 -> 0 | ... EY12: =BC12+CS12 -> 0 | FC12: 2 | FD12: =FD11+IF(BO12<0,BO12,BO12/(StorEff/100)) -> #DIV/0! | FE12: =FE11+IF(BP12<0,BP12,BP12/(StorEff/100)) -> #DIV/0! | FF12: =FF11+IF(BQ12<0,BQ12,BQ12/(StorEff/100)) -> #DIV/0! | FG12: =FG11+IF(BR12<0,BR12,BR12/(StorEff/100)) -> #DIV/0! | FH12: =FH11+IF(BS12<0,BS12,BS12/(StorEff/100)) -> #DIV/0! | FI12: =FI11+IF(BT12<0,BT12,BT12/(StorEff/100)) -> #DIV/0! | FJ12: =FJ11+IF(BU12<0,BU12,BU12/(StorEff/100)) -> #DIV/0! | FK12: =FK11+IF(BV12<0,BV12,BV12/(StorEff/100)) -> #DIV/0! | ... GH12: =GH11+IF(CS12<0,CS12,CS12/(StorEff/100)) -> #DIV/0!
C13: 3 | D13: =$BD13 -> 0 | E13: =$BD44 -> 0 | F13: =$BD75 -> 0 | G13: =$BD106 -> 0 | H13: =$BD137 -> 0 | I13: =$BD168 -> 0 | J13: =$BD199 -> 0 | K13: =$BD230 -> 0 | L13: =$BD261 -> 0 | M13: =$BD292 -> 0 | N13: =$BD323 -> 0 | O13: =$BD354 -> 0 | X13: 3 | BD13: =SUM(Y13:BC13)/COUNT(Y$9:BC$9) -> 0 | BE13: =SUM(Z13:BB13)/COUNT(Z$40:BB$40) -> 0 | BF13: =SUM($Y13:$BC13) -> 0 | BG13: 0 | BH13: =IFERROR(SUM(Y13:BC13)/COUNT(Y13:BC13),0) -> 0 | BI13: 0 | BN13: 3 | CT13: =SUM(BO13:CS13)/COUNT(BO$9:CS$9) -> 0 | CU13: =SUM(BP13:CR13)/COUNT(BP$40:CR$40) -> 0 | CV13: =SUM($Y13:$BC13) -> 0 | CW13: 0 | CX13: =SUMIF(BO13:CS13,"<0",BO13:CS13) -> 0 | CY13: =SUMIF(BO13:CS13,">0",BO13:CS13) -> 0 | DN13: 3 | DO13: Mon | DT13: 3 | DU13: =Y13+BO13 -> 0 | DV13: =Z13+BP13 -> 0 | DW13: =AA13+BQ13 -> 0 | DX13: =AB13+BR13 -> 0 | DY13: =AC13+BS13 -> 0 | DZ13: =AD13+BT13 -> 0 | EA13: =AE13+BU13 -> 0 | EB13: =AF13+BV13 -> 0 | ... EY13: =BC13+CS13 -> 0 | FC13: 3 | FD13: =FD12+IF(BO13<0,BO13,BO13/(StorEff/100)) -> #DIV/0! | FE13: =FE12+IF(BP13<0,BP13,BP13/(StorEff/100)) -> #DIV/0! | FF13: =FF12+IF(BQ13<0,BQ13,BQ13/(StorEff/100)) -> #DIV/0! | FG13: =FG12+IF(BR13<0,BR13,BR13/(StorEff/100)) -> #DIV/0! | FH13: =FH12+IF(BS13<0,BS13,BS13/(StorEff/100)) -> #DIV/0! | FI13: =FI12+IF(BT13<0,BT13,BT13/(StorEff/100)) -> #DIV/0! | FJ13: =FJ12+IF(BU13<0,BU13,BU13/(StorEff/100)) -> #DIV/0! | FK13: =FK12+IF(BV13<0,BV13,BV13/(StorEff/100)) -> #DIV/0! | ... GH13: =GH12+IF(CS13<0,CS13,CS13/(StorEff/100)) -> #DIV/0!
C14: 4 | D14: =$BD14 -> 0 | E14: =$BD45 -> 0 | F14: =$BD76 -> 0 | G14: =$BD107 -> 0 | H14: =$BD138 -> 0 | I14: =$BD169 -> 0 | J14: =$BD200 -> 0 | K14: =$BD231 -> 0 | L14: =$BD262 -> 0 | M14: =$BD293 -> 0 | N14: =$BD324 -> 0 | O14: =$BD355 -> 0 | V14: =IF(DA380>0,CONCATENATE("(",DA380,") Hours above Maximum Discharge Rate>>>"),"") | X14: 4 | BD14: =SUM(Y14:BC14)/COUNT(Y$9:BC$9) -> 0 | BE14: =SUM(Z14:BB14)/COUNT(Z$40:BB$40) -> 0 | BF14: =SUM($Y14:$BC14) -> 0 | BG14: 0 | BH14: =IFERROR(SUM(Y14:BC14)/COUNT(Y14:BC14),0) -> 0 | BI14: 0 | BN14: 4 | CT14: =SUM(BO14:CS14)/COUNT(BO$9:CS$9) -> 0 | CU14: =SUM(BP14:CR14)/COUNT(BP$40:CR$40) -> 0 | CV14: =SUM($Y14:$BC14) -> 0 | CW14: 0 | CX14: =SUMIF(BO14:CS14,"<0",BO14:CS14) -> 0 | CY14: =SUMIF(BO14:CS14,">0",BO14:CS14) -> 0 | DN14: 4 | DO14: Tues | DT14: 4 | DU14: =Y14+BO14 -> 0 | DV14: =Z14+BP14 -> 0 | DW14: =AA14+BQ14 -> 0 | DX14: =AB14+BR14 -> 0 | DY14: =AC14+BS14 -> 0 | DZ14: =AD14+BT14 -> 0 | EA14: =AE14+BU14 -> 0 | EB14: =AF14+BV14 -> 0 | ... EY14: =BC14+CS14 -> 0 | FC14: 4 | FD14: =FD13+IF(BO14<0,BO14,BO14/(StorEff/100)) -> #DIV/0! | FE14: =FE13+IF(BP14<0,BP14,BP14/(StorEff/100)) -> #DIV/0! | FF14: =FF13+IF(BQ14<0,BQ14,BQ14/(StorEff/100)) -> #DIV/0! | FG14: =FG13+IF(BR14<0,BR14,BR14/(StorEff/100)) -> #DIV/0! | FH14: =FH13+IF(BS14<0,BS14,BS14/(StorEff/100)) -> #DIV/0! | FI14: =FI13+IF(BT14<0,BT14,BT14/(StorEff/100)) -> #DIV/0! | FJ14: =FJ13+IF(BU14<0,BU14,BU14/(StorEff/100)) -> #DIV/0! | FK14: =FK13+IF(BV14<0,BV14,BV14/(StorEff/100)) -> #DIV/0! | ... GH14: =GH13+IF(CS14<0,CS14,CS14/(StorEff/100)) -> #DIV/0!
C15: 5 | D15: =$BD15 -> 0 | E15: =$BD46 -> 0 | F15: =$BD77 -> 0 | G15: =$BD108 -> 0 | H15: =$BD139 -> 0 | I15: =$BD170 -> 0 | J15: =$BD201 -> 0 | K15: =$BD232 -> 0 | L15: =$BD263 -> 0 | M15: =$BD294 -> 0 | N15: =$BD325 -> 0 | O15: =$BD356 -> 0 | X15: 5 | BD15: =SUM(Y15:BC15)/COUNT(Y$9:BC$9) -> 0 | BE15: =SUM(Z15:BB15)/COUNT(Z$40:BB$40) -> 0 | BF15: =SUM($Y15:$BC15) -> 0 | BG15: 0 | BH15: =IFERROR(SUM(Y15:BC15)/COUNT(Y15:BC15),0) -> 0 | BI15: 0 | BN15: 5 | CT15: =SUM(BO15:CS15)/COUNT(BO$9:CS$9) -> 0 | CU15: =SUM(BP15:CR15)/COUNT(BP$40:CR$40) -> 0 | CV15: =SUM($Y15:$BC15) -> 0 | CW15: 0 | CX15: =SUMIF(BO15:CS15,"<0",BO15:CS15) -> 0 | CY15: =SUMIF(BO15:CS15,">0",BO15:CS15) -> 0 | DN15: 5 | DO15: Wed | DT15: 5 | DU15: =Y15+BO15 -> 0 | DV15: =Z15+BP15 -> 0 | DW15: =AA15+BQ15 -> 0 | DX15: =AB15+BR15 -> 0 | DY15: =AC15+BS15 -> 0 | DZ15: =AD15+BT15 -> 0 | EA15: =AE15+BU15 -> 0 | EB15: =AF15+BV15 -> 0 | ... EY15: =BC15+CS15 -> 0 | FC15: 5 | FD15: =FD14+IF(BO15<0,BO15,BO15/(StorEff/100)) -> #DIV/0! | FE15: =FE14+IF(BP15<0,BP15,BP15/(StorEff/100)) -> #DIV/0! | FF15: =FF14+IF(BQ15<0,BQ15,BQ15/(StorEff/100)) -> #DIV/0! | FG15: =FG14+IF(BR15<0,BR15,BR15/(StorEff/100)) -> #DIV/0! | FH15: =FH14+IF(BS15<0,BS15,BS15/(StorEff/100)) -> #DIV/0! | FI15: =FI14+IF(BT15<0,BT15,BT15/(StorEff/100)) -> #DIV/0! | FJ15: =FJ14+IF(BU15<0,BU15,BU15/(StorEff/100)) -> #DIV/0! | FK15: =FK14+IF(BV15<0,BV15,BV15/(StorEff/100)) -> #DIV/0! | ... GH15: =GH14+IF(CS15<0,CS15,CS15/(StorEff/100)) -> #DIV/0!
C16: 6 | D16: =$BD16 -> 0 | E16: =$BD47 -> 0 | F16: =$BD78 -> 0 | G16: =$BD109 -> 0 | H16: =$BD140 -> 0 | I16: =$BD171 -> 0 | J16: =$BD202 -> 0 | K16: =$BD233 -> 0 | L16: =$BD264 -> 0 | M16: =$BD295 -> 0 | N16: =$BD326 -> 0 | O16: =$BD357 -> 0 | V16: =IF(DA381>0,CONCATENATE("(",DA381,") Hours below Maximum Charge Rate>>>"),"") | X16: 6 | BD16: =SUM(Y16:BC16)/COUNT(Y$9:BC$9) -> 0 | BE16: =SUM(Z16:BB16)/COUNT(Z$40:BB$40) -> 0 | BF16: =SUM($Y16:$BC16) -> 0 | BG16: 0 | BH16: =IFERROR(SUM(Y16:BC16)/COUNT(Y16:BC16),0) -> 0 | BI16: 0 | BN16: 6 | CT16: =SUM(BO16:CS16)/COUNT(BO$9:CS$9) -> 0 | CU16: =SUM(BP16:CR16)/COUNT(BP$40:CR$40) -> 0 | CV16: =SUM($Y16:$BC16) -> 0 | CW16: 0 | CX16: =SUMIF(BO16:CS16,"<0",BO16:CS16) -> 0 | CY16: =SUMIF(BO16:CS16,">0",BO16:CS16) -> 0 | DN16: 6 | DO16: Thur | DT16: 6 | DU16: =Y16+BO16 -> 0 | DV16: =Z16+BP16 -> 0 | DW16: =AA16+BQ16 -> 0 | DX16: =AB16+BR16 -> 0 | DY16: =AC16+BS16 -> 0 | DZ16: =AD16+BT16 -> 0 | EA16: =AE16+BU16 -> 0 | EB16: =AF16+BV16 -> 0 | ... EY16: =BC16+CS16 -> 0 | FC16: 6 | FD16: =FD15+IF(BO16<0,BO16,BO16/(StorEff/100)) -> #DIV/0! | FE16: =FE15+IF(BP16<0,BP16,BP16/(StorEff/100)) -> #DIV/0! | FF16: =FF15+IF(BQ16<0,BQ16,BQ16/(StorEff/100)) -> #DIV/0! | FG16: =FG15+IF(BR16<0,BR16,BR16/(StorEff/100)) -> #DIV/0! | FH16: =FH15+IF(BS16<0,BS16,BS16/(StorEff/100)) -> #DIV/0! | FI16: =FI15+IF(BT16<0,BT16,BT16/(StorEff/100)) -> #DIV/0! | FJ16: =FJ15+IF(BU16<0,BU16,BU16/(StorEff/100)) -> #DIV/0! | FK16: =FK15+IF(BV16<0,BV16,BV16/(StorEff/100)) -> #DIV/0! | ... GH16: =GH15+IF(CS16<0,CS16,CS16/(StorEff/100)) -> #DIV/0!
C17: 7 | D17: =$BD17 -> 0 | E17: =$BD48 -> 0 | F17: =$BD79 -> 0 | G17: =$BD110 -> 0 | H17: =$BD141 -> 0 | I17: =$BD172 -> 0 | J17: =$BD203 -> 0 | K17: =$BD234 -> 0 | L17: =$BD265 -> 0 | M17: =$BD296 -> 0 | N17: =$BD327 -> 0 | O17: =$BD358 -> 0 | X17: 7 | BD17: =SUM(Y17:BC17)/COUNT(Y$9:BC$9) -> 0 | BE17: =SUM(Z17:BB17)/COUNT(Z$40:BB$40) -> 0 | BF17: =SUM($Y17:$BC17) -> 0 | BG17: 0 | BH17: =IFERROR(SUM(Y17:BC17)/COUNT(Y17:BC17),0) -> 0 | BI17: 0 | BN17: 7 | CT17: =SUM(BO17:CS17)/COUNT(BO$9:CS$9) -> 0 | CU17: =SUM(BP17:CR17)/COUNT(BP$40:CR$40) -> 0 | CV17: =SUM($Y17:$BC17) -> 0 | CW17: 0 | CX17: =SUMIF(BO17:CS17,"<0",BO17:CS17) -> 0 | CY17: =SUMIF(BO17:CS17,">0",BO17:CS17) -> 0 | DN17: 7 | DO17: Fri | DT17: 7 | DU17: =Y17+BO17 -> 0 | DV17: =Z17+BP17 -> 0 | DW17: =AA17+BQ17 -> 0 | DX17: =AB17+BR17 -> 0 | DY17: =AC17+BS17 -> 0 | DZ17: =AD17+BT17 -> 0 | EA17: =AE17+BU17 -> 0 | EB17: =AF17+BV17 -> 0 | ... EY17: =BC17+CS17 -> 0 | FC17: 7 | FD17: =FD16+IF(BO17<0,BO17,BO17/(StorEff/100)) -> #DIV/0! | FE17: =FE16+IF(BP17<0,BP17,BP17/(StorEff/100)) -> #DIV/0! | FF17: =FF16+IF(BQ17<0,BQ17,BQ17/(StorEff/100)) -> #DIV/0! | FG17: =FG16+IF(BR17<0,BR17,BR17/(StorEff/100)) -> #DIV/0! | FH17: =FH16+IF(BS17<0,BS17,BS17/(StorEff/100)) -> #DIV/0! | FI17: =FI16+IF(BT17<0,BT17,BT17/(StorEff/100)) -> #DIV/0! | FJ17: =FJ16+IF(BU17<0,BU17,BU17/(StorEff/100)) -> #DIV/0! | FK17: =FK16+IF(BV17<0,BV17,BV17/(StorEff/100)) -> #DIV/0! | ... GH17: =GH16+IF(CS17<0,CS17,CS17/(StorEff/100)) -> #DIV/0!
C18: 8 | D18: =$BD18 -> 0 | E18: =$BD49 -> 0 | F18: =$BD80 -> 0 | G18: =$BD111 -> 0 | H18: =$BD142 -> 0 | I18: =$BD173 -> 0 | J18: =$BD204 -> 0 | K18: =$BD235 -> 0 | L18: =$BD266 -> 0 | M18: =$BD297 -> 0 | N18: =$BD328 -> 0 | O18: =$BD359 -> 0 | V18: =IF(EL6>0,CONCATENATE("(",EL6,") Hours with a Negative Net Delivery>>>"),"") | X18: 8 | BD18: =SUM(Y18:BC18)/COUNT(Y$9:BC$9) -> 0 | BE18: =SUM(Z18:BB18)/COUNT(Z$40:BB$40) -> 0 | BF18: =(SUMIF($Y$10:$BC$10,"Sat",$Y18:$BC18)+SUMIF($Y$10:$BC$10,"Sun",$Y18:$BC18)) -> 0 | BG18: =(SUM($Y18:$BC18)-(SUMIF($Y$10:$BC$10,"Sat",$Y18:$BC18)+SUMIF($Y$10:$BC$10,"Sun",$Y18:$BC18))) -> 0 | BH18: =(SUMIF($Y$10:$BC$10,"Sat",$Y18:$BC18)+SUMIF($Y$10:$BC$10,"Sun",$Y18:$BC18))/(COUNTIF($Y$10:$BC$10,"Sat")+COUNTIF($Y$10:$BC$10,"Sun")) -> 0 | BI18: =(SUM($Y18:$BC18)-(SUMIF($Y$10:$BC$10,"Sat",$Y18:$BC18)+SUMIF($Y$10:$BC$10,"Sun",$Y18:$BC18)))/(COUNT(Y18:BC18)-(COUNTIF($Y$10:$BC$10,"Sat")+COUNTIF($Y$10:$BC$10,"Sun"))) -> 0 | BN18: 8 | CT18: =SUM(BO18:CS18)/COUNT(BO$9:CS$9) -> 0 | CU18: =SUM(BP18:CR18)/COUNT(BP$40:CR$40) -> 0 | CV18: =(SUMIF($Y$10:$BC$10,"Sat",$Y18:$BC18)+SUMIF($Y$10:$BC$10,"Sun",$Y18:$BC18)) -> 0 | CW18: =(SUM($Y18:$BC18)-(SUMIF($Y$10:$BC$10,"Sat",$Y18:$BC18)+SUMIF($Y$10:$BC$10,"Sun",$Y18:$BC18))) -> 0 | CX18: =SUMIF(BO18:CS18,"<0",BO18:CS18) -> 0 | CY18: =SUMIF(BO18:CS18,">0",BO18:CS18) -> 0 | DT18: 8 | DU18: =Y18+BO18 -> 0 | DV18: =Z18+BP18 -> 0 | DW18: =AA18+BQ18 -> 0 | DX18: =AB18+BR18 -> 0 | DY18: =AC18+BS18 -> 0 | DZ18: =AD18+BT18 -> 0 | EA18: =AE18+BU18 -> 0 | EB18: =AF18+BV18 -> 0 | ... EY18: =BC18+CS18 -> 0 | FC18: 8 | FD18: =FD17+IF(BO18<0,BO18,BO18/(StorEff/100)) -> #DIV/0! | FE18: =FE17+IF(BP18<0,BP18,BP18/(StorEff/100)) -> #DIV/0! | FF18: =FF17+IF(BQ18<0,BQ18,BQ18/(StorEff/100)) -> #DIV/0! | FG18: =FG17+IF(BR18<0,BR18,BR18/(StorEff/100)) -> #DIV/0! | FH18: =FH17+IF(BS18<0,BS18,BS18/(StorEff/100)) -> #DIV/0! | FI18: =FI17+IF(BT18<0,BT18,BT18/(StorEff/100)) -> #DIV/0! | FJ18: =FJ17+IF(BU18<0,BU18,BU18/(StorEff/100)) -> #DIV/0! | FK18: =FK17+IF(BV18<0,BV18,BV18/(StorEff/100)) -> #DIV/0! | ... GH18: =GH17+IF(CS18<0,CS18,CS18/(StorEff/100)) -> #DIV/0!
C19: 9 | D19: =$BD19 -> 0 | E19: =$BD50 -> 0 | F19: =$BD81 -> 0 | G19: =$BD112 -> 0 | H19: =$BD143 -> 0 | I19: =$BD174 -> 0 | J19: =$BD205 -> 0 | K19: =$BD236 -> 0 | L19: =$BD267 -> 0 | M19: =$BD298 -> 0 | N19: =$BD329 -> 0 | O19: =$BD360 -> 0 | X19: 9 | BD19: =SUM(Y19:BC19)/COUNT(Y$9:BC$9) -> 0 | BE19: =SUM(Z19:BB19)/COUNT(Z$40:BB$40) -> 0 | BF19: =(SUMIF($Y$10:$BC$10,"Sat",$Y19:$BC19)+SUMIF($Y$10:$BC$10,"Sun",$Y19:$BC19)) -> 0 | BG19: =(SUM($Y19:$BC19)-(SUMIF($Y$10:$BC$10,"Sat",$Y19:$BC19)+SUMIF($Y$10:$BC$10,"Sun",$Y19:$BC19))) -> 0 | BH19: =(SUMIF($Y$10:$BC$10,"Sat",$Y19:$BC19)+SUMIF($Y$10:$BC$10,"Sun",$Y19:$BC19))/(COUNTIF($Y$10:$BC$10,"Sat")+COUNTIF($Y$10:$BC$10,"Sun")) -> 0 | BI19: =(SUM($Y19:$BC19)-(SUMIF($Y$10:$BC$10,"Sat",$Y19:$BC19)+SUMIF($Y$10:$BC$10,"Sun",$Y19:$BC19)))/(COUNT(Y19:BC19)-(COUNTIF($Y$10:$BC$10,"Sat")+COUNTIF($Y$10:$BC$10,"Sun"))) -> 0 | BN19: 9 | CT19: =SUM(BO19:CS19)/COUNT(BO$9:CS$9) -> 0 | CU19: =SUM(BP19:CR19)/COUNT(BP$40:CR$40) -> 0 | CV19: =(SUMIF($Y$10:$BC$10,"Sat",$Y19:$BC19)+SUMIF($Y$10:$BC$10,"Sun",$Y19:$BC19)) -> 0 | CW19: =(SUM($Y19:$BC19)-(SUMIF($Y$10:$BC$10,"Sat",$Y19:$BC19)+SUMIF($Y$10:$BC$10,"Sun",$Y19:$BC19))) -> 0 | CX19: =SUMIF(BO19:CS19,"<0",BO19:CS19) -> 0 | CY19: =SUMIF(BO19:CS19,">0",BO19:CS19) -> 0 | DT19: 9 | DU19: =Y19+BO19 -> 0 | DV19: =Z19+BP19 -> 0 | DW19: =AA19+BQ19 -> 0 | DX19: =AB19+BR19 -> 0 | DY19: =AC19+BS19 -> 0 | DZ19: =AD19+BT19 -> 0 | EA19: =AE19+BU19 -> 0 | EB19: =AF19+BV19 -> 0 | ... EY19: =BC19+CS19 -> 0 | FC19: 9 | FD19: =FD18+IF(BO19<0,BO19,BO19/(StorEff/100)) -> #DIV/0! | FE19: =FE18+IF(BP19<0,BP19,BP19/(StorEff/100)) -> #DIV/0! | FF19: =FF18+IF(BQ19<0,BQ19,BQ19/(StorEff/100)) -> #DIV/0! | FG19: =FG18+IF(BR19<0,BR19,BR19/(StorEff/100)) -> #DIV/0! | FH19: =FH18+IF(BS19<0,BS19,BS19/(StorEff/100)) -> #DIV/0! | FI19: =FI18+IF(BT19<0,BT19,BT19/(StorEff/100)) -> #DIV/0! | FJ19: =FJ18+IF(BU19<0,BU19,BU19/(StorEff/100)) -> #DIV/0! | FK19: =FK18+IF(BV19<0,BV19,BV19/(StorEff/100)) -> #DIV/0! | ... GH19: =GH18+IF(CS19<0,CS19,CS19/(StorEff/100)) -> #DIV/0!
C20: 10 | D20: =$BD20 -> 0 | E20: =$BD51 -> 0 | F20: =$BD82 -> 0 | G20: =$BD113 -> 0 | H20: =$BD144 -> 0 | I20: =$BD175 -> 0 | J20: =$BD206 -> 0 | K20: =$BD237 -> 0 | L20: =$BD268 -> 0 | M20: =$BD299 -> 0 | N20: =$BD330 -> 0 | O20: =$BD361 -> 0 | X20: 10 | BD20: =SUM(Y20:BC20)/COUNT(Y$9:BC$9) -> 0 | BE20: =SUM(Z20:BB20)/COUNT(Z$40:BB$40) -> 0 | BF20: =(SUMIF($Y$10:$BC$10,"Sat",$Y20:$BC20)+SUMIF($Y$10:$BC$10,"Sun",$Y20:$BC20)) -> 0 | BG20: =(SUM($Y20:$BC20)-(SUMIF($Y$10:$BC$10,"Sat",$Y20:$BC20)+SUMIF($Y$10:$BC$10,"Sun",$Y20:$BC20))) -> 0 | BH20: =(SUMIF($Y$10:$BC$10,"Sat",$Y20:$BC20)+SUMIF($Y$10:$BC$10,"Sun",$Y20:$BC20))/(COUNTIF($Y$10:$BC$10,"Sat")+COUNTIF($Y$10:$BC$10,"Sun")) -> 0 | BI20: =(SUM($Y20:$BC20)-(SUMIF($Y$10:$BC$10,"Sat",$Y20:$BC20)+SUMIF($Y$10:$BC$10,"Sun",$Y20:$BC20)))/(COUNT(Y20:BC20)-(COUNTIF($Y$10:$BC$10,"Sat")+COUNTIF($Y$10:$BC$10,"Sun"))) -> 0 | BN20: 10 | CT20: =SUM(BO20:CS20)/COUNT(BO$9:CS$9) -> 0 | CU20: =SUM(BP20:CR20)/COUNT(BP$40:CR$40) -> 0 | CV20: =(SUMIF($Y$10:$BC$10,"Sat",$Y20:$BC20)+SUMIF($Y$10:$BC$10,"Sun",$Y20:$BC20)) -> 0 | CW20: =(SUM($Y20:$BC20)-(SUMIF($Y$10:$BC$10,"Sat",$Y20:$BC20)+SUMIF($Y$10:$BC$10,"Sun",$Y20:$BC20))) -> 0 | CX20: =SUMIF(BO20:CS20,"<0",BO20:CS20) -> 0 | CY20: =SUMIF(BO20:CS20,">0",BO20:CS20) -> 0 | DT20: 10 | DU20: =Y20+BO20 -> 0 | DV20: =Z20+BP20 -> 0 | DW20: =AA20+BQ20 -> 0 | DX20: =AB20+BR20 -> 0 | DY20: =AC20+BS20 -> 0 | DZ20: =AD20+BT20 -> 0 | EA20: =AE20+BU20 -> 0 | EB20: =AF20+BV20 -> 0 | ... EY20: =BC20+CS20 -> 0 | FC20: 10 | FD20: =FD19+IF(BO20<0,BO20,BO20/(StorEff/100)) -> #DIV/0! | FE20: =FE19+IF(BP20<0,BP20,BP20/(StorEff/100)) -> #DIV/0! | FF20: =FF19+IF(BQ20<0,BQ20,BQ20/(StorEff/100)) -> #DIV/0! | FG20: =FG19+IF(BR20<0,BR20,BR20/(StorEff/100)) -> #DIV/0! | FH20: =FH19+IF(BS20<0,BS20,BS20/(StorEff/100)) -> #DIV/0! | FI20: =FI19+IF(BT20<0,BT20,BT20/(StorEff/100)) -> #DIV/0! | FJ20: =FJ19+IF(BU20<0,BU20,BU20/(StorEff/100)) -> #DIV/0! | FK20: =FK19+IF(BV20<0,BV20,BV20/(StorEff/100)) -> #DIV/0! | ... GH20: =GH19+IF(CS20<0,CS20,CS20/(StorEff/100)) -> #DIV/0!
C21: 11 | D21: =$BD21 -> 0 | E21: =$BD52 -> 0 | F21: =$BD83 -> 0 | G21: =$BD114 -> 0 | H21: =$BD145 -> 0 | I21: =$BD176 -> 0 | J21: =$BD207 -> 0 | K21: =$BD238 -> 0 | L21: =$BD269 -> 0 | M21: =$BD300 -> 0 | N21: =$BD331 -> 0 | O21: =$BD362 -> 0 | X21: 11 | BD21: =SUM(Y21:BC21)/COUNT(Y$9:BC$9) -> 0 | BE21: =SUM(Z21:BB21)/COUNT(Z$40:BB$40) -> 0 | BF21: =(SUMIF($Y$10:$BC$10,"Sat",$Y21:$BC21)+SUMIF($Y$10:$BC$10,"Sun",$Y21:$BC21)) -> 0 | BG21: =(SUM($Y21:$BC21)-(SUMIF($Y$10:$BC$10,"Sat",$Y21:$BC21)+SUMIF($Y$10:$BC$10,"Sun",$Y21:$BC21))) -> 0 | BH21: =(SUMIF($Y$10:$BC$10,"Sat",$Y21:$BC21)+SUMIF($Y$10:$BC$10,"Sun",$Y21:$BC21))/(COUNTIF($Y$10:$BC$10,"Sat")+COUNTIF($Y$10:$BC$10,"Sun")) -> 0 | BI21: =(SUM($Y21:$BC21)-(SUMIF($Y$10:$BC$10,"Sat",$Y21:$BC21)+SUMIF($Y$10:$BC$10,"Sun",$Y21:$BC21)))/(COUNT(Y21:BC21)-(COUNTIF($Y$10:$BC$10,"Sat")+COUNTIF($Y$10:$BC$10,"Sun"))) -> 0 | BN21: 11 | CT21: =SUM(BO21:CS21)/COUNT(BO$9:CS$9) -> 0 | CU21: =SUM(BP21:CR21)/COUNT(BP$40:CR$40) -> 0 | CV21: =(SUMIF($Y$10:$BC$10,"Sat",$Y21:$BC21)+SUMIF($Y$10:$BC$10,"Sun",$Y21:$BC21)) -> 0 | CW21: =(SUM($Y21:$BC21)-(SUMIF($Y$10:$BC$10,"Sat",$Y21:$BC21)+SUMIF($Y$10:$BC$10,"Sun",$Y21:$BC21))) -> 0 | CX21: =SUMIF(BO21:CS21,"<0",BO21:CS21) -> 0 | CY21: =SUMIF(BO21:CS21,">0",BO21:CS21) -> 0 | DT21: 11 | DU21: =Y21+BO21 -> 0 | DV21: =Z21+BP21 -> 0 | DW21: =AA21+BQ21 -> 0 | DX21: =AB21+BR21 -> 0 | DY21: =AC21+BS21 -> 0 | DZ21: =AD21+BT21 -> 0 | EA21: =AE21+BU21 -> 0 | EB21: =AF21+BV21 -> 0 | ... EY21: =BC21+CS21 -> 0 | FC21: 11 | FD21: =FD20+IF(BO21<0,BO21,BO21/(StorEff/100)) -> #DIV/0! | FE21: =FE20+IF(BP21<0,BP21,BP21/(StorEff/100)) -> #DIV/0! | FF21: =FF20+IF(BQ21<0,BQ21,BQ21/(StorEff/100)) -> #DIV/0! | FG21: =FG20+IF(BR21<0,BR21,BR21/(StorEff/100)) -> #DIV/0! | FH21: =FH20+IF(BS21<0,BS21,BS21/(StorEff/100)) -> #DIV/0! | FI21: =FI20+IF(BT21<0,BT21,BT21/(StorEff/100)) -> #DIV/0! | FJ21: =FJ20+IF(BU21<0,BU21,BU21/(StorEff/100)) -> #DIV/0! | FK21: =FK20+IF(BV21<0,BV21,BV21/(StorEff/100)) -> #DIV/0! | ... GH21: =GH20+IF(CS21<0,CS21,CS21/(StorEff/100)) -> #DIV/0!
C22: 12 | D22: =$BD22 -> 0 | E22: =$BD53 -> 0 | F22: =$BD84 -> 0 | G22: =$BD115 -> 0 | H22: =$BD146 -> 0 | I22: =$BD177 -> 0 | J22: =$BD208 -> 0 | K22: =$BD239 -> 0 | L22: =$BD270 -> 0 | M22: =$BD301 -> 0 | N22: =$BD332 -> 0 | O22: =$BD363 -> 0 | X22: 12 | BD22: =SUM(Y22:BC22)/COUNT(Y$9:BC$9) -> 0 | BE22: =SUM(Z22:BB22)/COUNT(Z$40:BB$40) -> 0 | BF22: =(SUMIF($Y$10:$BC$10,"Sat",$Y22:$BC22)+SUMIF($Y$10:$BC$10,"Sun",$Y22:$BC22)) -> 0 | BG22: =(SUM($Y22:$BC22)-(SUMIF($Y$10:$BC$10,"Sat",$Y22:$BC22)+SUMIF($Y$10:$BC$10,"Sun",$Y22:$BC22))) -> 0 | BH22: =(SUMIF($Y$10:$BC$10,"Sat",$Y22:$BC22)+SUMIF($Y$10:$BC$10,"Sun",$Y22:$BC22))/(COUNTIF($Y$10:$BC$10,"Sat")+COUNTIF($Y$10:$BC$10,"Sun")) -> 0 | BI22: =(SUM($Y22:$BC22)-(SUMIF($Y$10:$BC$10,"Sat",$Y22:$BC22)+SUMIF($Y$10:$BC$10,"Sun",$Y22:$BC22)))/(COUNT(Y22:BC22)-(COUNTIF($Y$10:$BC$10,"Sat")+COUNTIF($Y$10:$BC$10,"Sun"))) -> 0 | BN22: 12 | CT22: =SUM(BO22:CS22)/COUNT(BO$9:CS$9) -> 0 | CU22: =SUM(BP22:CR22)/COUNT(BP$40:CR$40) -> 0 | CV22: =(SUMIF($Y$10:$BC$10,"Sat",$Y22:$BC22)+SUMIF($Y$10:$BC$10,"Sun",$Y22:$BC22)) -> 0 | CW22: =(SUM($Y22:$BC22)-(SUMIF($Y$10:$BC$10,"Sat",$Y22:$BC22)+SUMIF($Y$10:$BC$10,"Sun",$Y22:$BC22))) -> 0 | CX22: =SUMIF(BO22:CS22,"<0",BO22:CS22) -> 0 | CY22: =SUMIF(BO22:CS22,">0",BO22:CS22) -> 0 | DT22: 12 | DU22: =Y22+BO22 -> 0 | DV22: =Z22+BP22 -> 0 | DW22: =AA22+BQ22 -> 0 | DX22: =AB22+BR22 -> 0 | DY22: =AC22+BS22 -> 0 | DZ22: =AD22+BT22 -> 0 | EA22: =AE22+BU22 -> 0 | EB22: =AF22+BV22 -> 0 | ... EY22: =BC22+CS22 -> 0 | FC22: 12 | FD22: =FD21+IF(BO22<0,BO22,BO22/(StorEff/100)) -> #DIV/0! | FE22: =FE21+IF(BP22<0,BP22,BP22/(StorEff/100)) -> #DIV/0! | FF22: =FF21+IF(BQ22<0,BQ22,BQ22/(StorEff/100)) -> #DIV/0! | FG22: =FG21+IF(BR22<0,BR22,BR22/(StorEff/100)) -> #DIV/0! | FH22: =FH21+IF(BS22<0,BS22,BS22/(StorEff/100)) -> #DIV/0! | FI22: =FI21+IF(BT22<0,BT22,BT22/(StorEff/100)) -> #DIV/0! | FJ22: =FJ21+IF(BU22<0,BU22,BU22/(StorEff/100)) -> #DIV/0! | FK22: =FK21+IF(BV22<0,BV22,BV22/(StorEff/100)) -> #DIV/0! | ... GH22: =GH21+IF(CS22<0,CS22,CS22/(StorEff/100)) -> #DIV/0!
C23: 13 | D23: =$BD23 -> 0 | E23: =$BD54 -> 0 | F23: =$BD85 -> 0 | G23: =$BD116 -> 0 | H23: =$BD147 -> 0 | I23: =$BD178 -> 0 | J23: =$BD209 -> 0 | K23: =$BD240 -> 0 | L23: =$BD271 -> 0 | M23: =$BD302 -> 0 | N23: =$BD333 -> 0 | O23: =$BD364 -> 0 | X23: 13 | BD23: =SUM(Y23:BC23)/COUNT(Y$9:BC$9) -> 0 | BE23: =SUM(Z23:BB23)/COUNT(Z$40:BB$40) -> 0 | BF23: =(SUMIF($Y$10:$BC$10,"Sat",$Y23:$BC23)+SUMIF($Y$10:$BC$10,"Sun",$Y23:$BC23)) -> 0 | BG23: =(SUM($Y23:$BC23)-(SUMIF($Y$10:$BC$10,"Sat",$Y23:$BC23)+SUMIF($Y$10:$BC$10,"Sun",$Y23:$BC23))) -> 0 | BH23: =(SUMIF($Y$10:$BC$10,"Sat",$Y23:$BC23)+SUMIF($Y$10:$BC$10,"Sun",$Y23:$BC23))/(COUNTIF($Y$10:$BC$10,"Sat")+COUNTIF($Y$10:$BC$10,"Sun")) -> 0 | BI23: =(SUM($Y23:$BC23)-(SUMIF($Y$10:$BC$10,"Sat",$Y23:$BC23)+SUMIF($Y$10:$BC$10,"Sun",$Y23:$BC23)))/(COUNT(Y23:BC23)-(COUNTIF($Y$10:$BC$10,"Sat")+COUNTIF($Y$10:$BC$10,"Sun"))) -> 0 | BN23: 13 | CT23: =SUM(BO23:CS23)/COUNT(BO$9:CS$9) -> 0 | CU23: =SUM(BP23:CR23)/COUNT(BP$40:CR$40) -> 0 | CV23: =(SUMIF($Y$10:$BC$10,"Sat",$Y23:$BC23)+SUMIF($Y$10:$BC$10,"Sun",$Y23:$BC23)) -> 0 | CW23: =(SUM($Y23:$BC23)-(SUMIF($Y$10:$BC$10,"Sat",$Y23:$BC23)+SUMIF($Y$10:$BC$10,"Sun",$Y23:$BC23))) -> 0 | CX23: =SUMIF(BO23:CS23,"<0",BO23:CS23) -> 0 | CY23: =SUMIF(BO23:CS23,">0",BO23:CS23) -> 0 | DT23: 13 | DU23: =Y23+BO23 -> 0 | DV23: =Z23+BP23 -> 0 | DW23: =AA23+BQ23 -> 0 | DX23: =AB23+BR23 -> 0 | DY23: =AC23+BS23 -> 0 | DZ23: =AD23+BT23 -> 0 | EA23: =AE23+BU23 -> 0 | EB23: =AF23+BV23 -> 0 | ... EY23: =BC23+CS23 -> 0 | FC23: 13 | FD23: =FD22+IF(BO23<0,BO23,BO23/(StorEff/100)) -> #DIV/0! | FE23: =FE22+IF(BP23<0,BP23,BP23/(StorEff/100)) -> #DIV/0! | FF23: =FF22+IF(BQ23<0,BQ23,BQ23/(StorEff/100)) -> #DIV/0! | FG23: =FG22+IF(BR23<0,BR23,BR23/(StorEff/100)) -> #DIV/0! | FH23: =FH22+IF(BS23<0,BS23,BS23/(StorEff/100)) -> #DIV/0! | FI23: =FI22+IF(BT23<0,BT23,BT23/(StorEff/100)) -> #DIV/0! | FJ23: =FJ22+IF(BU23<0,BU23,BU23/(StorEff/100)) -> #DIV/0! | FK23: =FK22+IF(BV23<0,BV23,BV23/(StorEff/100)) -> #DIV/0! | ... GH23: =GH22+IF(CS23<0,CS23,CS23/(StorEff/100)) -> #DIV/0!
C24: 14 | D24: =$BD24 -> 0 | E24: =$BD55 -> 0 | F24: =$BD86 -> 0 | G24: =$BD117 -> 0 | H24: =$BD148 -> 0 | I24: =$BD179 -> 0 | J24: =$BD210 -> 0 | K24: =$BD241 -> 0 | L24: =$BD272 -> 0 | M24: =$BD303 -> 0 | N24: =$BD334 -> 0 | O24: =$BD365 -> 0 | X24: 14 | BD24: =SUM(Y24:BC24)/COUNT(Y$9:BC$9) -> 0 | BE24: =SUM(Z24:BB24)/COUNT(Z$40:BB$40) -> 0 | BF24: =(SUMIF($Y$10:$BC$10,"Sat",$Y24:$BC24)+SUMIF($Y$10:$BC$10,"Sun",$Y24:$BC24)) -> 0 | BG24: =(SUM($Y24:$BC24)-(SUMIF($Y$10:$BC$10,"Sat",$Y24:$BC24)+SUMIF($Y$10:$BC$10,"Sun",$Y24:$BC24))) -> 0 | BH24: =(SUMIF($Y$10:$BC$10,"Sat",$Y24:$BC24)+SUMIF($Y$10:$BC$10,"Sun",$Y24:$BC24))/(COUNTIF($Y$10:$BC$10,"Sat")+COUNTIF($Y$10:$BC$10,"Sun")) -> 0 | BI24: =(SUM($Y24:$BC24)-(SUMIF($Y$10:$BC$10,"Sat",$Y24:$BC24)+SUMIF($Y$10:$BC$10,"Sun",$Y24:$BC24)))/(COUNT(Y24:BC24)-(COUNTIF($Y$10:$BC$10,"Sat")+COUNTIF($Y$10:$BC$10,"Sun"))) -> 0 | BN24: 14 | CT24: =SUM(BO24:CS24)/COUNT(BO$9:CS$9) -> 0 | CU24: =SUM(BP24:CR24)/COUNT(BP$40:CR$40) -> 0 | CV24: =(SUMIF($Y$10:$BC$10,"Sat",$Y24:$BC24)+SUMIF($Y$10:$BC$10,"Sun",$Y24:$BC24)) -> 0 | CW24: =(SUM($Y24:$BC24)-(SUMIF($Y$10:$BC$10,"Sat",$Y24:$BC24)+SUMIF($Y$10:$BC$10,"Sun",$Y24:$BC24))) -> 0 | CX24: =SUMIF(BO24:CS24,"<0",BO24:CS24) -> 0 | CY24: =SUMIF(BO24:CS24,">0",BO24:CS24) -> 0 | DT24: 14 | DU24: =Y24+BO24 -> 0 | DV24: =Z24+BP24 -> 0 | DW24: =AA24+BQ24 -> 0 | DX24: =AB24+BR24 -> 0 | DY24: =AC24+BS24 -> 0 | DZ24: =AD24+BT24 -> 0 | EA24: =AE24+BU24 -> 0 | EB24: =AF24+BV24 -> 0 | ... EY24: =BC24+CS24 -> 0 | FC24: 14 | FD24: =FD23+IF(BO24<0,BO24,BO24/(StorEff/100)) -> #DIV/0! | FE24: =FE23+IF(BP24<0,BP24,BP24/(StorEff/100)) -> #DIV/0! | FF24: =FF23+IF(BQ24<0,BQ24,BQ24/(StorEff/100)) -> #DIV/0! | FG24: =FG23+IF(BR24<0,BR24,BR24/(StorEff/100)) -> #DIV/0! | FH24: =FH23+IF(BS24<0,BS24,BS24/(StorEff/100)) -> #DIV/0! | FI24: =FI23+IF(BT24<0,BT24,BT24/(StorEff/100)) -> #DIV/0! | FJ24: =FJ23+IF(BU24<0,BU24,BU24/(StorEff/100)) -> #DIV/0! | FK24: =FK23+IF(BV24<0,BV24,BV24/(StorEff/100)) -> #DIV/0! | ... GH24: =GH23+IF(CS24<0,CS24,CS24/(StorEff/100)) -> #DIV/0!
C25: 15 | D25: =$BD25 -> 0 | E25: =$BD56 -> 0 | F25: =$BD87 -> 0 | G25: =$BD118 -> 0 | H25: =$BD149 -> 0 | I25: =$BD180 -> 0 | J25: =$BD211 -> 0 | K25: =$BD242 -> 0 | L25: =$BD273 -> 0 | M25: =$BD304 -> 0 | N25: =$BD335 -> 0 | O25: =$BD366 -> 0 | X25: 15 | BD25: =SUM(Y25:BC25)/COUNT(Y$9:BC$9) -> 0 | BE25: =SUM(Z25:BB25)/COUNT(Z$40:BB$40) -> 0 | BF25: =(SUMIF($Y$10:$BC$10,"Sat",$Y25:$BC25)+SUMIF($Y$10:$BC$10,"Sun",$Y25:$BC25)) -> 0 | BG25: =(SUM($Y25:$BC25)-(SUMIF($Y$10:$BC$10,"Sat",$Y25:$BC25)+SUMIF($Y$10:$BC$10,"Sun",$Y25:$BC25))) -> 0 | BH25: =(SUMIF($Y$10:$BC$10,"Sat",$Y25:$BC25)+SUMIF($Y$10:$BC$10,"Sun",$Y25:$BC25))/(COUNTIF($Y$10:$BC$10,"Sat")+COUNTIF($Y$10:$BC$10,"Sun")) -> 0 | BI25: =(SUM($Y25:$BC25)-(SUMIF($Y$10:$BC$10,"Sat",$Y25:$BC25)+SUMIF($Y$10:$BC$10,"Sun",$Y25:$BC25)))/(COUNT(Y25:BC25)-(COUNTIF($Y$10:$BC$10,"Sat")+COUNTIF($Y$10:$BC$10,"Sun"))) -> 0 | BN25: 15 | CT25: =SUM(BO25:CS25)/COUNT(BO$9:CS$9) -> 0 | CU25: =SUM(BP25:CR25)/COUNT(BP$40:CR$40) -> 0 | CV25: =(SUMIF($Y$10:$BC$10,"Sat",$Y25:$BC25)+SUMIF($Y$10:$BC$10,"Sun",$Y25:$BC25)) -> 0 | CW25: =(SUM($Y25:$BC25)-(SUMIF($Y$10:$BC$10,"Sat",$Y25:$BC25)+SUMIF($Y$10:$BC$10,"Sun",$Y25:$BC25))) -> 0 | CX25: =SUMIF(BO25:CS25,"<0",BO25:CS25) -> 0 | CY25: =SUMIF(BO25:CS25,">0",BO25:CS25) -> 0 | DT25: 15 | DU25: =Y25+BO25 -> 0 | DV25: =Z25+BP25 -> 0 | DW25: =AA25+BQ25 -> 0 | DX25: =AB25+BR25 -> 0 | DY25: =AC25+BS25 -> 0 | DZ25: =AD25+BT25 -> 0 | EA25: =AE25+BU25 -> 0 | EB25: =AF25+BV25 -> 0 | ... EY25: =BC25+CS25 -> 0 | FC25: 15 | FD25: =FD24+IF(BO25<0,BO25,BO25/(StorEff/100)) -> #DIV/0! | FE25: =FE24+IF(BP25<0,BP25,BP25/(StorEff/100)) -> #DIV/0! | FF25: =FF24+IF(BQ25<0,BQ25,BQ25/(StorEff/100)) -> #DIV/0! | FG25: =FG24+IF(BR25<0,BR25,BR25/(StorEff/100)) -> #DIV/0! | FH25: =FH24+IF(BS25<0,BS25,BS25/(StorEff/100)) -> #DIV/0! | FI25: =FI24+IF(BT25<0,BT25,BT25/(StorEff/100)) -> #DIV/0! | FJ25: =FJ24+IF(BU25<0,BU25,BU25/(StorEff/100)) -> #DIV/0! | FK25: =FK24+IF(BV25<0,BV25,BV25/(StorEff/100)) -> #DIV/0! | ... GH25: =GH24+IF(CS25<0,CS25,CS25/(StorEff/100)) -> #DIV/0!
C26: 16 | D26: =$BD26 -> 0 | E26: =$BD57 -> 0 | F26: =$BD88 -> 0 | G26: =$BD119 -> 0 | H26: =$BD150 -> 0 | I26: =$BD181 -> 0 | J26: =$BD212 -> 0 | K26: =$BD243 -> 0 | L26: =$BD274 -> 0 | M26: =$BD305 -> 0 | N26: =$BD336 -> 0 | O26: =$BD367 -> 0 | X26: 16 | BD26: =SUM(Y26:BC26)/COUNT(Y$9:BC$9) -> 0 | BE26: =SUM(Z26:BB26)/COUNT(Z$40:BB$40) -> 0 | BF26: =(SUMIF($Y$10:$BC$10,"Sat",$Y26:$BC26)+SUMIF($Y$10:$BC$10,"Sun",$Y26:$BC26)) -> 0 | BG26: =(SUM($Y26:$BC26)-(SUMIF($Y$10:$BC$10,"Sat",$Y26:$BC26)+SUMIF($Y$10:$BC$10,"Sun",$Y26:$BC26))) -> 0 | BH26: =(SUMIF($Y$10:$BC$10,"Sat",$Y26:$BC26)+SUMIF($Y$10:$BC$10,"Sun",$Y26:$BC26))/(COUNTIF($Y$10:$BC$10,"Sat")+COUNTIF($Y$10:$BC$10,"Sun")) -> 0 | BI26: =(SUM($Y26:$BC26)-(SUMIF($Y$10:$BC$10,"Sat",$Y26:$BC26)+SUMIF($Y$10:$BC$10,"Sun",$Y26:$BC26)))/(COUNT(Y26:BC26)-(COUNTIF($Y$10:$BC$10,"Sat")+COUNTIF($Y$10:$BC$10,"Sun"))) -> 0 | BN26: 16 | CT26: =SUM(BO26:CS26)/COUNT(BO$9:CS$9) -> 0 | CU26: =SUM(BP26:CR26)/COUNT(BP$40:CR$40) -> 0 | CV26: =(SUMIF($Y$10:$BC$10,"Sat",$Y26:$BC26)+SUMIF($Y$10:$BC$10,"Sun",$Y26:$BC26)) -> 0 | CW26: =(SUM($Y26:$BC26)-(SUMIF($Y$10:$BC$10,"Sat",$Y26:$BC26)+SUMIF($Y$10:$BC$10,"Sun",$Y26:$BC26))) -> 0 | CX26: =SUMIF(BO26:CS26,"<0",BO26:CS26) -> 0 | CY26: =SUMIF(BO26:CS26,">0",BO26:CS26) -> 0 | DT26: 16 | DU26: =Y26+BO26 -> 0 | DV26: =Z26+BP26 -> 0 | DW26: =AA26+BQ26 -> 0 | DX26: =AB26+BR26 -> 0 | DY26: =AC26+BS26 -> 0 | DZ26: =AD26+BT26 -> 0 | EA26: =AE26+BU26 -> 0 | EB26: =AF26+BV26 -> 0 | ... EY26: =BC26+CS26 -> 0 | FC26: 16 | FD26: =FD25+IF(BO26<0,BO26,BO26/(StorEff/100)) -> #DIV/0! | FE26: =FE25+IF(BP26<0,BP26,BP26/(StorEff/100)) -> #DIV/0! | FF26: =FF25+IF(BQ26<0,BQ26,BQ26/(StorEff/100)) -> #DIV/0! | FG26: =FG25+IF(BR26<0,BR26,BR26/(StorEff/100)) -> #DIV/0! | FH26: =FH25+IF(BS26<0,BS26,BS26/(StorEff/100)) -> #DIV/0! | FI26: =FI25+IF(BT26<0,BT26,BT26/(StorEff/100)) -> #DIV/0! | FJ26: =FJ25+IF(BU26<0,BU26,BU26/(StorEff/100)) -> #DIV/0! | FK26: =FK25+IF(BV26<0,BV26,BV26/(StorEff/100)) -> #DIV/0! | ... GH26: =GH25+IF(CS26<0,CS26,CS26/(StorEff/100)) -> #DIV/0!
C27: 17 | D27: =$BD27 -> 0 | E27: =$BD58 -> 0 | F27: =$BD89 -> 0 | G27: =$BD120 -> 0 | H27: =$BD151 -> 0 | I27: =$BD182 -> 0 | J27: =$BD213 -> 0 | K27: =$BD244 -> 0 | L27: =$BD275 -> 0 | M27: =$BD306 -> 0 | N27: =$BD337 -> 0 | O27: =$BD368 -> 0 | X27: 17 | BD27: =SUM(Y27:BC27)/COUNT(Y$9:BC$9) -> 0 | BE27: =SUM(Z27:BB27)/COUNT(Z$40:BB$40) -> 0 | BF27: =(SUMIF($Y$10:$BC$10,"Sat",$Y27:$BC27)+SUMIF($Y$10:$BC$10,"Sun",$Y27:$BC27)) -> 0 | BG27: =(SUM($Y27:$BC27)-(SUMIF($Y$10:$BC$10,"Sat",$Y27:$BC27)+SUMIF($Y$10:$BC$10,"Sun",$Y27:$BC27))) -> 0 | BH27: =(SUMIF($Y$10:$BC$10,"Sat",$Y27:$BC27)+SUMIF($Y$10:$BC$10,"Sun",$Y27:$BC27))/(COUNTIF($Y$10:$BC$10,"Sat")+COUNTIF($Y$10:$BC$10,"Sun")) -> 0 | BI27: =(SUM($Y27:$BC27)-(SUMIF($Y$10:$BC$10,"Sat",$Y27:$BC27)+SUMIF($Y$10:$BC$10,"Sun",$Y27:$BC27)))/(COUNT(Y27:BC27)-(COUNTIF($Y$10:$BC$10,"Sat")+COUNTIF($Y$10:$BC$10,"Sun"))) -> 0 | BN27: 17 | CT27: =SUM(BO27:CS27)/COUNT(BO$9:CS$9) -> 0 | CU27: =SUM(BP27:CR27)/COUNT(BP$40:CR$40) -> 0 | CV27: =(SUMIF($Y$10:$BC$10,"Sat",$Y27:$BC27)+SUMIF($Y$10:$BC$10,"Sun",$Y27:$BC27)) -> 0 | CW27: =(SUM($Y27:$BC27)-(SUMIF($Y$10:$BC$10,"Sat",$Y27:$BC27)+SUMIF($Y$10:$BC$10,"Sun",$Y27:$BC27))) -> 0 | CX27: =SUMIF(BO27:CS27,"<0",BO27:CS27) -> 0 | CY27: =SUMIF(BO27:CS27,">0",BO27:CS27) -> 0 | DT27: 17 | DU27: =Y27+BO27 -> 0 | DV27: =Z27+BP27 -> 0 | DW27: =AA27+BQ27 -> 0 | DX27: =AB27+BR27 -> 0 | DY27: =AC27+BS27 -> 0 | DZ27: =AD27+BT27 -> 0 | EA27: =AE27+BU27 -> 0 | EB27: =AF27+BV27 -> 0 | ... EY27: =BC27+CS27 -> 0 | FC27: 17 | FD27: =FD26+IF(BO27<0,BO27,BO27/(StorEff/100)) -> #DIV/0! | FE27: =FE26+IF(BP27<0,BP27,BP27/(StorEff/100)) -> #DIV/0! | FF27: =FF26+IF(BQ27<0,BQ27,BQ27/(StorEff/100)) -> #DIV/0! | FG27: =FG26+IF(BR27<0,BR27,BR27/(StorEff/100)) -> #DIV/0! | FH27: =FH26+IF(BS27<0,BS27,BS27/(StorEff/100)) -> #DIV/0! | FI27: =FI26+IF(BT27<0,BT27,BT27/(StorEff/100)) -> #DIV/0! | FJ27: =FJ26+IF(BU27<0,BU27,BU27/(StorEff/100)) -> #DIV/0! | FK27: =FK26+IF(BV27<0,BV27,BV27/(StorEff/100)) -> #DIV/0! | ... GH27: =GH26+IF(CS27<0,CS27,CS27/(StorEff/100)) -> #DIV/0!
C28: 18 | D28: =$BD28 -> 0 | E28: =$BD59 -> 0 | F28: =$BD90 -> 0 | G28: =$BD121 -> 0 | H28: =$BD152 -> 0 | I28: =$BD183 -> 0 | J28: =$BD214 -> 0 | K28: =$BD245 -> 0 | L28: =$BD276 -> 0 | M28: =$BD307 -> 0 | N28: =$BD338 -> 0 | O28: =$BD369 -> 0 | X28: 18 | BD28: =SUM(Y28:BC28)/COUNT(Y$9:BC$9) -> 0 | BE28: =SUM(Z28:BB28)/COUNT(Z$40:BB$40) -> 0 | BF28: =(SUMIF($Y$10:$BC$10,"Sat",$Y28:$BC28)+SUMIF($Y$10:$BC$10,"Sun",$Y28:$BC28)) -> 0 | BG28: =(SUM($Y28:$BC28)-(SUMIF($Y$10:$BC$10,"Sat",$Y28:$BC28)+SUMIF($Y$10:$BC$10,"Sun",$Y28:$BC28))) -> 0 | BH28: =(SUMIF($Y$10:$BC$10,"Sat",$Y28:$BC28)+SUMIF($Y$10:$BC$10,"Sun",$Y28:$BC28))/(COUNTIF($Y$10:$BC$10,"Sat")+COUNTIF($Y$10:$BC$10,"Sun")) -> 0 | BI28: =(SUM($Y28:$BC28)-(SUMIF($Y$10:$BC$10,"Sat",$Y28:$BC28)+SUMIF($Y$10:$BC$10,"Sun",$Y28:$BC28)))/(COUNT(Y28:BC28)-(COUNTIF($Y$10:$BC$10,"Sat")+COUNTIF($Y$10:$BC$10,"Sun"))) -> 0 | BN28: 18 | CT28: =SUM(BO28:CS28)/COUNT(BO$9:CS$9) -> 0 | CU28: =SUM(BP28:CR28)/COUNT(BP$40:CR$40) -> 0 | CV28: =(SUMIF($Y$10:$BC$10,"Sat",$Y28:$BC28)+SUMIF($Y$10:$BC$10,"Sun",$Y28:$BC28)) -> 0 | CW28: =(SUM($Y28:$BC28)-(SUMIF($Y$10:$BC$10,"Sat",$Y28:$BC28)+SUMIF($Y$10:$BC$10,"Sun",$Y28:$BC28))) -> 0 | CX28: =SUMIF(BO28:CS28,"<0",BO28:CS28) -> 0 | CY28: =SUMIF(BO28:CS28,">0",BO28:CS28) -> 0 | DT28: 18 | DU28: =Y28+BO28 -> 0 | DV28: =Z28+BP28 -> 0 | DW28: =AA28+BQ28 -> 0 | DX28: =AB28+BR28 -> 0 | DY28: =AC28+BS28 -> 0 | DZ28: =AD28+BT28 -> 0 | EA28: =AE28+BU28 -> 0 | EB28: =AF28+BV28 -> 0 | ... EY28: =BC28+CS28 -> 0 | FC28: 18 | FD28: =FD27+IF(BO28<0,BO28,BO28/(StorEff/100)) -> #DIV/0! | FE28: =FE27+IF(BP28<0,BP28,BP28/(StorEff/100)) -> #DIV/0! | FF28: =FF27+IF(BQ28<0,BQ28,BQ28/(StorEff/100)) -> #DIV/0! | FG28: =FG27+IF(BR28<0,BR28,BR28/(StorEff/100)) -> #DIV/0! | FH28: =FH27+IF(BS28<0,BS28,BS28/(StorEff/100)) -> #DIV/0! | FI28: =FI27+IF(BT28<0,BT28,BT28/(StorEff/100)) -> #DIV/0! | FJ28: =FJ27+IF(BU28<0,BU28,BU28/(StorEff/100)) -> #DIV/0! | FK28: =FK27+IF(BV28<0,BV28,BV28/(StorEff/100)) -> #DIV/0! | ... GH28: =GH27+IF(CS28<0,CS28,CS28/(StorEff/100)) -> #DIV/0!
C29: 19 | D29: =$BD29 -> 0 | E29: =$BD60 -> 0 | F29: =$BD91 -> 0 | G29: =$BD122 -> 0 | H29: =$BD153 -> 0 | I29: =$BD184 -> 0 | J29: =$BD215 -> 0 | K29: =$BD246 -> 0 | L29: =$BD277 -> 0 | M29: =$BD308 -> 0 | N29: =$BD339 -> 0 | O29: =$BD370 -> 0 | X29: 19 | BD29: =SUM(Y29:BC29)/COUNT(Y$9:BC$9) -> 0 | BE29: =SUM(Z29:BB29)/COUNT(Z$40:BB$40) -> 0 | BF29: =(SUMIF($Y$10:$BC$10,"Sat",$Y29:$BC29)+SUMIF($Y$10:$BC$10,"Sun",$Y29:$BC29)) -> 0 | BG29: =(SUM($Y29:$BC29)-(SUMIF($Y$10:$BC$10,"Sat",$Y29:$BC29)+SUMIF($Y$10:$BC$10,"Sun",$Y29:$BC29))) -> 0 | BH29: =(SUMIF($Y$10:$BC$10,"Sat",$Y29:$BC29)+SUMIF($Y$10:$BC$10,"Sun",$Y29:$BC29))/(COUNTIF($Y$10:$BC$10,"Sat")+COUNTIF($Y$10:$BC$10,"Sun")) -> 0 | BI29: =(SUM($Y29:$BC29)-(SUMIF($Y$10:$BC$10,"Sat",$Y29:$BC29)+SUMIF($Y$10:$BC$10,"Sun",$Y29:$BC29)))/(COUNT(Y29:BC29)-(COUNTIF($Y$10:$BC$10,"Sat")+COUNTIF($Y$10:$BC$10,"Sun"))) -> 0 | BN29: 19 | CT29: =SUM(BO29:CS29)/COUNT(BO$9:CS$9) -> 0 | CU29: =SUM(BP29:CR29)/COUNT(BP$40:CR$40) -> 0 | CV29: =(SUMIF($Y$10:$BC$10,"Sat",$Y29:$BC29)+SUMIF($Y$10:$BC$10,"Sun",$Y29:$BC29)) -> 0 | CW29: =(SUM($Y29:$BC29)-(SUMIF($Y$10:$BC$10,"Sat",$Y29:$BC29)+SUMIF($Y$10:$BC$10,"Sun",$Y29:$BC29))) -> 0 | CX29: =SUMIF(BO29:CS29,"<0",BO29:CS29) -> 0 | CY29: =SUMIF(BO29:CS29,">0",BO29:CS29) -> 0 | DT29: 19 | DU29: =Y29+BO29 -> 0 | DV29: =Z29+BP29 -> 0 | DW29: =AA29+BQ29 -> 0 | DX29: =AB29+BR29 -> 0 | DY29: =AC29+BS29 -> 0 | DZ29: =AD29+BT29 -> 0 | EA29: =AE29+BU29 -> 0 | EB29: =AF29+BV29 -> 0 | ... EY29: =BC29+CS29 -> 0 | FC29: 19 | FD29: =FD28+IF(BO29<0,BO29,BO29/(StorEff/100)) -> #DIV/0! | FE29: =FE28+IF(BP29<0,BP29,BP29/(StorEff/100)) -> #DIV/0! | FF29: =FF28+IF(BQ29<0,BQ29,BQ29/(StorEff/100)) -> #DIV/0! | FG29: =FG28+IF(BR29<0,BR29,BR29/(StorEff/100)) -> #DIV/0! | FH29: =FH28+IF(BS29<0,BS29,BS29/(StorEff/100)) -> #DIV/0! | FI29: =FI28+IF(BT29<0,BT29,BT29/(StorEff/100)) -> #DIV/0! | FJ29: =FJ28+IF(BU29<0,BU29,BU29/(StorEff/100)) -> #DIV/0! | FK29: =FK28+IF(BV29<0,BV29,BV29/(StorEff/100)) -> #DIV/0! | ... GH29: =GH28+IF(CS29<0,CS29,CS29/(StorEff/100)) -> #DIV/0!
C30: 20 | D30: =$BD30 -> 0 | E30: =$BD61 -> 0 | F30: =$BD92 -> 0 | G30: =$BD123 -> 0 | H30: =$BD154 -> 0 | I30: =$BD185 -> 0 | J30: =$BD216 -> 0 | K30: =$BD247 -> 0 | L30: =$BD278 -> 0 | M30: =$BD309 -> 0 | N30: =$BD340 -> 0 | O30: =$BD371 -> 0 | X30: 20 | BD30: =SUM(Y30:BC30)/COUNT(Y$9:BC$9) -> 0 | BE30: =SUM(Z30:BB30)/COUNT(Z$40:BB$40) -> 0 | BF30: =(SUMIF($Y$10:$BC$10,"Sat",$Y30:$BC30)+SUMIF($Y$10:$BC$10,"Sun",$Y30:$BC30)) -> 0 | BG30: =(SUM($Y30:$BC30)-(SUMIF($Y$10:$BC$10,"Sat",$Y30:$BC30)+SUMIF($Y$10:$BC$10,"Sun",$Y30:$BC30))) -> 0 | BH30: =(SUMIF($Y$10:$BC$10,"Sat",$Y30:$BC30)+SUMIF($Y$10:$BC$10,"Sun",$Y30:$BC30))/(COUNTIF($Y$10:$BC$10,"Sat")+COUNTIF($Y$10:$BC$10,"Sun")) -> 0 | BI30: =(SUM($Y30:$BC30)-(SUMIF($Y$10:$BC$10,"Sat",$Y30:$BC30)+SUMIF($Y$10:$BC$10,"Sun",$Y30:$BC30)))/(COUNT(Y30:BC30)-(COUNTIF($Y$10:$BC$10,"Sat")+COUNTIF($Y$10:$BC$10,"Sun"))) -> 0 | BN30: 20 | CT30: =SUM(BO30:CS30)/COUNT(BO$9:CS$9) -> 0 | CU30: =SUM(BP30:CR30)/COUNT(BP$40:CR$40) -> 0 | CV30: =(SUMIF($Y$10:$BC$10,"Sat",$Y30:$BC30)+SUMIF($Y$10:$BC$10,"Sun",$Y30:$BC30)) -> 0 | CW30: =(SUM($Y30:$BC30)-(SUMIF($Y$10:$BC$10,"Sat",$Y30:$BC30)+SUMIF($Y$10:$BC$10,"Sun",$Y30:$BC30))) -> 0 | CX30: =SUMIF(BO30:CS30,"<0",BO30:CS30) -> 0 | CY30: =SUMIF(BO30:CS30,">0",BO30:CS30) -> 0 | DT30: 20 | DU30: =Y30+BO30 -> 0 | DV30: =Z30+BP30 -> 0 | DW30: =AA30+BQ30 -> 0 | DX30: =AB30+BR30 -> 0 | DY30: =AC30+BS30 -> 0 | DZ30: =AD30+BT30 -> 0 | EA30: =AE30+BU30 -> 0 | EB30: =AF30+BV30 -> 0 | ... EY30: =BC30+CS30 -> 0 | FC30: 20 | FD30: =FD29+IF(BO30<0,BO30,BO30/(StorEff/100)) -> #DIV/0! | FE30: =FE29+IF(BP30<0,BP30,BP30/(StorEff/100)) -> #DIV/0! | FF30: =FF29+IF(BQ30<0,BQ30,BQ30/(StorEff/100)) -> #DIV/0! | FG30: =FG29+IF(BR30<0,BR30,BR30/(StorEff/100)) -> #DIV/0! | FH30: =FH29+IF(BS30<0,BS30,BS30/(StorEff/100)) -> #DIV/0! | FI30: =FI29+IF(BT30<0,BT30,BT30/(StorEff/100)) -> #DIV/0! | FJ30: =FJ29+IF(BU30<0,BU30,BU30/(StorEff/100)) -> #DIV/0! | FK30: =FK29+IF(BV30<0,BV30,BV30/(StorEff/100)) -> #DIV/0! | ... GH30: =GH29+IF(CS30<0,CS30,CS30/(StorEff/100)) -> #DIV/0!
C31: 21 | D31: =$BD31 -> 0 | E31: =$BD62 -> 0 | F31: =$BD93 -> 0 | G31: =$BD124 -> 0 | H31: =$BD155 -> 0 | I31: =$BD186 -> 0 | J31: =$BD217 -> 0 | K31: =$BD248 -> 0 | L31: =$BD279 -> 0 | M31: =$BD310 -> 0 | N31: =$BD341 -> 0 | O31: =$BD372 -> 0 | X31: 21 | BD31: =SUM(Y31:BC31)/COUNT(Y$9:BC$9) -> 0 | BE31: =SUM(Z31:BB31)/COUNT(Z$40:BB$40) -> 0 | BF31: =(SUMIF($Y$10:$BC$10,"Sat",$Y31:$BC31)+SUMIF($Y$10:$BC$10,"Sun",$Y31:$BC31)) -> 0 | BG31: =(SUM($Y31:$BC31)-(SUMIF($Y$10:$BC$10,"Sat",$Y31:$BC31)+SUMIF($Y$10:$BC$10,"Sun",$Y31:$BC31))) -> 0 | BH31: =(SUMIF($Y$10:$BC$10,"Sat",$Y31:$BC31)+SUMIF($Y$10:$BC$10,"Sun",$Y31:$BC31))/(COUNTIF($Y$10:$BC$10,"Sat")+COUNTIF($Y$10:$BC$10,"Sun")) -> 0 | BI31: =(SUM($Y31:$BC31)-(SUMIF($Y$10:$BC$10,"Sat",$Y31:$BC31)+SUMIF($Y$10:$BC$10,"Sun",$Y31:$BC31)))/(COUNT(Y31:BC31)-(COUNTIF($Y$10:$BC$10,"Sat")+COUNTIF($Y$10:$BC$10,"Sun"))) -> 0 | BN31: 21 | CT31: =SUM(BO31:CS31)/COUNT(BO$9:CS$9) -> 0 | CU31: =SUM(BP31:CR31)/COUNT(BP$40:CR$40) -> 0 | CV31: =(SUMIF($Y$10:$BC$10,"Sat",$Y31:$BC31)+SUMIF($Y$10:$BC$10,"Sun",$Y31:$BC31)) -> 0 | CW31: =(SUM($Y31:$BC31)-(SUMIF($Y$10:$BC$10,"Sat",$Y31:$BC31)+SUMIF($Y$10:$BC$10,"Sun",$Y31:$BC31))) -> 0 | CX31: =SUMIF(BO31:CS31,"<0",BO31:CS31) -> 0 | CY31: =SUMIF(BO31:CS31,">0",BO31:CS31) -> 0 | DT31: 21 | DU31: =Y31+BO31 -> 0 | DV31: =Z31+BP31 -> 0 | DW31: =AA31+BQ31 -> 0 | DX31: =AB31+BR31 -> 0 | DY31: =AC31+BS31 -> 0 | DZ31: =AD31+BT31 -> 0 | EA31: =AE31+BU31 -> 0 | EB31: =AF31+BV31 -> 0 | ... EY31: =BC31+CS31 -> 0 | FC31: 21 | FD31: =FD30+IF(BO31<0,BO31,BO31/(StorEff/100)) -> #DIV/0! | FE31: =FE30+IF(BP31<0,BP31,BP31/(StorEff/100)) -> #DIV/0! | FF31: =FF30+IF(BQ31<0,BQ31,BQ31/(StorEff/100)) -> #DIV/0! | FG31: =FG30+IF(BR31<0,BR31,BR31/(StorEff/100)) -> #DIV/0! | FH31: =FH30+IF(BS31<0,BS31,BS31/(StorEff/100)) -> #DIV/0! | FI31: =FI30+IF(BT31<0,BT31,BT31/(StorEff/100)) -> #DIV/0! | FJ31: =FJ30+IF(BU31<0,BU31,BU31/(StorEff/100)) -> #DIV/0! | FK31: =FK30+IF(BV31<0,BV31,BV31/(StorEff/100)) -> #DIV/0! | ... GH31: =GH30+IF(CS31<0,CS31,CS31/(StorEff/100)) -> #DIV/0!
C32: 22 | D32: =$BD32 -> 0 | E32: =$BD63 -> 0 | F32: =$BD94 -> 0 | G32: =$BD125 -> 0 | H32: =$BD156 -> 0 | I32: =$BD187 -> 0 | J32: =$BD218 -> 0 | K32: =$BD249 -> 0 | L32: =$BD280 -> 0 | M32: =$BD311 -> 0 | N32: =$BD342 -> 0 | O32: =$BD373 -> 0 | X32: 22 | BD32: =SUM(Y32:BC32)/COUNT(Y$9:BC$9) -> 0 | BE32: =SUM(Z32:BB32)/COUNT(Z$40:BB$40) -> 0 | BF32: =(SUMIF($Y$10:$BC$10,"Sat",$Y32:$BC32)+SUMIF($Y$10:$BC$10,"Sun",$Y32:$BC32)) -> 0 | BG32: =(SUM($Y32:$BC32)-(SUMIF($Y$10:$BC$10,"Sat",$Y32:$BC32)+SUMIF($Y$10:$BC$10,"Sun",$Y32:$BC32))) -> 0 | BH32: =(SUMIF($Y$10:$BC$10,"Sat",$Y32:$BC32)+SUMIF($Y$10:$BC$10,"Sun",$Y32:$BC32))/(COUNTIF($Y$10:$BC$10,"Sat")+COUNTIF($Y$10:$BC$10,"Sun")) -> 0 | BI32: =(SUM($Y32:$BC32)-(SUMIF($Y$10:$BC$10,"Sat",$Y32:$BC32)+SUMIF($Y$10:$BC$10,"Sun",$Y32:$BC32)))/(COUNT(Y32:BC32)-(COUNTIF($Y$10:$BC$10,"Sat")+COUNTIF($Y$10:$BC$10,"Sun"))) -> 0 | BN32: 22 | CT32: =SUM(BO32:CS32)/COUNT(BO$9:CS$9) -> 0 | CU32: =SUM(BP32:CR32)/COUNT(BP$40:CR$40) -> 0 | CV32: =(SUMIF($Y$10:$BC$10,"Sat",$Y32:$BC32)+SUMIF($Y$10:$BC$10,"Sun",$Y32:$BC32)) -> 0 | CW32: =(SUM($Y32:$BC32)-(SUMIF($Y$10:$BC$10,"Sat",$Y32:$BC32)+SUMIF($Y$10:$BC$10,"Sun",$Y32:$BC32))) -> 0 | CX32: =SUMIF(BO32:CS32,"<0",BO32:CS32) -> 0 | CY32: =SUMIF(BO32:CS32,">0",BO32:CS32) -> 0 | DB32: Monthly | DT32: 22 | DU32: =Y32+BO32 -> 0 | DV32: =Z32+BP32 -> 0 | DW32: =AA32+BQ32 -> 0 | DX32: =AB32+BR32 -> 0 | DY32: =AC32+BS32 -> 0 | DZ32: =AD32+BT32 -> 0 | EA32: =AE32+BU32 -> 0 | EB32: =AF32+BV32 -> 0 | ... EY32: =BC32+CS32 -> 0 | FC32: 22 | FD32: =FD31+IF(BO32<0,BO32,BO32/(StorEff/100)) -> #DIV/0! | FE32: =FE31+IF(BP32<0,BP32,BP32/(StorEff/100)) -> #DIV/0! | FF32: =FF31+IF(BQ32<0,BQ32,BQ32/(StorEff/100)) -> #DIV/0! | FG32: =FG31+IF(BR32<0,BR32,BR32/(StorEff/100)) -> #DIV/0! | FH32: =FH31+IF(BS32<0,BS32,BS32/(StorEff/100)) -> #DIV/0! | FI32: =FI31+IF(BT32<0,BT32,BT32/(StorEff/100)) -> #DIV/0! | FJ32: =FJ31+IF(BU32<0,BU32,BU32/(StorEff/100)) -> #DIV/0! | FK32: =FK31+IF(BV32<0,BV32,BV32/(StorEff/100)) -> #DIV/0! | ... GH32: =GH31+IF(CS32<0,CS32,CS32/(StorEff/100)) -> #DIV/0!
C33: 23 | D33: =$BD33 -> 0 | E33: =$BD64 -> 0 | F33: =$BD95 -> 0 | G33: =$BD126 -> 0 | H33: =$BD157 -> 0 | I33: =$BD188 -> 0 | J33: =$BD219 -> 0 | K33: =$BD250 -> 0 | L33: =$BD281 -> 0 | M33: =$BD312 -> 0 | N33: =$BD343 -> 0 | O33: =$BD374 -> 0 | X33: 23 | BD33: =SUM(Y33:BC33)/COUNT(Y$9:BC$9) -> 0 | BE33: =SUM(Z33:BB33)/COUNT(Z$40:BB$40) -> 0 | BF33: =(SUMIF($Y$10:$BC$10,"Sat",$Y33:$BC33)+SUMIF($Y$10:$BC$10,"Sun",$Y33:$BC33)) -> 0 | BG33: =(SUM($Y33:$BC33)-(SUMIF($Y$10:$BC$10,"Sat",$Y33:$BC33)+SUMIF($Y$10:$BC$10,"Sun",$Y33:$BC33))) -> 0 | BH33: =(SUMIF($Y$10:$BC$10,"Sat",$Y33:$BC33)+SUMIF($Y$10:$BC$10,"Sun",$Y33:$BC33))/(COUNTIF($Y$10:$BC$10,"Sat")+COUNTIF($Y$10:$BC$10,"Sun")) -> 0 | BI33: =(SUM($Y33:$BC33)-(SUMIF($Y$10:$BC$10,"Sat",$Y33:$BC33)+SUMIF($Y$10:$BC$10,"Sun",$Y33:$BC33)))/(COUNT(Y33:BC33)-(COUNTIF($Y$10:$BC$10,"Sat")+COUNTIF($Y$10:$BC$10,"Sun"))) -> 0 | BN33: 23 | CT33: =SUM(BO33:CS33)/COUNT(BO$9:CS$9) -> 0 | CU33: =SUM(BP33:CR33)/COUNT(BP$40:CR$40) -> 0 | CV33: =(SUMIF($Y$10:$BC$10,"Sat",$Y33:$BC33)+SUMIF($Y$10:$BC$10,"Sun",$Y33:$BC33)) -> 0 | CW33: =(SUM($Y33:$BC33)-(SUMIF($Y$10:$BC$10,"Sat",$Y33:$BC33)+SUMIF($Y$10:$BC$10,"Sun",$Y33:$BC33))) -> 0 | CX33: =SUMIF(BO33:CS33,"<0",BO33:CS33) -> 0 | CY33: =SUMIF(BO33:CS33,">0",BO33:CS33) -> 0 | DA33: =COUNTIF(BO11:CS34,">"&MxDisch) -> 0 | DB33: Hours above Maximum Discharge Rate | DT33: 23 | DU33: =Y33+BO33 -> 0 | DV33: =Z33+BP33 -> 0 | DW33: =AA33+BQ33 -> 0 | DX33: =AB33+BR33 -> 0 | DY33: =AC33+BS33 -> 0 | DZ33: =AD33+BT33 -> 0 | EA33: =AE33+BU33 -> 0 | EB33: =AF33+BV33 -> 0 | ... EY33: =BC33+CS33 -> 0 | FC33: 23 | FD33: =FD32+IF(BO33<0,BO33,BO33/(StorEff/100)) -> #DIV/0! | FE33: =FE32+IF(BP33<0,BP33,BP33/(StorEff/100)) -> #DIV/0! | FF33: =FF32+IF(BQ33<0,BQ33,BQ33/(StorEff/100)) -> #DIV/0! | FG33: =FG32+IF(BR33<0,BR33,BR33/(StorEff/100)) -> #DIV/0! | FH33: =FH32+IF(BS33<0,BS33,BS33/(StorEff/100)) -> #DIV/0! | FI33: =FI32+IF(BT33<0,BT33,BT33/(StorEff/100)) -> #DIV/0! | FJ33: =FJ32+IF(BU33<0,BU33,BU33/(StorEff/100)) -> #DIV/0! | FK33: =FK32+IF(BV33<0,BV33,BV33/(StorEff/100)) -> #DIV/0! | ... GH33: =GH32+IF(CS33<0,CS33,CS33/(StorEff/100)) -> #DIV/0!
C34: 24 | D34: =$BD34 -> 0 | E34: =$BD65 -> 0 | F34: =$BD96 -> 0 | G34: =$BD127 -> 0 | H34: =$BD158 -> 0 | I34: =$BD189 -> 0 | J34: =$BD220 -> 0 | K34: =$BD251 -> 0 | L34: =$BD282 -> 0 | M34: =$BD313 -> 0 | N34: =$BD344 -> 0 | O34: =$BD375 -> 0 | X34: 24 | BD34: =SUM(Y34:BC34)/COUNT(Y$9:BC$9) -> 0 | BE34: =SUM(Z34:BB34)/COUNT(Z$40:BB$40) -> 0 | BF34: =SUM($Y34:$BC34) -> 0 | BG34: 0 | BH34: =IFERROR(SUM(Y34:BC34)/COUNT(Y34:BC34),0) -> 0 | BI34: 0 | BN34: 24 | CT34: =SUM(BO34:CS34)/COUNT(BO$9:CS$9) -> 0 | CU34: =SUM(BP34:CR34)/COUNT(BP$40:CR$40) -> 0 | CV34: =SUM($Y34:$BC34) -> 0 | CW34: 0 | CX34: =SUMIF(BO34:CS34,"<0",BO34:CS34) -> 0 | CY34: =SUMIF(BO34:CS34,">0",BO34:CS34) -> 0 | DA34: =COUNTIF(BO11:CS34,"<"&MXChgRate) -> 0 | DB34: Hours below Maximum Charge Rate | DT34: 24 | DU34: =Y34+BO34 -> 0 | DV34: =Z34+BP34 -> 0 | DW34: =AA34+BQ34 -> 0 | DX34: =AB34+BR34 -> 0 | DY34: =AC34+BS34 -> 0 | DZ34: =AD34+BT34 -> 0 | EA34: =AE34+BU34 -> 0 | EB34: =AF34+BV34 -> 0 | ... EY34: =BC34+CS34 -> 0 | EZ34: =COUNTIF(DU11:EY34,"<0") -> 0 | FC34: 24 | FD34: =FD33+IF(BO34<0,BO34,BO34/(StorEff/100)) -> #DIV/0! | FE34: =FE33+IF(BP34<0,BP34,BP34/(StorEff/100)) -> #DIV/0! | FF34: =FF33+IF(BQ34<0,BQ34,BQ34/(StorEff/100)) -> #DIV/0! | FG34: =FG33+IF(BR34<0,BR34,BR34/(StorEff/100)) -> #DIV/0! | FH34: =FH33+IF(BS34<0,BS34,BS34/(StorEff/100)) -> #DIV/0! | FI34: =FI33+IF(BT34<0,BT34,BT34/(StorEff/100)) -> #DIV/0! | FJ34: =FJ33+IF(BU34<0,BU34,BU34/(StorEff/100)) -> #DIV/0! | FK34: =FK33+IF(BV34<0,BV34,BV34/(StorEff/100)) -> #DIV/0! | ... GH34: =GH33+IF(CS34<0,CS34,CS34/(StorEff/100)) -> #DIV/0! | GI34: =COUNTIF(FD11:GH34,"<"&-StorCap) -> 0
S36: Eligible Facility Location | BF36: =SUM(BF11:BF34) -> 0 | BG36: =SUM(BG18:BG33) -> 0 | BO36: =IF(SUM(BO11:BO34)>0,"Verify","") | BP36: =IF(SUM(BP11:BP34)>0,"Verify","") | BQ36: =IF(SUM(BQ11:BQ34)>0,"Verify","") | BR36: =IF(SUM(BR11:BR34)>0,"Verify","") | BS36: =IF(SUM(BS11:BS34)>0,"Verify","") | BT36: =IF(SUM(BT11:BT34)>0,"Verify","") | BU36: =IF(SUM(BU11:BU34)>0,"Verify","") | BV36: =IF(SUM(BV11:BV34)>0,"Verify","") | ... CS36: =IF(SUM(CS11:CS34)>0,"Verify","") | CV36: =SUM(CV11:CV34) -> 0 | CW36: =SUM(CW18:CW33) -> 0 | CX36: =SUM(CX11:CX34) -> 0 | CY36: =SUM(CY18:CY33) -> 0
B37: ="Version: " & Version -> Version: 09/04/2018
B38: Part V (a-2) | S38: Latitude: | W38: FEBRUARY | BM38: FEBRUARY | DS38: FEBRUARY | FB38: FEBRUARY
B39: Operational Information - Energy Storage Charging/Discharging Schedule | BO39: =IFERROR(SUMIF(BO42:BO65,">0",BO42:BO65)/-SUMIF(BO42:BO65,"<0",BO42:BO65),"") | BP39: =IFERROR(SUMIF(BP42:BP65,">0",BP42:BP65)/-SUMIF(BP42:BP65,"<0",BP42:BP65),"") | BQ39: =IFERROR(SUMIF(BQ42:BQ65,">0",BQ42:BQ65)/-SUMIF(BQ42:BQ65,"<0",BQ42:BQ65),"") | BR39: =IFERROR(SUMIF(BR42:BR65,">0",BR42:BR65)/-SUMIF(BR42:BR65,"<0",BR42:BR65),"") | BS39: =IFERROR(SUMIF(BS42:BS65,">0",BS42:BS65)/-SUMIF(BS42:BS65,"<0",BS42:BS65),"") | BT39: =IFERROR(SUMIF(BT42:BT65,">0",BT42:BT65)/-SUMIF(BT42:BT65,"<0",BT42:BT65),"") | BU39: =IFERROR(SUMIF(BU42:BU65,">0",BU42:BU65)/-SUMIF(BU42:BU65,"<0",BU42:BU65),"") | BV39: =IFERROR(SUMIF(BV42:BV65,">0",BV42:BV65)/-SUMIF(BV42:BV65,"<0",BV42:BV65),"") | ... CQ39: =IFERROR(SUMIF(CQ42:CQ65,">0",CQ42:CQ65)/-SUMIF(CQ42:CQ65,"<0",CQ42:CQ65),"")
C40: Project Name | E40: =IF(ProjName="","Auto-Filled",ProjName) -> Auto-Filled | L40: Data Entry: | M40: Hourly Profile | S40: Longitude: | X40: HE | Y40: 1 | Z40: 2 | AA40: 3 | AB40: 4 | AC40: 5 | AD40: 6 | AE40: 7 | AF40: 8 | AG40: 9 | AH40: 10 | AI40: 11 | AJ40: 12 | AK40: 13 | AL40: 14 | AM40: 15 | AN40: 16 | AO40: 17 | AP40: 18 | AQ40: 19 | AR40: 20 | AS40: 21 | AT40: 22 | AU40: 23 | AV40: 24 | AW40: 25 | AX40: 26 | AY40: 27 | AZ40: 28 | BA40: =IF(AE6/4=ROUND(AE6/4,0),29,"") -> 29 | BD40: Month | BF40: Off-Pk | BG40: On-Peak | BH40: Off-Pk | BI40: On-Peak | BN40: HE | BO40: 1 | BP40: 2 | BQ40: 3 | BR40: 4 | BS40: 5 | BT40: 6 | BU40: 7 | BV40: 8 | BW40: 9 | BX40: 10 | BY40: 11 | BZ40: 12 | CA40: 13 | CB40: 14 | CC40: 15 | CD40: 16 | CE40: 17 | CF40: 18 | CG40: 19 | CH40: 20 | CI40: 21 | CJ40: 22 | CK40: 23 | CL40: 24 | CM40: 25 | CN40: 26 | CO40: 27 | CP40: 28 | CQ40: =BA40 -> 29 | CT40: Month | CV40: Off-Pk | CW40: On-Peak | CX40: Charging | CY40: Discharging | DT40: HE | DU40: 1 | DV40: 2 | DW40: 3 | DX40: 4 | DY40: 5 | DZ40: 6 | EA40: 7 | EB40: 8 | EC40: 9 | ED40: 10 | EE40: 11 | EF40: 12 | EG40: 13 | EH40: 14 | EI40: 15 | EJ40: 16 | EK40: 17 | EL40: 18 | EM40: 19 | EN40: 20 | EO40: 21 | EP40: 22 | EQ40: 23 | ER40: 24 | ES40: 25 | ET40: 26 | EU40: 27 | EV40: 28 | EW40: =BA40 -> 29 | FC40: HE | FD40: 1 | FE40: 2 | FF40: 3 | FG40: 4 | FH40: 5 | FI40: 6 | FJ40: 7 | FK40: 8 | FL40: 9 | FM40: 10 | FN40: 11 | FO40: 12 | FP40: 13 | FQ40: 14 | FR40: 15 | FS40: 16 | FT40: 17 | FU40: 18 | FV40: 19 | FW40: 20 | FX40: 21 | FY40: 22 | FZ40: 23 | GA40: 24 | GB40: 25 | GC40: 26 | GD40: 27 | GE40: 28 | GF40: =BA40 -> 29
Y41: =VLOOKUP(WEEKDAY(CONCATENATE("2","/",Y40,"/",$AE$6)),$DN$11:$DO$17,2,FALSE) -> Tues | Z41: =VLOOKUP(WEEKDAY(CONCATENATE("2","/",Z40,"/",$AE$6)),$DN$11:$DO$17,2,FALSE) -> Wed | AA41: =VLOOKUP(WEEKDAY(CONCATENATE("2","/",AA40,"/",$AE$6)),$DN$11:$DO$17,2,FALSE) -> Thur | AB41: =VLOOKUP(WEEKDAY(CONCATENATE("2","/",AB40,"/",$AE$6)),$DN$11:$DO$17,2,FALSE) -> Fri | AC41: =VLOOKUP(WEEKDAY(CONCATENATE("2","/",AC40,"/",$AE$6)),$DN$11:$DO$17,2,FALSE) -> Sat | AD41: =VLOOKUP(WEEKDAY(CONCATENATE("2","/",AD40,"/",$AE$6)),$DN$11:$DO$17,2,FALSE) -> Sun | AE41: =VLOOKUP(WEEKDAY(CONCATENATE("2","/",AE40,"/",$AE$6)),$DN$11:$DO$17,2,FALSE) -> Mon | AF41: =Y41 -> Tues | AG41: =Z41 -> Wed | AH41: =AA41 -> Thur | AI41: =AB41 -> Fri | AJ41: =AC41 -> Sat | AK41: =AD41 -> Sun | AL41: =AE41 -> Mon | AM41: =AF41 -> Tues | ... AZ41: =AS41 -> Mon | BA41: =IF(BA40="","",AT41) -> Tues | BD41: Avg | BF41: MWh | BG41: MWh | BH41: Avg | BI41: Avg | BO41: =Y41 -> Tues | BP41: =Z41 -> Wed | BQ41: =AA41 -> Thur | BR41: =AB41 -> Fri | BS41: =AC41 -> Sat | BT41: =AD41 -> Sun | BU41: =AE41 -> Mon | BV41: =BO41 -> Tues | BW41: =BP41 -> Wed | BX41: =BQ41 -> Thur | BY41: =BR41 -> Fri | BZ41: =BS41 -> Sat | CA41: =BT41 -> Sun | CB41: =BU41 -> Mon | CC41: =BV41 -> Tues | ... CP41: =CI41 -> Mon | CQ41: =IF(CQ40="","",CJ41) -> Tues | CT41: Avg | CV41: MWh | CW41: MWh | CX41: Avg | CY41: Avg | DU41: =Y41 -> Tues | DV41: =Z41 -> Wed | DW41: =AA41 -> Thur | DX41: =AB41 -> Fri | DY41: =AC41 -> Sat | DZ41: =AD41 -> Sun | EA41: =AE41 -> Mon | EB41: =DU41 -> Tues | EC41: =DV41 -> Wed | ED41: =DW41 -> Thur | EE41: =DX41 -> Fri | EF41: =DY41 -> Sat | EG41: =DZ41 -> Sun | EH41: =EA41 -> Mon | EI41: =EB41 -> Tues | ... EV41: =EO41 -> Mon | EW41: =IF(EW40="","",EP41) -> Tues | FD41: =BO41 -> Tues | FE41: =BP41 -> Wed | FF41: =BQ41 -> Thur | FG41: =BR41 -> Fri | FH41: =BS41 -> Sat | FI41: =BT41 -> Sun | FJ41: =BU41 -> Mon | FK41: =FD41 -> Tues | FL41: =FE41 -> Wed | FM41: =FF41 -> Thur | FN41: =FG41 -> Fri | FO41: =FH41 -> Sat | FP41: =FI41 -> Sun | FQ41: =FJ41 -> Mon | FR41: =FK41 -> Tues | ... GE41: =FX41 -> Mon | GF41: =IF(GF40="","",FY41) -> Tues
C42: This table is calculated from data entry in Part V(a)(ii). You must insert an Hourly Profile, two sections to the right. | X42: 1 | BD42: =SUM(Y42:BA42)/COUNT(Y$40:BA$40) -> 0 | BE42: =SUM(Z42:BB42)/COUNT(Z$40:BB$40) -> 0 | BF42: =SUM($Y42:$BC42) -> 0 | BG42: 0 | BH42: =IFERROR(SUM(Y42:BC42)/COUNT(Y42:BC42),0) -> 0 | BI42: 0 | BN42: 1 | CT42: =SUM(BO42:CQ42)/COUNT(BO$40:CQ$40) -> 0 | CU42: =SUM(BP42:CR42)/COUNT(BP$40:CR$40) -> 0 | CV42: =SUM($Y42:$BC42) -> 0 | CW42: 0 | CX42: =SUMIF(BO42:CS42,"<0",BO42:CS42) -> 0 | CY42: =SUMIF(BO42:CS42,">0",BO42:CS42) -> 0 | DT42: 1 | DU42: =Y42+BO42 -> 0 | DV42: =Z42+BP42 -> 0 | DW42: =AA42+BQ42 -> 0 | DX42: =AB42+BR42 -> 0 | DY42: =AC42+BS42 -> 0 | DZ42: =AD42+BT42 -> 0 | EA42: =AE42+BU42 -> 0 | EB42: =AF42+BV42 -> 0 | ... EW42: =BA42+CQ42 -> 0 | FC42: 1 | FD42: =GH34+IF(BO42<0,BO42,BO42/(StorEff/100)) -> #DIV/0! | FE42: =FD65+IF(BP42<0,BP42,BP42/(StorEff/100)) -> #DIV/0! | FF42: =FE65+IF(BQ42<0,BQ42,BQ42/(StorEff/100)) -> #DIV/0! | FG42: =FF65+IF(BR42<0,BR42,BR42/(StorEff/100)) -> #DIV/0! | FH42: =FG65+IF(BS42<0,BS42,BS42/(StorEff/100)) -> #DIV/0! | FI42: =FH65+IF(BT42<0,BT42,BT42/(StorEff/100)) -> #DIV/0! | FJ42: =FI65+IF(BU42<0,BU42,BU42/(StorEff/100)) -> #DIV/0! | FK42: =FJ65+IF(BV42<0,BV42,BV42/(StorEff/100)) -> #DIV/0! | FL42: =FK65+IF(BW42<0,BW42,BW42/(StorEff/100)) -> #DIV/0! | ... GF42: =GE65+IF(CQ42<0,CQ42,CQ42/(StorEff/100)) -> #DIV/0!
B43: HOURLY STORAGE ENERGY FLOW in MW (averaged) - 12 Months by 24 Hours For Representative Day For Each Month | X43: 2 | BD43: =SUM(Y43:BA43)/COUNT(Y$40:BA$40) -> 0 | BE43: =SUM(Z43:BB43)/COUNT(Z$40:BB$40) -> 0 | BF43: =SUM($Y43:$BC43) -> 0 | BG43: 0 | BH43: =IFERROR(SUM(Y43:BC43)/COUNT(Y43:BC43),0) -> 0 | BI43: 0 | BN43: 2 | CT43: =SUM(BO43:CQ43)/COUNT(BO$40:CQ$40) -> 0 | CU43: =SUM(BP43:CR43)/COUNT(BP$40:CR$40) -> 0 | CV43: =SUM($Y43:$BC43) -> 0 | CW43: 0 | CX43: =SUMIF(BO43:CS43,"<0",BO43:CS43) -> 0 | CY43: =SUMIF(BO43:CS43,">0",BO43:CS43) -> 0 | DT43: 2 | DU43: =Y43+BO43 -> 0 | DV43: =Z43+BP43 -> 0 | DW43: =AA43+BQ43 -> 0 | DX43: =AB43+BR43 -> 0 | DY43: =AC43+BS43 -> 0 | DZ43: =AD43+BT43 -> 0 | EA43: =AE43+BU43 -> 0 | EB43: =AF43+BV43 -> 0 | ... EW43: =BA43+CQ43 -> 0 | FC43: 2 | FD43: =FD42+IF(BO43<0,BO43,BO43/(StorEff/100)) -> #DIV/0! | FE43: =FE42+IF(BP43<0,BP43,BP43/(StorEff/100)) -> #DIV/0! | FF43: =FF42+IF(BQ43<0,BQ43,BQ43/(StorEff/100)) -> #DIV/0! | FG43: =FG42+IF(BR43<0,BR43,BR43/(StorEff/100)) -> #DIV/0! | FH43: =FH42+IF(BS43<0,BS43,BS43/(StorEff/100)) -> #DIV/0! | FI43: =FI42+IF(BT43<0,BT43,BT43/(StorEff/100)) -> #DIV/0! | FJ43: =FJ42+IF(BU43<0,BU43,BU43/(StorEff/100)) -> #DIV/0! | FK43: =FK42+IF(BV43<0,BV43,BV43/(StorEff/100)) -> #DIV/0! | ... GF43: =GF42+IF(CQ43<0,CQ43,CQ43/(StorEff/100)) -> #DIV/0!
X44: 3 | BD44: =SUM(Y44:BA44)/COUNT(Y$40:BA$40) -> 0 | BE44: =SUM(Z44:BB44)/COUNT(Z$40:BB$40) -> 0 | BF44: =SUM($Y44:$BC44) -> 0 | BG44: 0 | BH44: =IFERROR(SUM(Y44:BC44)/COUNT(Y44:BC44),0) -> 0 | BI44: 0 | BN44: 3 | CT44: =SUM(BO44:CQ44)/COUNT(BO$40:CQ$40) -> 0 | CU44: =SUM(BP44:CR44)/COUNT(BP$40:CR$40) -> 0 | CV44: =SUM($Y44:$BC44) -> 0 | CW44: 0 | CX44: =SUMIF(BO44:CS44,"<0",BO44:CS44) -> 0 | CY44: =SUMIF(BO44:CS44,">0",BO44:CS44) -> 0 | DT44: 3 | DU44: =Y44+BO44 -> 0 | DV44: =Z44+BP44 -> 0 | DW44: =AA44+BQ44 -> 0 | DX44: =AB44+BR44 -> 0 | DY44: =AC44+BS44 -> 0 | DZ44: =AD44+BT44 -> 0 | EA44: =AE44+BU44 -> 0 | EB44: =AF44+BV44 -> 0 | ... EW44: =BA44+CQ44 -> 0 | FC44: 3 | FD44: =FD43+IF(BO44<0,BO44,BO44/(StorEff/100)) -> #DIV/0! | FE44: =FE43+IF(BP44<0,BP44,BP44/(StorEff/100)) -> #DIV/0! | FF44: =FF43+IF(BQ44<0,BQ44,BQ44/(StorEff/100)) -> #DIV/0! | FG44: =FG43+IF(BR44<0,BR44,BR44/(StorEff/100)) -> #DIV/0! | FH44: =FH43+IF(BS44<0,BS44,BS44/(StorEff/100)) -> #DIV/0! | FI44: =FI43+IF(BT44<0,BT44,BT44/(StorEff/100)) -> #DIV/0! | FJ44: =FJ43+IF(BU44<0,BU44,BU44/(StorEff/100)) -> #DIV/0! | FK44: =FK43+IF(BV44<0,BV44,BV44/(StorEff/100)) -> #DIV/0! | ... GF44: =GF43+IF(CQ44<0,CQ44,CQ44/(StorEff/100)) -> #DIV/0!
C45: HE | D45: Jan | E45: Feb | F45: Mar | G45: Apr | H45: May | I45: Jun | J45: Jul | K45: Aug | L45: Sep | M45: Oct | N45: Nov | O45: Dec | X45: 4 | BD45: =SUM(Y45:BA45)/COUNT(Y$40:BA$40) -> 0 | BE45: =SUM(Z45:BB45)/COUNT(Z$40:BB$40) -> 0 | BF45: =SUM($Y45:$BC45) -> 0 | BG45: 0 | BH45: =IFERROR(SUM(Y45:BC45)/COUNT(Y45:BC45),0) -> 0 | BI45: 0 | BN45: 4 | CT45: =SUM(BO45:CQ45)/COUNT(BO$40:CQ$40) -> 0 | CU45: =SUM(BP45:CR45)/COUNT(BP$40:CR$40) -> 0 | CV45: =SUM($Y45:$BC45) -> 0 | CW45: 0 | CX45: =SUMIF(BO45:CS45,"<0",BO45:CS45) -> 0 | CY45: =SUMIF(BO45:CS45,">0",BO45:CS45) -> 0 | DT45: 4 | DU45: =Y45+BO45 -> 0 | DV45: =Z45+BP45 -> 0 | DW45: =AA45+BQ45 -> 0 | DX45: =AB45+BR45 -> 0 | DY45: =AC45+BS45 -> 0 | DZ45: =AD45+BT45 -> 0 | EA45: =AE45+BU45 -> 0 | EB45: =AF45+BV45 -> 0 | ... EW45: =BA45+CQ45 -> 0 | FC45: 4 | FD45: =FD44+IF(BO45<0,BO45,BO45/(StorEff/100)) -> #DIV/0! | FE45: =FE44+IF(BP45<0,BP45,BP45/(StorEff/100)) -> #DIV/0! | FF45: =FF44+IF(BQ45<0,BQ45,BQ45/(StorEff/100)) -> #DIV/0! | FG45: =FG44+IF(BR45<0,BR45,BR45/(StorEff/100)) -> #DIV/0! | FH45: =FH44+IF(BS45<0,BS45,BS45/(StorEff/100)) -> #DIV/0! | FI45: =FI44+IF(BT45<0,BT45,BT45/(StorEff/100)) -> #DIV/0! | FJ45: =FJ44+IF(BU45<0,BU45,BU45/(StorEff/100)) -> #DIV/0! | FK45: =FK44+IF(BV45<0,BV45,BV45/(StorEff/100)) -> #DIV/0! | ... GF45: =GF44+IF(CQ45<0,CQ45,CQ45/(StorEff/100)) -> #DIV/0!
C46: 1 | D46: =IFERROR(IF($CT11="",0,$CT11),0) -> 0 | E46: =IFERROR(IF($CT42="",0,$CT42),0) -> 0 | F46: =IFERROR(IF($CT73="",0,$CT73),0) -> 0 | G46: =IFERROR(IF($CT104="",0,$CT104),0) -> 0 | H46: =IFERROR(IF($CT135="",0,$CT135),0) -> 0 | I46: =IFERROR(IF($CT166="",0,$CT166),0) -> 0 | J46: =IFERROR(IF($CT197="",0,$CT197),0) -> 0 | K46: =IFERROR(IF($CT228="",0,$CT228),0) -> 0 | L46: =IFERROR(IF($CT259="",0,$CT259),0) -> 0 | M46: =IFERROR(IF($CT290="",0,$CT290),0) -> 0 | N46: =IFERROR(IF($CT321="",0,$CT321),0) -> 0 | O46: =IFERROR(IF($CT352="",0,$CT352),0) -> 0 | X46: 5 | BD46: =SUM(Y46:BA46)/COUNT(Y$40:BA$40) -> 0 | BE46: =SUM(Z46:BB46)/COUNT(Z$40:BB$40) -> 0 | BF46: =SUM($Y46:$BC46) -> 0 | BG46: 0 | BH46: =IFERROR(SUM(Y46:BC46)/COUNT(Y46:BC46),0) -> 0 | BI46: 0 | BN46: 5 | CT46: =SUM(BO46:CQ46)/COUNT(BO$40:CQ$40) -> 0 | CU46: =SUM(BP46:CR46)/COUNT(BP$40:CR$40) -> 0 | CV46: =SUM($Y46:$BC46) -> 0 | CW46: 0 | CX46: =SUMIF(BO46:CS46,"<0",BO46:CS46) -> 0 | CY46: =SUMIF(BO46:CS46,">0",BO46:CS46) -> 0 | DT46: 5 | DU46: =Y46+BO46 -> 0 | DV46: =Z46+BP46 -> 0 | DW46: =AA46+BQ46 -> 0 | DX46: =AB46+BR46 -> 0 | DY46: =AC46+BS46 -> 0 | DZ46: =AD46+BT46 -> 0 | EA46: =AE46+BU46 -> 0 | EB46: =AF46+BV46 -> 0 | ... EW46: =BA46+CQ46 -> 0 | FC46: 5 | FD46: =FD45+IF(BO46<0,BO46,BO46/(StorEff/100)) -> #DIV/0! | FE46: =FE45+IF(BP46<0,BP46,BP46/(StorEff/100)) -> #DIV/0! | FF46: =FF45+IF(BQ46<0,BQ46,BQ46/(StorEff/100)) -> #DIV/0! | FG46: =FG45+IF(BR46<0,BR46,BR46/(StorEff/100)) -> #DIV/0! | FH46: =FH45+IF(BS46<0,BS46,BS46/(StorEff/100)) -> #DIV/0! | FI46: =FI45+IF(BT46<0,BT46,BT46/(StorEff/100)) -> #DIV/0! | FJ46: =FJ45+IF(BU46<0,BU46,BU46/(StorEff/100)) -> #DIV/0! | FK46: =FK45+IF(BV46<0,BV46,BV46/(StorEff/100)) -> #DIV/0! | ... GF46: =GF45+IF(CQ46<0,CQ46,CQ46/(StorEff/100)) -> #DIV/0!
C47: 2 | D47: =IFERROR(IF($CT12="",0,$CT12),0) -> 0 | E47: =IFERROR(IF($CT43="",0,$CT43),0) -> 0 | F47: =IFERROR(IF($CT74="",0,$CT74),0) -> 0 | G47: =IFERROR(IF($CT105="",0,$CT105),0) -> 0 | H47: =IFERROR(IF($CT136="",0,$CT136),0) -> 0 | I47: =IFERROR(IF($CT167="",0,$CT167),0) -> 0 | J47: =IFERROR(IF($CT198="",0,$CT198),0) -> 0 | K47: =IFERROR(IF($CT229="",0,$CT229),0) -> 0 | L47: =IFERROR(IF($CT260="",0,$CT260),0) -> 0 | M47: =IFERROR(IF($CT291="",0,$CT291),0) -> 0 | N47: =IFERROR(IF($CT322="",0,$CT322),0) -> 0 | O47: =IFERROR(IF($CT353="",0,$CT353),0) -> 0 | X47: 6 | BD47: =SUM(Y47:BA47)/COUNT(Y$40:BA$40) -> 0 | BE47: =SUM(Z47:BB47)/COUNT(Z$40:BB$40) -> 0 | BF47: =SUM($Y47:$BC47) -> 0 | BG47: 0 | BH47: =IFERROR(SUM(Y47:BC47)/COUNT(Y47:BC47),0) -> 0 | BI47: 0 | BN47: 6 | CT47: =SUM(BO47:CQ47)/COUNT(BO$40:CQ$40) -> 0 | CU47: =SUM(BP47:CR47)/COUNT(BP$40:CR$40) -> 0 | CV47: =SUM($Y47:$BC47) -> 0 | CW47: 0 | CX47: =SUMIF(BO47:CS47,"<0",BO47:CS47) -> 0 | CY47: =SUMIF(BO47:CS47,">0",BO47:CS47) -> 0 | DT47: 6 | DU47: =Y47+BO47 -> 0 | DV47: =Z47+BP47 -> 0 | DW47: =AA47+BQ47 -> 0 | DX47: =AB47+BR47 -> 0 | DY47: =AC47+BS47 -> 0 | DZ47: =AD47+BT47 -> 0 | EA47: =AE47+BU47 -> 0 | EB47: =AF47+BV47 -> 0 | ... EW47: =BA47+CQ47 -> 0 | FC47: 6 | FD47: =FD46+IF(BO47<0,BO47,BO47/(StorEff/100)) -> #DIV/0! | FE47: =FE46+IF(BP47<0,BP47,BP47/(StorEff/100)) -> #DIV/0! | FF47: =FF46+IF(BQ47<0,BQ47,BQ47/(StorEff/100)) -> #DIV/0! | FG47: =FG46+IF(BR47<0,BR47,BR47/(StorEff/100)) -> #DIV/0! | FH47: =FH46+IF(BS47<0,BS47,BS47/(StorEff/100)) -> #DIV/0! | FI47: =FI46+IF(BT47<0,BT47,BT47/(StorEff/100)) -> #DIV/0! | FJ47: =FJ46+IF(BU47<0,BU47,BU47/(StorEff/100)) -> #DIV/0! | FK47: =FK46+IF(BV47<0,BV47,BV47/(StorEff/100)) -> #DIV/0! | ... GF47: =GF46+IF(CQ47<0,CQ47,CQ47/(StorEff/100)) -> #DIV/0!
C48: 3 | D48: =IFERROR(IF($CT13="",0,$CT13),0) -> 0 | E48: =IFERROR(IF($CT44="",0,$CT44),0) -> 0 | F48: =IFERROR(IF($CT75="",0,$CT75),0) -> 0 | G48: =IFERROR(IF($CT106="",0,$CT106),0) -> 0 | H48: =IFERROR(IF($CT137="",0,$CT137),0) -> 0 | I48: =IFERROR(IF($CT168="",0,$CT168),0) -> 0 | J48: =IFERROR(IF($CT199="",0,$CT199),0) -> 0 | K48: =IFERROR(IF($CT230="",0,$CT230),0) -> 0 | L48: =IFERROR(IF($CT261="",0,$CT261),0) -> 0 | M48: =IFERROR(IF($CT292="",0,$CT292),0) -> 0 | N48: =IFERROR(IF($CT323="",0,$CT323),0) -> 0 | O48: =IFERROR(IF($CT354="",0,$CT354),0) -> 0 | X48: 7 | BD48: =SUM(Y48:BA48)/COUNT(Y$40:BA$40) -> 0 | BE48: =SUM(Z48:BB48)/COUNT(Z$40:BB$40) -> 0 | BF48: =SUM($Y48:$BC48) -> 0 | BG48: 0 | BH48: =IFERROR(SUM(Y48:BC48)/COUNT(Y48:BC48),0) -> 0 | BI48: 0 | BN48: 7 | CT48: =SUM(BO48:CQ48)/COUNT(BO$40:CQ$40) -> 0 | CU48: =SUM(BP48:CR48)/COUNT(BP$40:CR$40) -> 0 | CV48: =SUM($Y48:$BC48) -> 0 | CW48: 0 | CX48: =SUMIF(BO48:CS48,"<0",BO48:CS48) -> 0 | CY48: =SUMIF(BO48:CS48,">0",BO48:CS48) -> 0 | DT48: 7 | DU48: =Y48+BO48 -> 0 | DV48: =Z48+BP48 -> 0 | DW48: =AA48+BQ48 -> 0 | DX48: =AB48+BR48 -> 0 | DY48: =AC48+BS48 -> 0 | DZ48: =AD48+BT48 -> 0 | EA48: =AE48+BU48 -> 0 | EB48: =AF48+BV48 -> 0 | ... EW48: =BA48+CQ48 -> 0 | FC48: 7 | FD48: =FD47+IF(BO48<0,BO48,BO48/(StorEff/100)) -> #DIV/0! | FE48: =FE47+IF(BP48<0,BP48,BP48/(StorEff/100)) -> #DIV/0! | FF48: =FF47+IF(BQ48<0,BQ48,BQ48/(StorEff/100)) -> #DIV/0! | FG48: =FG47+IF(BR48<0,BR48,BR48/(StorEff/100)) -> #DIV/0! | FH48: =FH47+IF(BS48<0,BS48,BS48/(StorEff/100)) -> #DIV/0! | FI48: =FI47+IF(BT48<0,BT48,BT48/(StorEff/100)) -> #DIV/0! | FJ48: =FJ47+IF(BU48<0,BU48,BU48/(StorEff/100)) -> #DIV/0! | FK48: =FK47+IF(BV48<0,BV48,BV48/(StorEff/100)) -> #DIV/0! | ... GF48: =GF47+IF(CQ48<0,CQ48,CQ48/(StorEff/100)) -> #DIV/0!
C49: 4 | D49: =IFERROR(IF($CT14="",0,$CT14),0) -> 0 | E49: =IFERROR(IF($CT45="",0,$CT45),0) -> 0 | F49: =IFERROR(IF($CT76="",0,$CT76),0) -> 0 | G49: =IFERROR(IF($CT107="",0,$CT107),0) -> 0 | H49: =IFERROR(IF($CT138="",0,$CT138),0) -> 0 | I49: =IFERROR(IF($CT169="",0,$CT169),0) -> 0 | J49: =IFERROR(IF($CT200="",0,$CT200),0) -> 0 | K49: =IFERROR(IF($CT231="",0,$CT231),0) -> 0 | L49: =IFERROR(IF($CT262="",0,$CT262),0) -> 0 | M49: =IFERROR(IF($CT293="",0,$CT293),0) -> 0 | N49: =IFERROR(IF($CT324="",0,$CT324),0) -> 0 | O49: =IFERROR(IF($CT355="",0,$CT355),0) -> 0 | X49: 8 | BD49: =SUM(Y49:BA49)/COUNT(Y$40:BA$40) -> 0 | BE49: =SUM(Z49:BB49)/COUNT(Z$40:BB$40) -> 0 | BF49: =(SUMIF($Y$41:$BC$41,"Sat",$Y49:$BC49)+SUMIF($Y$41:$BC$41,"Sun",$Y49:$BC49)) -> 0 | BG49: =(SUM($Y49:$BC49)-(SUMIF($Y$41:$BC$41,"Sat",$Y49:$BC49)+SUMIF($Y$41:$BC$41,"Sun",$Y49:$BC49))) -> 0 | BH49: =(SUMIF($Y$41:$BC$41,"Sat",$Y49:$BC49)+SUMIF($Y$41:$BC$41,"Sun",$Y49:$BC49))/(COUNTIF($Y$41:$BC$41,"Sat")+COUNTIF($Y$41:$BC$41,"Sun")) -> 0 | BI49: =(SUM($Y49:$BC49)-(SUMIF($Y$41:$BC$41,"Sat",$Y49:$BC49)+SUMIF($Y$41:$BC$41,"Sun",$Y49:$BC49)))/(COUNT(Y49:BC49)-(COUNTIF($Y$41:$BC$41,"Sat")+COUNTIF($Y$41:$BC$41,"Sun"))) -> 0 | BN49: 8 | CT49: =SUM(BO49:CQ49)/COUNT(BO$40:CQ$40) -> 0 | CU49: =SUM(BP49:CR49)/COUNT(BP$40:CR$40) -> 0 | CV49: =(SUMIF($Y$41:$BC$41,"Sat",$Y49:$BC49)+SUMIF($Y$41:$BC$41,"Sun",$Y49:$BC49)) -> 0 | CW49: =(SUM($Y49:$BC49)-(SUMIF($Y$41:$BC$41,"Sat",$Y49:$BC49)+SUMIF($Y$41:$BC$41,"Sun",$Y49:$BC49))) -> 0 | CX49: =SUMIF(BO49:CS49,"<0",BO49:CS49) -> 0 | CY49: =SUMIF(BO49:CS49,">0",BO49:CS49) -> 0 | DT49: 8 | DU49: =Y49+BO49 -> 0 | DV49: =Z49+BP49 -> 0 | DW49: =AA49+BQ49 -> 0 | DX49: =AB49+BR49 -> 0 | DY49: =AC49+BS49 -> 0 | DZ49: =AD49+BT49 -> 0 | EA49: =AE49+BU49 -> 0 | EB49: =AF49+BV49 -> 0 | ... EW49: =BA49+CQ49 -> 0 | FC49: 8 | FD49: =FD48+IF(BO49<0,BO49,BO49/(StorEff/100)) -> #DIV/0! | FE49: =FE48+IF(BP49<0,BP49,BP49/(StorEff/100)) -> #DIV/0! | FF49: =FF48+IF(BQ49<0,BQ49,BQ49/(StorEff/100)) -> #DIV/0! | FG49: =FG48+IF(BR49<0,BR49,BR49/(StorEff/100)) -> #DIV/0! | FH49: =FH48+IF(BS49<0,BS49,BS49/(StorEff/100)) -> #DIV/0! | FI49: =FI48+IF(BT49<0,BT49,BT49/(StorEff/100)) -> #DIV/0! | FJ49: =FJ48+IF(BU49<0,BU49,BU49/(StorEff/100)) -> #DIV/0! | FK49: =FK48+IF(BV49<0,BV49,BV49/(StorEff/100)) -> #DIV/0! | ... GF49: =GF48+IF(CQ49<0,CQ49,CQ49/(StorEff/100)) -> #DIV/0!
C50: 5 | D50: =IFERROR(IF($CT15="",0,$CT15),0) -> 0 | E50: =IFERROR(IF($CT46="",0,$CT46),0) -> 0 | F50: =IFERROR(IF($CT77="",0,$CT77),0) -> 0 | G50: =IFERROR(IF($CT108="",0,$CT108),0) -> 0 | H50: =IFERROR(IF($CT139="",0,$CT139),0) -> 0 | I50: =IFERROR(IF($CT170="",0,$CT170),0) -> 0 | J50: =IFERROR(IF($CT201="",0,$CT201),0) -> 0 | K50: =IFERROR(IF($CT232="",0,$CT232),0) -> 0 | L50: =IFERROR(IF($CT263="",0,$CT263),0) -> 0 | M50: =IFERROR(IF($CT294="",0,$CT294),0) -> 0 | N50: =IFERROR(IF($CT325="",0,$CT325),0) -> 0 | O50: =IFERROR(IF($CT356="",0,$CT356),0) -> 0 | X50: 9 | BD50: =SUM(Y50:BA50)/COUNT(Y$40:BA$40) -> 0 | BE50: =SUM(Z50:BB50)/COUNT(Z$40:BB$40) -> 0 | BF50: =(SUMIF($Y$41:$BC$41,"Sat",$Y50:$BC50)+SUMIF($Y$41:$BC$41,"Sun",$Y50:$BC50)) -> 0 | BG50: =(SUM($Y50:$BC50)-(SUMIF($Y$41:$BC$41,"Sat",$Y50:$BC50)+SUMIF($Y$41:$BC$41,"Sun",$Y50:$BC50))) -> 0 | BH50: =(SUMIF($Y$41:$BC$41,"Sat",$Y50:$BC50)+SUMIF($Y$41:$BC$41,"Sun",$Y50:$BC50))/(COUNTIF($Y$41:$BC$41,"Sat")+COUNTIF($Y$41:$BC$41,"Sun")) -> 0 | BI50: =(SUM($Y50:$BC50)-(SUMIF($Y$41:$BC$41,"Sat",$Y50:$BC50)+SUMIF($Y$41:$BC$41,"Sun",$Y50:$BC50)))/(COUNT(Y50:BC50)-(COUNTIF($Y$41:$BC$41,"Sat")+COUNTIF($Y$41:$BC$41,"Sun"))) -> 0 | BN50: 9 | CT50: =SUM(BO50:CQ50)/COUNT(BO$40:CQ$40) -> 0 | CU50: =SUM(BP50:CR50)/COUNT(BP$40:CR$40) -> 0 | CV50: =(SUMIF($Y$41:$BC$41,"Sat",$Y50:$BC50)+SUMIF($Y$41:$BC$41,"Sun",$Y50:$BC50)) -> 0 | CW50: =(SUM($Y50:$BC50)-(SUMIF($Y$41:$BC$41,"Sat",$Y50:$BC50)+SUMIF($Y$41:$BC$41,"Sun",$Y50:$BC50))) -> 0 | CX50: =SUMIF(BO50:CS50,"<0",BO50:CS50) -> 0 | CY50: =SUMIF(BO50:CS50,">0",BO50:CS50) -> 0 | DT50: 9 | DU50: =Y50+BO50 -> 0 | DV50: =Z50+BP50 -> 0 | DW50: =AA50+BQ50 -> 0 | DX50: =AB50+BR50 -> 0 | DY50: =AC50+BS50 -> 0 | DZ50: =AD50+BT50 -> 0 | EA50: =AE50+BU50 -> 0 | EB50: =AF50+BV50 -> 0 | ... EW50: =BA50+CQ50 -> 0 | FC50: 9 | FD50: =FD49+IF(BO50<0,BO50,BO50/(StorEff/100)) -> #DIV/0! | FE50: =FE49+IF(BP50<0,BP50,BP50/(StorEff/100)) -> #DIV/0! | FF50: =FF49+IF(BQ50<0,BQ50,BQ50/(StorEff/100)) -> #DIV/0! | FG50: =FG49+IF(BR50<0,BR50,BR50/(StorEff/100)) -> #DIV/0! | FH50: =FH49+IF(BS50<0,BS50,BS50/(StorEff/100)) -> #DIV/0! | FI50: =FI49+IF(BT50<0,BT50,BT50/(StorEff/100)) -> #DIV/0! | FJ50: =FJ49+IF(BU50<0,BU50,BU50/(StorEff/100)) -> #DIV/0! | FK50: =FK49+IF(BV50<0,BV50,BV50/(StorEff/100)) -> #DIV/0! | ... GF50: =GF49+IF(CQ50<0,CQ50,CQ50/(StorEff/100)) -> #DIV/0!
C51: 6 | D51: =IFERROR(IF($CT16="",0,$CT16),0) -> 0 | E51: =IFERROR(IF($CT47="",0,$CT47),0) -> 0 | F51: =IFERROR(IF($CT78="",0,$CT78),0) -> 0 | G51: =IFERROR(IF($CT109="",0,$CT109),0) -> 0 | H51: =IFERROR(IF($CT140="",0,$CT140),0) -> 0 | I51: =IFERROR(IF($CT171="",0,$CT171),0) -> 0 | J51: =IFERROR(IF($CT202="",0,$CT202),0) -> 0 | K51: =IFERROR(IF($CT233="",0,$CT233),0) -> 0 | L51: =IFERROR(IF($CT264="",0,$CT264),0) -> 0 | M51: =IFERROR(IF($CT295="",0,$CT295),0) -> 0 | N51: =IFERROR(IF($CT326="",0,$CT326),0) -> 0 | O51: =IFERROR(IF($CT357="",0,$CT357),0) -> 0 | X51: 10 | BD51: =SUM(Y51:BA51)/COUNT(Y$40:BA$40) -> 0 | BE51: =SUM(Z51:BB51)/COUNT(Z$40:BB$40) -> 0 | BF51: =(SUMIF($Y$41:$BC$41,"Sat",$Y51:$BC51)+SUMIF($Y$41:$BC$41,"Sun",$Y51:$BC51)) -> 0 | BG51: =(SUM($Y51:$BC51)-(SUMIF($Y$41:$BC$41,"Sat",$Y51:$BC51)+SUMIF($Y$41:$BC$41,"Sun",$Y51:$BC51))) -> 0 | BH51: =(SUMIF($Y$41:$BC$41,"Sat",$Y51:$BC51)+SUMIF($Y$41:$BC$41,"Sun",$Y51:$BC51))/(COUNTIF($Y$41:$BC$41,"Sat")+COUNTIF($Y$41:$BC$41,"Sun")) -> 0 | BI51: =(SUM($Y51:$BC51)-(SUMIF($Y$41:$BC$41,"Sat",$Y51:$BC51)+SUMIF($Y$41:$BC$41,"Sun",$Y51:$BC51)))/(COUNT(Y51:BC51)-(COUNTIF($Y$41:$BC$41,"Sat")+COUNTIF($Y$41:$BC$41,"Sun"))) -> 0 | BN51: 10 | CT51: =SUM(BO51:CQ51)/COUNT(BO$40:CQ$40) -> 0 | CU51: =SUM(BP51:CR51)/COUNT(BP$40:CR$40) -> 0 | CV51: =(SUMIF($Y$41:$BC$41,"Sat",$Y51:$BC51)+SUMIF($Y$41:$BC$41,"Sun",$Y51:$BC51)) -> 0 | CW51: =(SUM($Y51:$BC51)-(SUMIF($Y$41:$BC$41,"Sat",$Y51:$BC51)+SUMIF($Y$41:$BC$41,"Sun",$Y51:$BC51))) -> 0 | CX51: =SUMIF(BO51:CS51,"<0",BO51:CS51) -> 0 | CY51: =SUMIF(BO51:CS51,">0",BO51:CS51) -> 0 | DT51: 10 | DU51: =Y51+BO51 -> 0 | DV51: =Z51+BP51 -> 0 | DW51: =AA51+BQ51 -> 0 | DX51: =AB51+BR51 -> 0 | DY51: =AC51+BS51 -> 0 | DZ51: =AD51+BT51 -> 0 | EA51: =AE51+BU51 -> 0 | EB51: =AF51+BV51 -> 0 | ... EW51: =BA51+CQ51 -> 0 | FC51: 10 | FD51: =FD50+IF(BO51<0,BO51,BO51/(StorEff/100)) -> #DIV/0! | FE51: =FE50+IF(BP51<0,BP51,BP51/(StorEff/100)) -> #DIV/0! | FF51: =FF50+IF(BQ51<0,BQ51,BQ51/(StorEff/100)) -> #DIV/0! | FG51: =FG50+IF(BR51<0,BR51,BR51/(StorEff/100)) -> #DIV/0! | FH51: =FH50+IF(BS51<0,BS51,BS51/(StorEff/100)) -> #DIV/0! | FI51: =FI50+IF(BT51<0,BT51,BT51/(StorEff/100)) -> #DIV/0! | FJ51: =FJ50+IF(BU51<0,BU51,BU51/(StorEff/100)) -> #DIV/0! | FK51: =FK50+IF(BV51<0,BV51,BV51/(StorEff/100)) -> #DIV/0! | ... GF51: =GF50+IF(CQ51<0,CQ51,CQ51/(StorEff/100)) -> #DIV/0!
C52: 7 | D52: =IFERROR(IF($CT17="",0,$CT17),0) -> 0 | E52: =IFERROR(IF($CT48="",0,$CT48),0) -> 0 | F52: =IFERROR(IF($CT79="",0,$CT79),0) -> 0 | G52: =IFERROR(IF($CT110="",0,$CT110),0) -> 0 | H52: =IFERROR(IF($CT141="",0,$CT141),0) -> 0 | I52: =IFERROR(IF($CT172="",0,$CT172),0) -> 0 | J52: =IFERROR(IF($CT203="",0,$CT203),0) -> 0 | K52: =IFERROR(IF($CT234="",0,$CT234),0) -> 0 | L52: =IFERROR(IF($CT265="",0,$CT265),0) -> 0 | M52: =IFERROR(IF($CT296="",0,$CT296),0) -> 0 | N52: =IFERROR(IF($CT327="",0,$CT327),0) -> 0 | O52: =IFERROR(IF($CT358="",0,$CT358),0) -> 0 | X52: 11 | BD52: =SUM(Y52:BA52)/COUNT(Y$40:BA$40) -> 0 | BE52: =SUM(Z52:BB52)/COUNT(Z$40:BB$40) -> 0 | BF52: =(SUMIF($Y$41:$BC$41,"Sat",$Y52:$BC52)+SUMIF($Y$41:$BC$41,"Sun",$Y52:$BC52)) -> 0 | BG52: =(SUM($Y52:$BC52)-(SUMIF($Y$41:$BC$41,"Sat",$Y52:$BC52)+SUMIF($Y$41:$BC$41,"Sun",$Y52:$BC52))) -> 0 | BH52: =(SUMIF($Y$41:$BC$41,"Sat",$Y52:$BC52)+SUMIF($Y$41:$BC$41,"Sun",$Y52:$BC52))/(COUNTIF($Y$41:$BC$41,"Sat")+COUNTIF($Y$41:$BC$41,"Sun")) -> 0 | BI52: =(SUM($Y52:$BC52)-(SUMIF($Y$41:$BC$41,"Sat",$Y52:$BC52)+SUMIF($Y$41:$BC$41,"Sun",$Y52:$BC52)))/(COUNT(Y52:BC52)-(COUNTIF($Y$41:$BC$41,"Sat")+COUNTIF($Y$41:$BC$41,"Sun"))) -> 0 | BN52: 11 | CT52: =SUM(BO52:CQ52)/COUNT(BO$40:CQ$40) -> 0 | CU52: =SUM(BP52:CR52)/COUNT(BP$40:CR$40) -> 0 | CV52: =(SUMIF($Y$41:$BC$41,"Sat",$Y52:$BC52)+SUMIF($Y$41:$BC$41,"Sun",$Y52:$BC52)) -> 0 | CW52: =(SUM($Y52:$BC52)-(SUMIF($Y$41:$BC$41,"Sat",$Y52:$BC52)+SUMIF($Y$41:$BC$41,"Sun",$Y52:$BC52))) -> 0 | CX52: =SUMIF(BO52:CS52,"<0",BO52:CS52) -> 0 | CY52: =SUMIF(BO52:CS52,">0",BO52:CS52) -> 0 | DT52: 11 | DU52: =Y52+BO52 -> 0 | DV52: =Z52+BP52 -> 0 | DW52: =AA52+BQ52 -> 0 | DX52: =AB52+BR52 -> 0 | DY52: =AC52+BS52 -> 0 | DZ52: =AD52+BT52 -> 0 | EA52: =AE52+BU52 -> 0 | EB52: =AF52+BV52 -> 0 | ... EW52: =BA52+CQ52 -> 0 | FC52: 11 | FD52: =FD51+IF(BO52<0,BO52,BO52/(StorEff/100)) -> #DIV/0! | FE52: =FE51+IF(BP52<0,BP52,BP52/(StorEff/100)) -> #DIV/0! | FF52: =FF51+IF(BQ52<0,BQ52,BQ52/(StorEff/100)) -> #DIV/0! | FG52: =FG51+IF(BR52<0,BR52,BR52/(StorEff/100)) -> #DIV/0! | FH52: =FH51+IF(BS52<0,BS52,BS52/(StorEff/100)) -> #DIV/0! | FI52: =FI51+IF(BT52<0,BT52,BT52/(StorEff/100)) -> #DIV/0! | FJ52: =FJ51+IF(BU52<0,BU52,BU52/(StorEff/100)) -> #DIV/0! | FK52: =FK51+IF(BV52<0,BV52,BV52/(StorEff/100)) -> #DIV/0! | ... GF52: =GF51+IF(CQ52<0,CQ52,CQ52/(StorEff/100)) -> #DIV/0!
C53: 8 | D53: =IFERROR(IF($CT18="",0,$CT18),0) -> 0 | E53: =IFERROR(IF($CT49="",0,$CT49),0) -> 0 | F53: =IFERROR(IF($CT80="",0,$CT80),0) -> 0 | G53: =IFERROR(IF($CT111="",0,$CT111),0) -> 0 | H53: =IFERROR(IF($CT142="",0,$CT142),0) -> 0 | I53: =IFERROR(IF($CT173="",0,$CT173),0) -> 0 | J53: =IFERROR(IF($CT204="",0,$CT204),0) -> 0 | K53: =IFERROR(IF($CT235="",0,$CT235),0) -> 0 | L53: =IFERROR(IF($CT266="",0,$CT266),0) -> 0 | M53: =IFERROR(IF($CT297="",0,$CT297),0) -> 0 | N53: =IFERROR(IF($CT328="",0,$CT328),0) -> 0 | O53: =IFERROR(IF($CT359="",0,$CT359),0) -> 0 | X53: 12 | BD53: =SUM(Y53:BA53)/COUNT(Y$40:BA$40) -> 0 | BE53: =SUM(Z53:BB53)/COUNT(Z$40:BB$40) -> 0 | BF53: =(SUMIF($Y$41:$BC$41,"Sat",$Y53:$BC53)+SUMIF($Y$41:$BC$41,"Sun",$Y53:$BC53)) -> 0 | BG53: =(SUM($Y53:$BC53)-(SUMIF($Y$41:$BC$41,"Sat",$Y53:$BC53)+SUMIF($Y$41:$BC$41,"Sun",$Y53:$BC53))) -> 0 | BH53: =(SUMIF($Y$41:$BC$41,"Sat",$Y53:$BC53)+SUMIF($Y$41:$BC$41,"Sun",$Y53:$BC53))/(COUNTIF($Y$41:$BC$41,"Sat")+COUNTIF($Y$41:$BC$41,"Sun")) -> 0 | BI53: =(SUM($Y53:$BC53)-(SUMIF($Y$41:$BC$41,"Sat",$Y53:$BC53)+SUMIF($Y$41:$BC$41,"Sun",$Y53:$BC53)))/(COUNT(Y53:BC53)-(COUNTIF($Y$41:$BC$41,"Sat")+COUNTIF($Y$41:$BC$41,"Sun"))) -> 0 | BN53: 12 | CT53: =SUM(BO53:CQ53)/COUNT(BO$40:CQ$40) -> 0 | CU53: =SUM(BP53:CR53)/COUNT(BP$40:CR$40) -> 0 | CV53: =(SUMIF($Y$41:$BC$41,"Sat",$Y53:$BC53)+SUMIF($Y$41:$BC$41,"Sun",$Y53:$BC53)) -> 0 | CW53: =(SUM($Y53:$BC53)-(SUMIF($Y$41:$BC$41,"Sat",$Y53:$BC53)+SUMIF($Y$41:$BC$41,"Sun",$Y53:$BC53))) -> 0 | CX53: =SUMIF(BO53:CS53,"<0",BO53:CS53) -> 0 | CY53: =SUMIF(BO53:CS53,">0",BO53:CS53) -> 0 | DT53: 12 | DU53: =Y53+BO53 -> 0 | DV53: =Z53+BP53 -> 0 | DW53: =AA53+BQ53 -> 0 | DX53: =AB53+BR53 -> 0 | DY53: =AC53+BS53 -> 0 | DZ53: =AD53+BT53 -> 0 | EA53: =AE53+BU53 -> 0 | EB53: =AF53+BV53 -> 0 | ... EW53: =BA53+CQ53 -> 0 | FC53: 12 | FD53: =FD52+IF(BO53<0,BO53,BO53/(StorEff/100)) -> #DIV/0! | FE53: =FE52+IF(BP53<0,BP53,BP53/(StorEff/100)) -> #DIV/0! | FF53: =FF52+IF(BQ53<0,BQ53,BQ53/(StorEff/100)) -> #DIV/0! | FG53: =FG52+IF(BR53<0,BR53,BR53/(StorEff/100)) -> #DIV/0! | FH53: =FH52+IF(BS53<0,BS53,BS53/(StorEff/100)) -> #DIV/0! | FI53: =FI52+IF(BT53<0,BT53,BT53/(StorEff/100)) -> #DIV/0! | FJ53: =FJ52+IF(BU53<0,BU53,BU53/(StorEff/100)) -> #DIV/0! | FK53: =FK52+IF(BV53<0,BV53,BV53/(StorEff/100)) -> #DIV/0! | ... GF53: =GF52+IF(CQ53<0,CQ53,CQ53/(StorEff/100)) -> #DIV/0!
C54: 9 | D54: =IFERROR(IF($CT19="",0,$CT19),0) -> 0 | E54: =IFERROR(IF($CT50="",0,$CT50),0) -> 0 | F54: =IFERROR(IF($CT81="",0,$CT81),0) -> 0 | G54: =IFERROR(IF($CT112="",0,$CT112),0) -> 0 | H54: =IFERROR(IF($CT143="",0,$CT143),0) -> 0 | I54: =IFERROR(IF($CT174="",0,$CT174),0) -> 0 | J54: =IFERROR(IF($CT205="",0,$CT205),0) -> 0 | K54: =IFERROR(IF($CT236="",0,$CT236),0) -> 0 | L54: =IFERROR(IF($CT267="",0,$CT267),0) -> 0 | M54: =IFERROR(IF($CT298="",0,$CT298),0) -> 0 | N54: =IFERROR(IF($CT329="",0,$CT329),0) -> 0 | O54: =IFERROR(IF($CT360="",0,$CT360),0) -> 0 | X54: 13 | BD54: =SUM(Y54:BA54)/COUNT(Y$40:BA$40) -> 0 | BE54: =SUM(Z54:BB54)/COUNT(Z$40:BB$40) -> 0 | BF54: =(SUMIF($Y$41:$BC$41,"Sat",$Y54:$BC54)+SUMIF($Y$41:$BC$41,"Sun",$Y54:$BC54)) -> 0 | BG54: =(SUM($Y54:$BC54)-(SUMIF($Y$41:$BC$41,"Sat",$Y54:$BC54)+SUMIF($Y$41:$BC$41,"Sun",$Y54:$BC54))) -> 0 | BH54: =(SUMIF($Y$41:$BC$41,"Sat",$Y54:$BC54)+SUMIF($Y$41:$BC$41,"Sun",$Y54:$BC54))/(COUNTIF($Y$41:$BC$41,"Sat")+COUNTIF($Y$41:$BC$41,"Sun")) -> 0 | BI54: =(SUM($Y54:$BC54)-(SUMIF($Y$41:$BC$41,"Sat",$Y54:$BC54)+SUMIF($Y$41:$BC$41,"Sun",$Y54:$BC54)))/(COUNT(Y54:BC54)-(COUNTIF($Y$41:$BC$41,"Sat")+COUNTIF($Y$41:$BC$41,"Sun"))) -> 0 | BN54: 13 | CT54: =SUM(BO54:CQ54)/COUNT(BO$40:CQ$40) -> 0 | CU54: =SUM(BP54:CR54)/COUNT(BP$40:CR$40) -> 0 | CV54: =(SUMIF($Y$41:$BC$41,"Sat",$Y54:$BC54)+SUMIF($Y$41:$BC$41,"Sun",$Y54:$BC54)) -> 0 | CW54: =(SUM($Y54:$BC54)-(SUMIF($Y$41:$BC$41,"Sat",$Y54:$BC54)+SUMIF($Y$41:$BC$41,"Sun",$Y54:$BC54))) -> 0 | CX54: =SUMIF(BO54:CS54,"<0",BO54:CS54) -> 0 | CY54: =SUMIF(BO54:CS54,">0",BO54:CS54) -> 0 | DT54: 13 | DU54: =Y54+BO54 -> 0 | DV54: =Z54+BP54 -> 0 | DW54: =AA54+BQ54 -> 0 | DX54: =AB54+BR54 -> 0 | DY54: =AC54+BS54 -> 0 | DZ54: =AD54+BT54 -> 0 | EA54: =AE54+BU54 -> 0 | EB54: =AF54+BV54 -> 0 | ... EW54: =BA54+CQ54 -> 0 | FC54: 13 | FD54: =FD53+IF(BO54<0,BO54,BO54/(StorEff/100)) -> #DIV/0! | FE54: =FE53+IF(BP54<0,BP54,BP54/(StorEff/100)) -> #DIV/0! | FF54: =FF53+IF(BQ54<0,BQ54,BQ54/(StorEff/100)) -> #DIV/0! | FG54: =FG53+IF(BR54<0,BR54,BR54/(StorEff/100)) -> #DIV/0! | FH54: =FH53+IF(BS54<0,BS54,BS54/(StorEff/100)) -> #DIV/0! | FI54: =FI53+IF(BT54<0,BT54,BT54/(StorEff/100)) -> #DIV/0! | FJ54: =FJ53+IF(BU54<0,BU54,BU54/(StorEff/100)) -> #DIV/0! | FK54: =FK53+IF(BV54<0,BV54,BV54/(StorEff/100)) -> #DIV/0! | ... GF54: =GF53+IF(CQ54<0,CQ54,CQ54/(StorEff/100)) -> #DIV/0!
C55: 10 | D55: =IFERROR(IF($CT20="",0,$CT20),0) -> 0 | E55: =IFERROR(IF($CT51="",0,$CT51),0) -> 0 | F55: =IFERROR(IF($CT82="",0,$CT82),0) -> 0 | G55: =IFERROR(IF($CT113="",0,$CT113),0) -> 0 | H55: =IFERROR(IF($CT144="",0,$CT144),0) -> 0 | I55: =IFERROR(IF($CT175="",0,$CT175),0) -> 0 | J55: =IFERROR(IF($CT206="",0,$CT206),0) -> 0 | K55: =IFERROR(IF($CT237="",0,$CT237),0) -> 0 | L55: =IFERROR(IF($CT268="",0,$CT268),0) -> 0 | M55: =IFERROR(IF($CT299="",0,$CT299),0) -> 0 | N55: =IFERROR(IF($CT330="",0,$CT330),0) -> 0 | O55: =IFERROR(IF($CT361="",0,$CT361),0) -> 0 | X55: 14 | BD55: =SUM(Y55:BA55)/COUNT(Y$40:BA$40) -> 0 | BE55: =SUM(Z55:BB55)/COUNT(Z$40:BB$40) -> 0 | BF55: =(SUMIF($Y$41:$BC$41,"Sat",$Y55:$BC55)+SUMIF($Y$41:$BC$41,"Sun",$Y55:$BC55)) -> 0 | BG55: =(SUM($Y55:$BC55)-(SUMIF($Y$41:$BC$41,"Sat",$Y55:$BC55)+SUMIF($Y$41:$BC$41,"Sun",$Y55:$BC55))) -> 0 | BH55: =(SUMIF($Y$41:$BC$41,"Sat",$Y55:$BC55)+SUMIF($Y$41:$BC$41,"Sun",$Y55:$BC55))/(COUNTIF($Y$41:$BC$41,"Sat")+COUNTIF($Y$41:$BC$41,"Sun")) -> 0 | BI55: =(SUM($Y55:$BC55)-(SUMIF($Y$41:$BC$41,"Sat",$Y55:$BC55)+SUMIF($Y$41:$BC$41,"Sun",$Y55:$BC55)))/(COUNT(Y55:BC55)-(COUNTIF($Y$41:$BC$41,"Sat")+COUNTIF($Y$41:$BC$41,"Sun"))) -> 0 | BN55: 14 | CT55: =SUM(BO55:CQ55)/COUNT(BO$40:CQ$40) -> 0 | CU55: =SUM(BP55:CR55)/COUNT(BP$40:CR$40) -> 0 | CV55: =(SUMIF($Y$41:$BC$41,"Sat",$Y55:$BC55)+SUMIF($Y$41:$BC$41,"Sun",$Y55:$BC55)) -> 0 | CW55: =(SUM($Y55:$BC55)-(SUMIF($Y$41:$BC$41,"Sat",$Y55:$BC55)+SUMIF($Y$41:$BC$41,"Sun",$Y55:$BC55))) -> 0 | CX55: =SUMIF(BO55:CS55,"<0",BO55:CS55) -> 0 | CY55: =SUMIF(BO55:CS55,">0",BO55:CS55) -> 0 | DT55: 14 | DU55: =Y55+BO55 -> 0 | DV55: =Z55+BP55 -> 0 | DW55: =AA55+BQ55 -> 0 | DX55: =AB55+BR55 -> 0 | DY55: =AC55+BS55 -> 0 | DZ55: =AD55+BT55 -> 0 | EA55: =AE55+BU55 -> 0 | EB55: =AF55+BV55 -> 0 | ... EW55: =BA55+CQ55 -> 0 | FC55: 14 | FD55: =FD54+IF(BO55<0,BO55,BO55/(StorEff/100)) -> #DIV/0! | FE55: =FE54+IF(BP55<0,BP55,BP55/(StorEff/100)) -> #DIV/0! | FF55: =FF54+IF(BQ55<0,BQ55,BQ55/(StorEff/100)) -> #DIV/0! | FG55: =FG54+IF(BR55<0,BR55,BR55/(StorEff/100)) -> #DIV/0! | FH55: =FH54+IF(BS55<0,BS55,BS55/(StorEff/100)) -> #DIV/0! | FI55: =FI54+IF(BT55<0,BT55,BT55/(StorEff/100)) -> #DIV/0! | FJ55: =FJ54+IF(BU55<0,BU55,BU55/(StorEff/100)) -> #DIV/0! | FK55: =FK54+IF(BV55<0,BV55,BV55/(StorEff/100)) -> #DIV/0! | ... GF55: =GF54+IF(CQ55<0,CQ55,CQ55/(StorEff/100)) -> #DIV/0!
C56: 11 | D56: =IFERROR(IF($CT21="",0,$CT21),0) -> 0 | E56: =IFERROR(IF($CT52="",0,$CT52),0) -> 0 | F56: =IFERROR(IF($CT83="",0,$CT83),0) -> 0 | G56: =IFERROR(IF($CT114="",0,$CT114),0) -> 0 | H56: =IFERROR(IF($CT145="",0,$CT145),0) -> 0 | I56: =IFERROR(IF($CT176="",0,$CT176),0) -> 0 | J56: =IFERROR(IF($CT207="",0,$CT207),0) -> 0 | K56: =IFERROR(IF($CT238="",0,$CT238),0) -> 0 | L56: =IFERROR(IF($CT269="",0,$CT269),0) -> 0 | M56: =IFERROR(IF($CT300="",0,$CT300),0) -> 0 | N56: =IFERROR(IF($CT331="",0,$CT331),0) -> 0 | O56: =IFERROR(IF($CT362="",0,$CT362),0) -> 0 | X56: 15 | BD56: =SUM(Y56:BA56)/COUNT(Y$40:BA$40) -> 0 | BE56: =SUM(Z56:BB56)/COUNT(Z$40:BB$40) -> 0 | BF56: =(SUMIF($Y$41:$BC$41,"Sat",$Y56:$BC56)+SUMIF($Y$41:$BC$41,"Sun",$Y56:$BC56)) -> 0 | BG56: =(SUM($Y56:$BC56)-(SUMIF($Y$41:$BC$41,"Sat",$Y56:$BC56)+SUMIF($Y$41:$BC$41,"Sun",$Y56:$BC56))) -> 0 | BH56: =(SUMIF($Y$41:$BC$41,"Sat",$Y56:$BC56)+SUMIF($Y$41:$BC$41,"Sun",$Y56:$BC56))/(COUNTIF($Y$41:$BC$41,"Sat")+COUNTIF($Y$41:$BC$41,"Sun")) -> 0 | BI56: =(SUM($Y56:$BC56)-(SUMIF($Y$41:$BC$41,"Sat",$Y56:$BC56)+SUMIF($Y$41:$BC$41,"Sun",$Y56:$BC56)))/(COUNT(Y56:BC56)-(COUNTIF($Y$41:$BC$41,"Sat")+COUNTIF($Y$41:$BC$41,"Sun"))) -> 0 | BN56: 15 | CT56: =SUM(BO56:CQ56)/COUNT(BO$40:CQ$40) -> 0 | CU56: =SUM(BP56:CR56)/COUNT(BP$40:CR$40) -> 0 | CV56: =(SUMIF($Y$41:$BC$41,"Sat",$Y56:$BC56)+SUMIF($Y$41:$BC$41,"Sun",$Y56:$BC56)) -> 0 | CW56: =(SUM($Y56:$BC56)-(SUMIF($Y$41:$BC$41,"Sat",$Y56:$BC56)+SUMIF($Y$41:$BC$41,"Sun",$Y56:$BC56))) -> 0 | CX56: =SUMIF(BO56:CS56,"<0",BO56:CS56) -> 0 | CY56: =SUMIF(BO56:CS56,">0",BO56:CS56) -> 0 | DT56: 15 | DU56: =Y56+BO56 -> 0 | DV56: =Z56+BP56 -> 0 | DW56: =AA56+BQ56 -> 0 | DX56: =AB56+BR56 -> 0 | DY56: =AC56+BS56 -> 0 | DZ56: =AD56+BT56 -> 0 | EA56: =AE56+BU56 -> 0 | EB56: =AF56+BV56 -> 0 | ... EW56: =BA56+CQ56 -> 0 | FC56: 15 | FD56: =FD55+IF(BO56<0,BO56,BO56/(StorEff/100)) -> #DIV/0! | FE56: =FE55+IF(BP56<0,BP56,BP56/(StorEff/100)) -> #DIV/0! | FF56: =FF55+IF(BQ56<0,BQ56,BQ56/(StorEff/100)) -> #DIV/0! | FG56: =FG55+IF(BR56<0,BR56,BR56/(StorEff/100)) -> #DIV/0! | FH56: =FH55+IF(BS56<0,BS56,BS56/(StorEff/100)) -> #DIV/0! | FI56: =FI55+IF(BT56<0,BT56,BT56/(StorEff/100)) -> #DIV/0! | FJ56: =FJ55+IF(BU56<0,BU56,BU56/(StorEff/100)) -> #DIV/0! | FK56: =FK55+IF(BV56<0,BV56,BV56/(StorEff/100)) -> #DIV/0! | ... GF56: =GF55+IF(CQ56<0,CQ56,CQ56/(StorEff/100)) -> #DIV/0!
C57: 12 | D57: =IFERROR(IF($CT22="",0,$CT22),0) -> 0 | E57: =IFERROR(IF($CT53="",0,$CT53),0) -> 0 | F57: =IFERROR(IF($CT84="",0,$CT84),0) -> 0 | G57: =IFERROR(IF($CT115="",0,$CT115),0) -> 0 | H57: =IFERROR(IF($CT146="",0,$CT146),0) -> 0 | I57: =IFERROR(IF($CT177="",0,$CT177),0) -> 0 | J57: =IFERROR(IF($CT208="",0,$CT208),0) -> 0 | K57: =IFERROR(IF($CT239="",0,$CT239),0) -> 0 | L57: =IFERROR(IF($CT270="",0,$CT270),0) -> 0 | M57: =IFERROR(IF($CT301="",0,$CT301),0) -> 0 | N57: =IFERROR(IF($CT332="",0,$CT332),0) -> 0 | O57: =IFERROR(IF($CT363="",0,$CT363),0) -> 0 | X57: 16 | BD57: =SUM(Y57:BA57)/COUNT(Y$40:BA$40) -> 0 | BE57: =SUM(Z57:BB57)/COUNT(Z$40:BB$40) -> 0 | BF57: =(SUMIF($Y$41:$BC$41,"Sat",$Y57:$BC57)+SUMIF($Y$41:$BC$41,"Sun",$Y57:$BC57)) -> 0 | BG57: =(SUM($Y57:$BC57)-(SUMIF($Y$41:$BC$41,"Sat",$Y57:$BC57)+SUMIF($Y$41:$BC$41,"Sun",$Y57:$BC57))) -> 0 | BH57: =(SUMIF($Y$41:$BC$41,"Sat",$Y57:$BC57)+SUMIF($Y$41:$BC$41,"Sun",$Y57:$BC57))/(COUNTIF($Y$41:$BC$41,"Sat")+COUNTIF($Y$41:$BC$41,"Sun")) -> 0 | BI57: =(SUM($Y57:$BC57)-(SUMIF($Y$41:$BC$41,"Sat",$Y57:$BC57)+SUMIF($Y$41:$BC$41,"Sun",$Y57:$BC57)))/(COUNT(Y57:BC57)-(COUNTIF($Y$41:$BC$41,"Sat")+COUNTIF($Y$41:$BC$41,"Sun"))) -> 0 | BN57: 16 | CT57: =SUM(BO57:CQ57)/COUNT(BO$40:CQ$40) -> 0 | CU57: =SUM(BP57:CR57)/COUNT(BP$40:CR$40) -> 0 | CV57: =(SUMIF($Y$41:$BC$41,"Sat",$Y57:$BC57)+SUMIF($Y$41:$BC$41,"Sun",$Y57:$BC57)) -> 0 | CW57: =(SUM($Y57:$BC57)-(SUMIF($Y$41:$BC$41,"Sat",$Y57:$BC57)+SUMIF($Y$41:$BC$41,"Sun",$Y57:$BC57))) -> 0 | CX57: =SUMIF(BO57:CS57,"<0",BO57:CS57) -> 0 | CY57: =SUMIF(BO57:CS57,">0",BO57:CS57) -> 0 | DT57: 16 | DU57: =Y57+BO57 -> 0 | DV57: =Z57+BP57 -> 0 | DW57: =AA57+BQ57 -> 0 | DX57: =AB57+BR57 -> 0 | DY57: =AC57+BS57 -> 0 | DZ57: =AD57+BT57 -> 0 | EA57: =AE57+BU57 -> 0 | EB57: =AF57+BV57 -> 0 | ... EW57: =BA57+CQ57 -> 0 | FC57: 16 | FD57: =FD56+IF(BO57<0,BO57,BO57/(StorEff/100)) -> #DIV/0! | FE57: =FE56+IF(BP57<0,BP57,BP57/(StorEff/100)) -> #DIV/0! | FF57: =FF56+IF(BQ57<0,BQ57,BQ57/(StorEff/100)) -> #DIV/0! | FG57: =FG56+IF(BR57<0,BR57,BR57/(StorEff/100)) -> #DIV/0! | FH57: =FH56+IF(BS57<0,BS57,BS57/(StorEff/100)) -> #DIV/0! | FI57: =FI56+IF(BT57<0,BT57,BT57/(StorEff/100)) -> #DIV/0! | FJ57: =FJ56+IF(BU57<0,BU57,BU57/(StorEff/100)) -> #DIV/0! | FK57: =FK56+IF(BV57<0,BV57,BV57/(StorEff/100)) -> #DIV/0! | ... GF57: =GF56+IF(CQ57<0,CQ57,CQ57/(StorEff/100)) -> #DIV/0!
C58: 13 | D58: =IFERROR(IF($CT23="",0,$CT23),0) -> 0 | E58: =IFERROR(IF($CT54="",0,$CT54),0) -> 0 | F58: =IFERROR(IF($CT85="",0,$CT85),0) -> 0 | G58: =IFERROR(IF($CT116="",0,$CT116),0) -> 0 | H58: =IFERROR(IF($CT147="",0,$CT147),0) -> 0 | I58: =IFERROR(IF($CT178="",0,$CT178),0) -> 0 | J58: =IFERROR(IF($CT209="",0,$CT209),0) -> 0 | K58: =IFERROR(IF($CT240="",0,$CT240),0) -> 0 | L58: =IFERROR(IF($CT271="",0,$CT271),0) -> 0 | M58: =IFERROR(IF($CT302="",0,$CT302),0) -> 0 | N58: =IFERROR(IF($CT333="",0,$CT333),0) -> 0 | O58: =IFERROR(IF($CT364="",0,$CT364),0) -> 0 | X58: 17 | BD58: =SUM(Y58:BA58)/COUNT(Y$40:BA$40) -> 0 | BE58: =SUM(Z58:BB58)/COUNT(Z$40:BB$40) -> 0 | BF58: =(SUMIF($Y$41:$BC$41,"Sat",$Y58:$BC58)+SUMIF($Y$41:$BC$41,"Sun",$Y58:$BC58)) -> 0 | BG58: =(SUM($Y58:$BC58)-(SUMIF($Y$41:$BC$41,"Sat",$Y58:$BC58)+SUMIF($Y$41:$BC$41,"Sun",$Y58:$BC58))) -> 0 | BH58: =(SUMIF($Y$41:$BC$41,"Sat",$Y58:$BC58)+SUMIF($Y$41:$BC$41,"Sun",$Y58:$BC58))/(COUNTIF($Y$41:$BC$41,"Sat")+COUNTIF($Y$41:$BC$41,"Sun")) -> 0 | BI58: =(SUM($Y58:$BC58)-(SUMIF($Y$41:$BC$41,"Sat",$Y58:$BC58)+SUMIF($Y$41:$BC$41,"Sun",$Y58:$BC58)))/(COUNT(Y58:BC58)-(COUNTIF($Y$41:$BC$41,"Sat")+COUNTIF($Y$41:$BC$41,"Sun"))) -> 0 | BN58: 17 | CT58: =SUM(BO58:CQ58)/COUNT(BO$40:CQ$40) -> 0 | CU58: =SUM(BP58:CR58)/COUNT(BP$40:CR$40) -> 0 | CV58: =(SUMIF($Y$41:$BC$41,"Sat",$Y58:$BC58)+SUMIF($Y$41:$BC$41,"Sun",$Y58:$BC58)) -> 0 | CW58: =(SUM($Y58:$BC58)-(SUMIF($Y$41:$BC$41,"Sat",$Y58:$BC58)+SUMIF($Y$41:$BC$41,"Sun",$Y58:$BC58))) -> 0 | CX58: =SUMIF(BO58:CS58,"<0",BO58:CS58) -> 0 | CY58: =SUMIF(BO58:CS58,">0",BO58:CS58) -> 0 | DT58: 17 | DU58: =Y58+BO58 -> 0 | DV58: =Z58+BP58 -> 0 | DW58: =AA58+BQ58 -> 0 | DX58: =AB58+BR58 -> 0 | DY58: =AC58+BS58 -> 0 | DZ58: =AD58+BT58 -> 0 | EA58: =AE58+BU58 -> 0 | EB58: =AF58+BV58 -> 0 | ... EW58: =BA58+CQ58 -> 0 | FC58: 17 | FD58: =FD57+IF(BO58<0,BO58,BO58/(StorEff/100)) -> #DIV/0! | FE58: =FE57+IF(BP58<0,BP58,BP58/(StorEff/100)) -> #DIV/0! | FF58: =FF57+IF(BQ58<0,BQ58,BQ58/(StorEff/100)) -> #DIV/0! | FG58: =FG57+IF(BR58<0,BR58,BR58/(StorEff/100)) -> #DIV/0! | FH58: =FH57+IF(BS58<0,BS58,BS58/(StorEff/100)) -> #DIV/0! | FI58: =FI57+IF(BT58<0,BT58,BT58/(StorEff/100)) -> #DIV/0! | FJ58: =FJ57+IF(BU58<0,BU58,BU58/(StorEff/100)) -> #DIV/0! | FK58: =FK57+IF(BV58<0,BV58,BV58/(StorEff/100)) -> #DIV/0! | ... GF58: =GF57+IF(CQ58<0,CQ58,CQ58/(StorEff/100)) -> #DIV/0!
C59: 14 | D59: =IFERROR(IF($CT24="",0,$CT24),0) -> 0 | E59: =IFERROR(IF($CT55="",0,$CT55),0) -> 0 | F59: =IFERROR(IF($CT86="",0,$CT86),0) -> 0 | G59: =IFERROR(IF($CT117="",0,$CT117),0) -> 0 | H59: =IFERROR(IF($CT148="",0,$CT148),0) -> 0 | I59: =IFERROR(IF($CT179="",0,$CT179),0) -> 0 | J59: =IFERROR(IF($CT210="",0,$CT210),0) -> 0 | K59: =IFERROR(IF($CT241="",0,$CT241),0) -> 0 | L59: =IFERROR(IF($CT272="",0,$CT272),0) -> 0 | M59: =IFERROR(IF($CT303="",0,$CT303),0) -> 0 | N59: =IFERROR(IF($CT334="",0,$CT334),0) -> 0 | O59: =IFERROR(IF($CT365="",0,$CT365),0) -> 0 | X59: 18 | BD59: =SUM(Y59:BA59)/COUNT(Y$40:BA$40) -> 0 | BE59: =SUM(Z59:BB59)/COUNT(Z$40:BB$40) -> 0 | BF59: =(SUMIF($Y$41:$BC$41,"Sat",$Y59:$BC59)+SUMIF($Y$41:$BC$41,"Sun",$Y59:$BC59)) -> 0 | BG59: =(SUM($Y59:$BC59)-(SUMIF($Y$41:$BC$41,"Sat",$Y59:$BC59)+SUMIF($Y$41:$BC$41,"Sun",$Y59:$BC59))) -> 0 | BH59: =(SUMIF($Y$41:$BC$41,"Sat",$Y59:$BC59)+SUMIF($Y$41:$BC$41,"Sun",$Y59:$BC59))/(COUNTIF($Y$41:$BC$41,"Sat")+COUNTIF($Y$41:$BC$41,"Sun")) -> 0 | BI59: =(SUM($Y59:$BC59)-(SUMIF($Y$41:$BC$41,"Sat",$Y59:$BC59)+SUMIF($Y$41:$BC$41,"Sun",$Y59:$BC59)))/(COUNT(Y59:BC59)-(COUNTIF($Y$41:$BC$41,"Sat")+COUNTIF($Y$41:$BC$41,"Sun"))) -> 0 | BN59: 18 | CT59: =SUM(BO59:CQ59)/COUNT(BO$40:CQ$40) -> 0 | CU59: =SUM(BP59:CR59)/COUNT(BP$40:CR$40) -> 0 | CV59: =(SUMIF($Y$41:$BC$41,"Sat",$Y59:$BC59)+SUMIF($Y$41:$BC$41,"Sun",$Y59:$BC59)) -> 0 | CW59: =(SUM($Y59:$BC59)-(SUMIF($Y$41:$BC$41,"Sat",$Y59:$BC59)+SUMIF($Y$41:$BC$41,"Sun",$Y59:$BC59))) -> 0 | CX59: =SUMIF(BO59:CS59,"<0",BO59:CS59) -> 0 | CY59: =SUMIF(BO59:CS59,">0",BO59:CS59) -> 0 | DT59: 18 | DU59: =Y59+BO59 -> 0 | DV59: =Z59+BP59 -> 0 | DW59: =AA59+BQ59 -> 0 | DX59: =AB59+BR59 -> 0 | DY59: =AC59+BS59 -> 0 | DZ59: =AD59+BT59 -> 0 | EA59: =AE59+BU59 -> 0 | EB59: =AF59+BV59 -> 0 | ... EW59: =BA59+CQ59 -> 0 | FC59: 18 | FD59: =FD58+IF(BO59<0,BO59,BO59/(StorEff/100)) -> #DIV/0! | FE59: =FE58+IF(BP59<0,BP59,BP59/(StorEff/100)) -> #DIV/0! | FF59: =FF58+IF(BQ59<0,BQ59,BQ59/(StorEff/100)) -> #DIV/0! | FG59: =FG58+IF(BR59<0,BR59,BR59/(StorEff/100)) -> #DIV/0! | FH59: =FH58+IF(BS59<0,BS59,BS59/(StorEff/100)) -> #DIV/0! | FI59: =FI58+IF(BT59<0,BT59,BT59/(StorEff/100)) -> #DIV/0! | FJ59: =FJ58+IF(BU59<0,BU59,BU59/(StorEff/100)) -> #DIV/0! | FK59: =FK58+IF(BV59<0,BV59,BV59/(StorEff/100)) -> #DIV/0! | ... GF59: =GF58+IF(CQ59<0,CQ59,CQ59/(StorEff/100)) -> #DIV/0!
C60: 15 | D60: =IFERROR(IF($CT25="",0,$CT25),0) -> 0 | E60: =IFERROR(IF($CT56="",0,$CT56),0) -> 0 | F60: =IFERROR(IF($CT87="",0,$CT87),0) -> 0 | G60: =IFERROR(IF($CT118="",0,$CT118),0) -> 0 | H60: =IFERROR(IF($CT149="",0,$CT149),0) -> 0 | I60: =IFERROR(IF($CT180="",0,$CT180),0) -> 0 | J60: =IFERROR(IF($CT211="",0,$CT211),0) -> 0 | K60: =IFERROR(IF($CT242="",0,$CT242),0) -> 0 | L60: =IFERROR(IF($CT273="",0,$CT273),0) -> 0 | M60: =IFERROR(IF($CT304="",0,$CT304),0) -> 0 | N60: =IFERROR(IF($CT335="",0,$CT335),0) -> 0 | O60: =IFERROR(IF($CT366="",0,$CT366),0) -> 0 | X60: 19 | BD60: =SUM(Y60:BA60)/COUNT(Y$40:BA$40) -> 0 | BE60: =SUM(Z60:BB60)/COUNT(Z$40:BB$40) -> 0 | BF60: =(SUMIF($Y$41:$BC$41,"Sat",$Y60:$BC60)+SUMIF($Y$41:$BC$41,"Sun",$Y60:$BC60)) -> 0 | BG60: =(SUM($Y60:$BC60)-(SUMIF($Y$41:$BC$41,"Sat",$Y60:$BC60)+SUMIF($Y$41:$BC$41,"Sun",$Y60:$BC60))) -> 0 | BH60: =(SUMIF($Y$41:$BC$41,"Sat",$Y60:$BC60)+SUMIF($Y$41:$BC$41,"Sun",$Y60:$BC60))/(COUNTIF($Y$41:$BC$41,"Sat")+COUNTIF($Y$41:$BC$41,"Sun")) -> 0 | BI60: =(SUM($Y60:$BC60)-(SUMIF($Y$41:$BC$41,"Sat",$Y60:$BC60)+SUMIF($Y$41:$BC$41,"Sun",$Y60:$BC60)))/(COUNT(Y60:BC60)-(COUNTIF($Y$41:$BC$41,"Sat")+COUNTIF($Y$41:$BC$41,"Sun"))) -> 0 | BN60: 19 | CT60: =SUM(BO60:CQ60)/COUNT(BO$40:CQ$40) -> 0 | CU60: =SUM(BP60:CR60)/COUNT(BP$40:CR$40) -> 0 | CV60: =(SUMIF($Y$41:$BC$41,"Sat",$Y60:$BC60)+SUMIF($Y$41:$BC$41,"Sun",$Y60:$BC60)) -> 0 | CW60: =(SUM($Y60:$BC60)-(SUMIF($Y$41:$BC$41,"Sat",$Y60:$BC60)+SUMIF($Y$41:$BC$41,"Sun",$Y60:$BC60))) -> 0 | CX60: =SUMIF(BO60:CS60,"<0",BO60:CS60) -> 0 | CY60: =SUMIF(BO60:CS60,">0",BO60:CS60) -> 0 | DT60: 19 | DU60: =Y60+BO60 -> 0 | DV60: =Z60+BP60 -> 0 | DW60: =AA60+BQ60 -> 0 | DX60: =AB60+BR60 -> 0 | DY60: =AC60+BS60 -> 0 | DZ60: =AD60+BT60 -> 0 | EA60: =AE60+BU60 -> 0 | EB60: =AF60+BV60 -> 0 | ... EW60: =BA60+CQ60 -> 0 | FC60: 19 | FD60: =FD59+IF(BO60<0,BO60,BO60/(StorEff/100)) -> #DIV/0! | FE60: =FE59+IF(BP60<0,BP60,BP60/(StorEff/100)) -> #DIV/0! | FF60: =FF59+IF(BQ60<0,BQ60,BQ60/(StorEff/100)) -> #DIV/0! | FG60: =FG59+IF(BR60<0,BR60,BR60/(StorEff/100)) -> #DIV/0! | FH60: =FH59+IF(BS60<0,BS60,BS60/(StorEff/100)) -> #DIV/0! | FI60: =FI59+IF(BT60<0,BT60,BT60/(StorEff/100)) -> #DIV/0! | FJ60: =FJ59+IF(BU60<0,BU60,BU60/(StorEff/100)) -> #DIV/0! | FK60: =FK59+IF(BV60<0,BV60,BV60/(StorEff/100)) -> #DIV/0! | ... GF60: =GF59+IF(CQ60<0,CQ60,CQ60/(StorEff/100)) -> #DIV/0!
... C62: 17 | D62: =IFERROR(IF($CT27="",0,$CT27),0) -> 0 | E62: =IFERROR(IF($CT58="",0,$CT58),0) -> 0 | F62: =IFERROR(IF($CT89="",0,$CT89),0) -> 0 | G62: =IFERROR(IF($CT120="",0,$CT120),0) -> 0 | H62: =IFERROR(IF($CT151="",0,$CT151),0) -> 0 | I62: =IFERROR(IF($CT182="",0,$CT182),0) -> 0 | J62: =IFERROR(IF($CT213="",0,$CT213),0) -> 0 | K62: =IFERROR(IF($CT244="",0,$CT244),0) -> 0 | L62: =IFERROR(IF($CT275="",0,$CT275),0) -> 0 | M62: =IFERROR(IF($CT306="",0,$CT306),0) -> 0 | N62: =IFERROR(IF($CT337="",0,$CT337),0) -> 0 | O62: =IFERROR(IF($CT368="",0,$CT368),0) -> 0 | X62: 21 | BD62: =SUM(Y62:BA62)/COUNT(Y$40:BA$40) -> 0 | BE62: =SUM(Z62:BB62)/COUNT(Z$40:BB$40) -> 0 | BF62: =(SUMIF($Y$41:$BC$41,"Sat",$Y62:$BC62)+SUMIF($Y$41:$BC$41,"Sun",$Y62:$BC62)) -> 0 | BG62: =(SUM($Y62:$BC62)-(SUMIF($Y$41:$BC$41,"Sat",$Y62:$BC62)+SUMIF($Y$41:$BC$41,"Sun",$Y62:$BC62))) -> 0 | BH62: =(SUMIF($Y$41:$BC$41,"Sat",$Y62:$BC62)+SUMIF($Y$41:$BC$41,"Sun",$Y62:$BC62))/(COUNTIF($Y$41:$BC$41,"Sat")+COUNTIF($Y$41:$BC$41,"Sun")) -> 0 | BI62: =(SUM($Y62:$BC62)-(SUMIF($Y$41:$BC$41,"Sat",$Y62:$BC62)+SUMIF($Y$41:$BC$41,"Sun",$Y62:$BC62)))/(COUNT(Y62:BC62)-(COUNTIF($Y$41:$BC$41,"Sat")+COUNTIF($Y$41:$BC$41,"Sun"))) -> 0 | BN62: 21 | CT62: =SUM(BO62:CQ62)/COUNT(BO$40:CQ$40) -> 0 | CU62: =SUM(BP62:CR62)/COUNT(BP$40:CR$40) -> 0 | CV62: =(SUMIF($Y$41:$BC$41,"Sat",$Y62:$BC62)+SUMIF($Y$41:$BC$41,"Sun",$Y62:$BC62)) -> 0 | CW62: =(SUM($Y62:$BC62)-(SUMIF($Y$41:$BC$41,"Sat",$Y62:$BC62)+SUMIF($Y$41:$BC$41,"Sun",$Y62:$BC62))) -> 0 | CX62: =SUMIF(BO62:CS62,"<0",BO62:CS62) -> 0 | CY62: =SUMIF(BO62:CS62,">0",BO62:CS62) -> 0 | DT62: 21 | DU62: =Y62+BO62 -> 0 | DV62: =Z62+BP62 -> 0 | DW62: =AA62+BQ62 -> 0 | DX62: =AB62+BR62 -> 0 | DY62: =AC62+BS62 -> 0 | DZ62: =AD62+BT62 -> 0 | EA62: =AE62+BU62 -> 0 | EB62: =AF62+BV62 -> 0 | ... EW62: =BA62+CQ62 -> 0 | FC62: 21 | FD62: =FD61+IF(BO62<0,BO62,BO62/(StorEff/100)) -> #DIV/0! | FE62: =FE61+IF(BP62<0,BP62,BP62/(StorEff/100)) -> #DIV/0! | FF62: =FF61+IF(BQ62<0,BQ62,BQ62/(StorEff/100)) -> #DIV/0! | FG62: =FG61+IF(BR62<0,BR62,BR62/(StorEff/100)) -> #DIV/0! | FH62: =FH61+IF(BS62<0,BS62,BS62/(StorEff/100)) -> #DIV/0! | FI62: =FI61+IF(BT62<0,BT62,BT62/(StorEff/100)) -> #DIV/0! | FJ62: =FJ61+IF(BU62<0,BU62,BU62/(StorEff/100)) -> #DIV/0! | FK62: =FK61+IF(BV62<0,BV62,BV62/(StorEff/100)) -> #DIV/0! | ... GF62: =GF61+IF(CQ62<0,CQ62,CQ62/(StorEff/100)) -> #DIV/0!
C63: 18 | D63: =IFERROR(IF($CT28="",0,$CT28),0) -> 0 | E63: =IFERROR(IF($CT59="",0,$CT59),0) -> 0 | F63: =IFERROR(IF($CT90="",0,$CT90),0) -> 0 | G63: =IFERROR(IF($CT121="",0,$CT121),0) -> 0 | H63: =IFERROR(IF($CT152="",0,$CT152),0) -> 0 | I63: =IFERROR(IF($CT183="",0,$CT183),0) -> 0 | J63: =IFERROR(IF($CT214="",0,$CT214),0) -> 0 | K63: =IFERROR(IF($CT245="",0,$CT245),0) -> 0 | L63: =IFERROR(IF($CT276="",0,$CT276),0) -> 0 | M63: =IFERROR(IF($CT307="",0,$CT307),0) -> 0 | N63: =IFERROR(IF($CT338="",0,$CT338),0) -> 0 | O63: =IFERROR(IF($CT369="",0,$CT369),0) -> 0 | X63: 22 | BD63: =SUM(Y63:BA63)/COUNT(Y$40:BA$40) -> 0 | BE63: =SUM(Z63:BB63)/COUNT(Z$40:BB$40) -> 0 | BF63: =(SUMIF($Y$41:$BC$41,"Sat",$Y63:$BC63)+SUMIF($Y$41:$BC$41,"Sun",$Y63:$BC63)) -> 0 | BG63: =(SUM($Y63:$BC63)-(SUMIF($Y$41:$BC$41,"Sat",$Y63:$BC63)+SUMIF($Y$41:$BC$41,"Sun",$Y63:$BC63))) -> 0 | BH63: =(SUMIF($Y$41:$BC$41,"Sat",$Y63:$BC63)+SUMIF($Y$41:$BC$41,"Sun",$Y63:$BC63))/(COUNTIF($Y$41:$BC$41,"Sat")+COUNTIF($Y$41:$BC$41,"Sun")) -> 0 | BI63: =(SUM($Y63:$BC63)-(SUMIF($Y$41:$BC$41,"Sat",$Y63:$BC63)+SUMIF($Y$41:$BC$41,"Sun",$Y63:$BC63)))/(COUNT(Y63:BC63)-(COUNTIF($Y$41:$BC$41,"Sat")+COUNTIF($Y$41:$BC$41,"Sun"))) -> 0 | BN63: 22 | CT63: =SUM(BO63:CQ63)/COUNT(BO$40:CQ$40) -> 0 | CU63: =SUM(BP63:CR63)/COUNT(BP$40:CR$40) -> 0 | CV63: =(SUMIF($Y$41:$BC$41,"Sat",$Y63:$BC63)+SUMIF($Y$41:$BC$41,"Sun",$Y63:$BC63)) -> 0 | CW63: =(SUM($Y63:$BC63)-(SUMIF($Y$41:$BC$41,"Sat",$Y63:$BC63)+SUMIF($Y$41:$BC$41,"Sun",$Y63:$BC63))) -> 0 | CX63: =SUMIF(BO63:CS63,"<0",BO63:CS63) -> 0 | CY63: =SUMIF(BO63:CS63,">0",BO63:CS63) -> 0 | DB63: Monthly | DT63: 22 | DU63: =Y63+BO63 -> 0 | DV63: =Z63+BP63 -> 0 | DW63: =AA63+BQ63 -> 0 | DX63: =AB63+BR63 -> 0 | DY63: =AC63+BS63 -> 0 | DZ63: =AD63+BT63 -> 0 | EA63: =AE63+BU63 -> 0 | EB63: =AF63+BV63 -> 0 | ... EW63: =BA63+CQ63 -> 0 | FC63: 22 | FD63: =FD62+IF(BO63<0,BO63,BO63/(StorEff/100)) -> #DIV/0! | FE63: =FE62+IF(BP63<0,BP63,BP63/(StorEff/100)) -> #DIV/0! | FF63: =FF62+IF(BQ63<0,BQ63,BQ63/(StorEff/100)) -> #DIV/0! | FG63: =FG62+IF(BR63<0,BR63,BR63/(StorEff/100)) -> #DIV/0! | FH63: =FH62+IF(BS63<0,BS63,BS63/(StorEff/100)) -> #DIV/0! | FI63: =FI62+IF(BT63<0,BT63,BT63/(StorEff/100)) -> #DIV/0! | FJ63: =FJ62+IF(BU63<0,BU63,BU63/(StorEff/100)) -> #DIV/0! | FK63: =FK62+IF(BV63<0,BV63,BV63/(StorEff/100)) -> #DIV/0! | ... GF63: =GF62+IF(CQ63<0,CQ63,CQ63/(StorEff/100)) -> #DIV/0!
C64: 19 | D64: =IFERROR(IF($CT29="",0,$CT29),0) -> 0 | E64: =IFERROR(IF($CT60="",0,$CT60),0) -> 0 | F64: =IFERROR(IF($CT91="",0,$CT91),0) -> 0 | G64: =IFERROR(IF($CT122="",0,$CT122),0) -> 0 | H64: =IFERROR(IF($CT153="",0,$CT153),0) -> 0 | I64: =IFERROR(IF($CT184="",0,$CT184),0) -> 0 | J64: =IFERROR(IF($CT215="",0,$CT215),0) -> 0 | K64: =IFERROR(IF($CT246="",0,$CT246),0) -> 0 | L64: =IFERROR(IF($CT277="",0,$CT277),0) -> 0 | M64: =IFERROR(IF($CT308="",0,$CT308),0) -> 0 | N64: =IFERROR(IF($CT339="",0,$CT339),0) -> 0 | O64: =IFERROR(IF($CT370="",0,$CT370),0) -> 0 | X64: 23 | BD64: =SUM(Y64:BA64)/COUNT(Y$40:BA$40) -> 0 | BE64: =SUM(Z64:BB64)/COUNT(Z$40:BB$40) -> 0 | BF64: =(SUMIF($Y$41:$BC$41,"Sat",$Y64:$BC64)+SUMIF($Y$41:$BC$41,"Sun",$Y64:$BC64)) -> 0 | BG64: =(SUM($Y64:$BC64)-(SUMIF($Y$41:$BC$41,"Sat",$Y64:$BC64)+SUMIF($Y$41:$BC$41,"Sun",$Y64:$BC64))) -> 0 | BH64: =(SUMIF($Y$41:$BC$41,"Sat",$Y64:$BC64)+SUMIF($Y$41:$BC$41,"Sun",$Y64:$BC64))/(COUNTIF($Y$41:$BC$41,"Sat")+COUNTIF($Y$41:$BC$41,"Sun")) -> 0 | BI64: =(SUM($Y64:$BC64)-(SUMIF($Y$41:$BC$41,"Sat",$Y64:$BC64)+SUMIF($Y$41:$BC$41,"Sun",$Y64:$BC64)))/(COUNT(Y64:BC64)-(COUNTIF($Y$41:$BC$41,"Sat")+COUNTIF($Y$41:$BC$41,"Sun"))) -> 0 | BN64: 23 | CT64: =SUM(BO64:CQ64)/COUNT(BO$40:CQ$40) -> 0 | CU64: =SUM(BP64:CR64)/COUNT(BP$40:CR$40) -> 0 | CV64: =(SUMIF($Y$41:$BC$41,"Sat",$Y64:$BC64)+SUMIF($Y$41:$BC$41,"Sun",$Y64:$BC64)) -> 0 | CW64: =(SUM($Y64:$BC64)-(SUMIF($Y$41:$BC$41,"Sat",$Y64:$BC64)+SUMIF($Y$41:$BC$41,"Sun",$Y64:$BC64))) -> 0 | CX64: =SUMIF(BO64:CS64,"<0",BO64:CS64) -> 0 | CY64: =SUMIF(BO64:CS64,">0",BO64:CS64) -> 0 | DA64: =COUNTIF(BO42:CS65,">"&MxDisch) -> 0 | DB64: Hours above Maximum Discharge Rate | DT64: 23 | DU64: =Y64+BO64 -> 0 | DV64: =Z64+BP64 -> 0 | DW64: =AA64+BQ64 -> 0 | DX64: =AB64+BR64 -> 0 | DY64: =AC64+BS64 -> 0 | DZ64: =AD64+BT64 -> 0 | EA64: =AE64+BU64 -> 0 | EB64: =AF64+BV64 -> 0 | ... EW64: =BA64+CQ64 -> 0 | FC64: 23 | FD64: =FD63+IF(BO64<0,BO64,BO64/(StorEff/100)) -> #DIV/0! | FE64: =FE63+IF(BP64<0,BP64,BP64/(StorEff/100)) -> #DIV/0! | FF64: =FF63+IF(BQ64<0,BQ64,BQ64/(StorEff/100)) -> #DIV/0! | FG64: =FG63+IF(BR64<0,BR64,BR64/(StorEff/100)) -> #DIV/0! | FH64: =FH63+IF(BS64<0,BS64,BS64/(StorEff/100)) -> #DIV/0! | FI64: =FI63+IF(BT64<0,BT64,BT64/(StorEff/100)) -> #DIV/0! | FJ64: =FJ63+IF(BU64<0,BU64,BU64/(StorEff/100)) -> #DIV/0! | FK64: =FK63+IF(BV64<0,BV64,BV64/(StorEff/100)) -> #DIV/0! | ... GF64: =GF63+IF(CQ64<0,CQ64,CQ64/(StorEff/100)) -> #DIV/0!
C65: 20 | D65: =IFERROR(IF($CT30="",0,$CT30),0) -> 0 | E65: =IFERROR(IF($CT61="",0,$CT61),0) -> 0 | F65: =IFERROR(IF($CT92="",0,$CT92),0) -> 0 | G65: =IFERROR(IF($CT123="",0,$CT123),0) -> 0 | H65: =IFERROR(IF($CT154="",0,$CT154),0) -> 0 | I65: =IFERROR(IF($CT185="",0,$CT185),0) -> 0 | J65: =IFERROR(IF($CT216="",0,$CT216),0) -> 0 | K65: =IFERROR(IF($CT247="",0,$CT247),0) -> 0 | L65: =IFERROR(IF($CT278="",0,$CT278),0) -> 0 | M65: =IFERROR(IF($CT309="",0,$CT309),0) -> 0 | N65: =IFERROR(IF($CT340="",0,$CT340),0) -> 0 | O65: =IFERROR(IF($CT371="",0,$CT371),0) -> 0 | X65: 24 | BD65: =SUM(Y65:BA65)/COUNT(Y$40:BA$40) -> 0 | BE65: =SUM(Z65:BB65)/COUNT(Z$40:BB$40) -> 0 | BF65: =SUM($Y65:$BC65) -> 0 | BG65: 0 | BH65: =IFERROR(SUM(Y65:BC65)/COUNT(Y65:BC65),0) -> 0 | BI65: 0 | BN65: 24 | CT65: =SUM(BO65:CQ65)/COUNT(BO$40:CQ$40) -> 0 | CU65: =SUM(BP65:CR65)/COUNT(BP$40:CR$40) -> 0 | CV65: =SUM($Y65:$BC65) -> 0 | CW65: 0 | CX65: =SUMIF(BO65:CS65,"<0",BO65:CS65) -> 0 | CY65: =SUMIF(BO65:CS65,">0",BO65:CS65) -> 0 | DA65: =COUNTIF(BO42:CS65,"<"&MXChgRate) -> 0 | DB65: Hours below Maximum Charge Rate | DT65: 24 | DU65: =Y65+BO65 -> 0 | DV65: =Z65+BP65 -> 0 | DW65: =AA65+BQ65 -> 0 | DX65: =AB65+BR65 -> 0 | DY65: =AC65+BS65 -> 0 | DZ65: =AD65+BT65 -> 0 | EA65: =AE65+BU65 -> 0 | EB65: =AF65+BV65 -> 0 | ... EW65: =BA65+CQ65 -> 0 | EZ65: =COUNTIF(DU42:EY65,"<0") -> 0 | FC65: 24 | FD65: =FD64+IF(BO65<0,BO65,BO65/(StorEff/100)) -> #DIV/0! | FE65: =FE64+IF(BP65<0,BP65,BP65/(StorEff/100)) -> #DIV/0! | FF65: =FF64+IF(BQ65<0,BQ65,BQ65/(StorEff/100)) -> #DIV/0! | FG65: =FG64+IF(BR65<0,BR65,BR65/(StorEff/100)) -> #DIV/0! | FH65: =FH64+IF(BS65<0,BS65,BS65/(StorEff/100)) -> #DIV/0! | FI65: =FI64+IF(BT65<0,BT65,BT65/(StorEff/100)) -> #DIV/0! | FJ65: =FJ64+IF(BU65<0,BU65,BU65/(StorEff/100)) -> #DIV/0! | FK65: =FK64+IF(BV65<0,BV65,BV65/(StorEff/100)) -> #DIV/0! | ... GF65: =GF64+IF(CQ65<0,CQ65,CQ65/(StorEff/100)) -> #DIV/0! | GI65: =COUNTIF(FD42:GH65,"<"&-StorCap) -> 0
C66: 21 | D66: =IFERROR(IF($CT31="",0,$CT31),0) -> 0 | E66: =IFERROR(IF($CT62="",0,$CT62),0) -> 0 | F66: =IFERROR(IF($CT93="",0,$CT93),0) -> 0 | G66: =IFERROR(IF($CT124="",0,$CT124),0) -> 0 | H66: =IFERROR(IF($CT155="",0,$CT155),0) -> 0 | I66: =IFERROR(IF($CT186="",0,$CT186),0) -> 0 | J66: =IFERROR(IF($CT217="",0,$CT217),0) -> 0 | K66: =IFERROR(IF($CT248="",0,$CT248),0) -> 0 | L66: =IFERROR(IF($CT279="",0,$CT279),0) -> 0 | M66: =IFERROR(IF($CT310="",0,$CT310),0) -> 0 | N66: =IFERROR(IF($CT341="",0,$CT341),0) -> 0 | O66: =IFERROR(IF($CT372="",0,$CT372),0) -> 0 | BF66: =SUM(BF42:BF65) -> 0 | BG66: =SUM(BG49:BG64) -> 0 | BO66: =IF(SUM(BO42:BO65)>0,"Verify","") | BP66: =IF(SUM(BP42:BP65)>0,"Verify","") | BQ66: =IF(SUM(BQ42:BQ65)>0,"Verify","") | BR66: =IF(SUM(BR42:BR65)>0,"Verify","") | BS66: =IF(SUM(BS42:BS65)>0,"Verify","") | BT66: =IF(SUM(BT42:BT65)>0,"Verify","") | BU66: =IF(SUM(BU42:BU65)>0,"Verify","") | BV66: =IF(SUM(BV42:BV65)>0,"Verify","") | ... CQ66: =IF(SUM(CQ42:CQ65)>0,"Verify","") | CV66: =SUM(CV42:CV65) -> 0 | CW66: =SUM(CW49:CW64) -> 0 | CX66: =SUM(CX42:CX65) -> 0 | CY66: =SUM(CY49:CY64) -> 0
C67: 22 | D67: =IFERROR(IF($CT32="",0,$CT32),0) -> 0 | E67: =IFERROR(IF($CT63="",0,$CT63),0) -> 0 | F67: =IFERROR(IF($CT94="",0,$CT94),0) -> 0 | G67: =IFERROR(IF($CT125="",0,$CT125),0) -> 0 | H67: =IFERROR(IF($CT156="",0,$CT156),0) -> 0 | I67: =IFERROR(IF($CT187="",0,$CT187),0) -> 0 | J67: =IFERROR(IF($CT218="",0,$CT218),0) -> 0 | K67: =IFERROR(IF($CT249="",0,$CT249),0) -> 0 | L67: =IFERROR(IF($CT280="",0,$CT280),0) -> 0 | M67: =IFERROR(IF($CT311="",0,$CT311),0) -> 0 | N67: =IFERROR(IF($CT342="",0,$CT342),0) -> 0 | O67: =IFERROR(IF($CT373="",0,$CT373),0) -> 0
C68: 23 | D68: =IFERROR(IF($CT33="",0,$CT33),0) -> 0 | E68: =IFERROR(IF($CT64="",0,$CT64),0) -> 0 | F68: =IFERROR(IF($CT95="",0,$CT95),0) -> 0 | G68: =IFERROR(IF($CT126="",0,$CT126),0) -> 0 | H68: =IFERROR(IF($CT157="",0,$CT157),0) -> 0 | I68: =IFERROR(IF($CT188="",0,$CT188),0) -> 0 | J68: =IFERROR(IF($CT219="",0,$CT219),0) -> 0 | K68: =IFERROR(IF($CT250="",0,$CT250),0) -> 0 | L68: =IFERROR(IF($CT281="",0,$CT281),0) -> 0 | M68: =IFERROR(IF($CT312="",0,$CT312),0) -> 0 | N68: =IFERROR(IF($CT343="",0,$CT343),0) -> 0 | O68: =IFERROR(IF($CT374="",0,$CT374),0) -> 0
C69: 24 | D69: =IFERROR(IF($CT34="",0,$CT34),0) -> 0 | E69: =IFERROR(IF($CT65="",0,$CT65),0) -> 0 | F69: =IFERROR(IF($CT96="",0,$CT96),0) -> 0 | G69: =IFERROR(IF($CT127="",0,$CT127),0) -> 0 | H69: =IFERROR(IF($CT158="",0,$CT158),0) -> 0 | I69: =IFERROR(IF($CT189="",0,$CT189),0) -> 0 | J69: =IFERROR(IF($CT220="",0,$CT220),0) -> 0 | K69: =IFERROR(IF($CT251="",0,$CT251),0) -> 0 | L69: =IFERROR(IF($CT282="",0,$CT282),0) -> 0 | M69: =IFERROR(IF($CT313="",0,$CT313),0) -> 0 | N69: =IFERROR(IF($CT344="",0,$CT344),0) -> 0 | O69: =IFERROR(IF($CT375="",0,$CT375),0) -> 0 | W69: MARCH | BM69: MARCH | DS69: MARCH | FB69: MARCH
BO70: =IFERROR(SUMIF(BO73:BO96,">0",BO73:BO96)/-SUMIF(BO73:BO96,"<0",BO73:BO96),"") | BP70: =IFERROR(SUMIF(BP73:BP96,">0",BP73:BP96)/-SUMIF(BP73:BP96,"<0",BP73:BP96),"") | BQ70: =IFERROR(SUMIF(BQ73:BQ96,">0",BQ73:BQ96)/-SUMIF(BQ73:BQ96,"<0",BQ73:BQ96),"") | BR70: =IFERROR(SUMIF(BR73:BR96,">0",BR73:BR96)/-SUMIF(BR73:BR96,"<0",BR73:BR96),"") | BS70: =IFERROR(SUMIF(BS73:BS96,">0",BS73:BS96)/-SUMIF(BS73:BS96,"<0",BS73:BS96),"") | BT70: =IFERROR(SUMIF(BT73:BT96,">0",BT73:BT96)/-SUMIF(BT73:BT96,"<0",BT73:BT96),"") | BU70: =IFERROR(SUMIF(BU73:BU96,">0",BU73:BU96)/-SUMIF(BU73:BU96,"<0",BU73:BU96),"") | BV70: =IFERROR(SUMIF(BV73:BV96,">0",BV73:BV96)/-SUMIF(BV73:BV96,"<0",BV73:BV96),"") | ... CS70: =IFERROR(SUMIF(CS73:CS96,">0",CS73:CS96)/-SUMIF(CS73:CS96,"<0",CS73:CS96),"")
X71: HE | Y71: 1 | Z71: 2 | AA71: 3 | AB71: 4 | AC71: 5 | AD71: 6 | AE71: 7 | AF71: 8 | AG71: 9 | AH71: 10 | AI71: 11 | AJ71: 12 | AK71: 13 | AL71: 14 | AM71: 15 | AN71: 16 | AO71: 17 | AP71: 18 | AQ71: 19 | AR71: 20 | AS71: 21 | AT71: 22 | AU71: 23 | AV71: 24 | AW71: 25 | AX71: 26 | AY71: 27 | AZ71: 28 | BA71: 29 | BB71: 30 | BC71: 31 | BD71: Month | BF71: Off-Pk | BG71: On-Peak | BH71: Off-Pk | BI71: On-Peak | BN71: HE | BO71: 1 | BP71: 2 | BQ71: 3 | BR71: 4 | BS71: 5 | BT71: 6 | BU71: 7 | BV71: 8 | BW71: 9 | BX71: 10 | BY71: 11 | BZ71: 12 | CA71: 13 | CB71: 14 | CC71: 15 | CD71: 16 | CE71: 17 | CF71: 18 | CG71: 19 | CH71: 20 | CI71: 21 | CJ71: 22 | CK71: 23 | CL71: 24 | CM71: 25 | CN71: 26 | CO71: 27 | CP71: 28 | CQ71: 29 | CR71: 30 | CS71: 31 | CT71: Month | CV71: Off-Pk | CW71: On-Peak | CX71: Charging | CY71: Discharging | DT71: HE | DU71: 1 | DV71: 2 | DW71: 3 | DX71: 4 | DY71: 5 | DZ71: 6 | EA71: 7 | EB71: 8 | EC71: 9 | ED71: 10 | EE71: 11 | EF71: 12 | EG71: 13 | EH71: 14 | EI71: 15 | EJ71: 16 | EK71: 17 | EL71: 18 | EM71: 19 | EN71: 20 | EO71: 21 | EP71: 22 | EQ71: 23 | ER71: 24 | ES71: 25 | ET71: 26 | EU71: 27 | EV71: 28 | EW71: 29 | EX71: 30 | EY71: 31 | FC71: HE | FD71: 1 | FE71: 2 | FF71: 3 | FG71: 4 | FH71: 5 | FI71: 6 | FJ71: 7 | FK71: 8 | FL71: 9 | FM71: 10 | FN71: 11 | FO71: 12 | FP71: 13 | FQ71: 14 | FR71: 15 | FS71: 16 | FT71: 17 | FU71: 18 | FV71: 19 | FW71: 20 | FX71: 21 | FY71: 22 | FZ71: 23 | GA71: 24 | GB71: 25 | GC71: 26 | GD71: 27 | GE71: 28 | GF71: 29 | GG71: 30 | GH71: 31
B72: ="Version: " & Version -> Version: 09/04/2018 | Y72: =VLOOKUP(WEEKDAY(CONCATENATE("3","/",Y71,"/",$AE$6)),$DN$11:$DO$17,2,FALSE) -> Wed | Z72: =VLOOKUP(WEEKDAY(CONCATENATE("3","/",Z71,"/",$AE$6)),$DN$11:$DO$17,2,FALSE) -> Thur | AA72: =VLOOKUP(WEEKDAY(CONCATENATE("3","/",AA71,"/",$AE$6)),$DN$11:$DO$17,2,FALSE) -> Fri | AB72: =VLOOKUP(WEEKDAY(CONCATENATE("3","/",AB71,"/",$AE$6)),$DN$11:$DO$17,2,FALSE) -> Sat | AC72: =VLOOKUP(WEEKDAY(CONCATENATE("3","/",AC71,"/",$AE$6)),$DN$11:$DO$17,2,FALSE) -> Sun | AD72: =VLOOKUP(WEEKDAY(CONCATENATE("3","/",AD71,"/",$AE$6)),$DN$11:$DO$17,2,FALSE) -> Mon | AE72: =VLOOKUP(WEEKDAY(CONCATENATE("3","/",AE71,"/",$AE$6)),$DN$11:$DO$17,2,FALSE) -> Tues | AF72: =Y72 -> Wed | AG72: =Z72 -> Thur | AH72: =AA72 -> Fri | AI72: =AB72 -> Sat | AJ72: =AC72 -> Sun | AK72: =AD72 -> Mon | AL72: =AE72 -> Tues | AM72: =AF72 -> Wed | ... BC72: =AV72 -> Fri | BD72: Avg | BF72: MWh | BG72: MWh | BH72: Avg | BI72: Avg | BO72: =Y72 -> Wed | BP72: =Z72 -> Thur | BQ72: =AA72 -> Fri | BR72: =AB72 -> Sat | BS72: =AC72 -> Sun | BT72: =AD72 -> Mon | BU72: =AE72 -> Tues | BV72: =BO72 -> Wed | BW72: =BP72 -> Thur | BX72: =BQ72 -> Fri | BY72: =BR72 -> Sat | BZ72: =BS72 -> Sun | CA72: =BT72 -> Mon | CB72: =BU72 -> Tues | CC72: =BV72 -> Wed | ... CS72: =CL72 -> Fri | CT72: Avg | CV72: MWh | CW72: MWh | CX72: Avg | CY72: Avg | DU72: =Y72 -> Wed | DV72: =Z72 -> Thur | DW72: =AA72 -> Fri | DX72: =AB72 -> Sat | DY72: =AC72 -> Sun | DZ72: =AD72 -> Mon | EA72: =AE72 -> Tues | EB72: =DU72 -> Wed | EC72: =DV72 -> Thur | ED72: =DW72 -> Fri | EE72: =DX72 -> Sat | EF72: =DY72 -> Sun | EG72: =DZ72 -> Mon | EH72: =EA72 -> Tues | EI72: =EB72 -> Wed | ... EY72: =ER72 -> Fri | FD72: =BO72 -> Wed | FE72: =BP72 -> Thur | FF72: =BQ72 -> Fri | FG72: =BR72 -> Sat | FH72: =BS72 -> Sun | FI72: =BT72 -> Mon | FJ72: =BU72 -> Tues | FK72: =FD72 -> Wed | FL72: =FE72 -> Thur | FM72: =FF72 -> Fri | FN72: =FG72 -> Sat | FO72: =FH72 -> Sun | FP72: =FI72 -> Mon | FQ72: =FJ72 -> Tues | FR72: =FK72 -> Wed | ... GH72: =GA72 -> Fri
B73: Part V (b-1) | X73: 1 | BD73: =SUM(Y73:BC73)/COUNT(Y$71:BC$71) -> 0 | BE73: =SUM(Z73:BB73)/COUNT(Z$40:BB$40) -> 0 | BF73: =SUM($Y73:$BC73) -> 0 | BG73: 0 | BH73: =IFERROR(SUM(Y73:BC73)/COUNT(Y73:BC73),0) -> 0 | BI73: 0 | BN73: 1 | CT73: =SUM(BO73:CS73)/COUNT(BO$71:CS$71) -> 0 | CU73: =SUM(BP73:CR73)/COUNT(BP$40:CR$40) -> 0 | CV73: =SUM($Y73:$BC73) -> 0 | CW73: 0 | CX73: =SUMIF(BO73:CS73,"<0",BO73:CS73) -> 0 | CY73: =SUMIF(BO73:CS73,">0",BO73:CS73) -> 0 | DT73: 1 | DU73: =Y73+BO73 -> 0 | DV73: =Z73+BP73 -> 0 | DW73: =AA73+BQ73 -> 0 | DX73: =AB73+BR73 -> 0 | DY73: =AC73+BS73 -> 0 | DZ73: =AD73+BT73 -> 0 | EA73: =AE73+BU73 -> 0 | EB73: =AF73+BV73 -> 0 | ... EY73: =BC73+CS73 -> 0 | FC73: 1 | FD73: =GF65+IF(BO73<0,BO73,BO73/(StorEff/100)) -> #DIV/0! | FE73: =FD96+IF(BP73<0,BP73,BP73/(StorEff/100)) -> #DIV/0! | FF73: =FE96+IF(BQ73<0,BQ73,BQ73/(StorEff/100)) -> #DIV/0! | FG73: =FF96+IF(BR73<0,BR73,BR73/(StorEff/100)) -> #DIV/0! | FH73: =FG96+IF(BS73<0,BS73,BS73/(StorEff/100)) -> #DIV/0! | FI73: =FH96+IF(BT73<0,BT73,BT73/(StorEff/100)) -> #DIV/0! | FJ73: =FI96+IF(BU73<0,BU73,BU73/(StorEff/100)) -> #DIV/0! | FK73: =FJ96+IF(BV73<0,BV73,BV73/(StorEff/100)) -> #DIV/0! | FL73: =FK96+IF(BW73<0,BW73,BW73/(StorEff/100)) -> #DIV/0! | ... GH73: =GG96+IF(CS73<0,CS73,CS73/(StorEff/100)) -> #DIV/0!
B74: ="Operational Information - Delivery Schedule of " & ResType & " with Energy Storage" -> Operational Information - Delivery Schedule of with Energy Storage | X74: 2 | BD74: =SUM(Y74:BC74)/COUNT(Y$71:BC$71) -> 0 | BE74: =SUM(Z74:BB74)/COUNT(Z$40:BB$40) -> 0 | BF74: =SUM($Y74:$BC74) -> 0 | BG74: 0 | BH74: =IFERROR(SUM(Y74:BC74)/COUNT(Y74:BC74),0) -> 0 | BI74: 0 | BN74: 2 | CT74: =SUM(BO74:CS74)/COUNT(BO$71:CS$71) -> 0 | CU74: =SUM(BP74:CR74)/COUNT(BP$40:CR$40) -> 0 | CV74: =SUM($Y74:$BC74) -> 0 | CW74: 0 | CX74: =SUMIF(BO74:CS74,"<0",BO74:CS74) -> 0 | CY74: =SUMIF(BO74:CS74,">0",BO74:CS74) -> 0 | DT74: 2 | DU74: =Y74+BO74 -> 0 | DV74: =Z74+BP74 -> 0 | DW74: =AA74+BQ74 -> 0 | DX74: =AB74+BR74 -> 0 | DY74: =AC74+BS74 -> 0 | DZ74: =AD74+BT74 -> 0 | EA74: =AE74+BU74 -> 0 | EB74: =AF74+BV74 -> 0 | ... EY74: =BC74+CS74 -> 0 | FC74: 2 | FD74: =FD73+IF(BO74<0,BO74,BO74/(StorEff/100)) -> #DIV/0! | FE74: =FE73+IF(BP74<0,BP74,BP74/(StorEff/100)) -> #DIV/0! | FF74: =FF73+IF(BQ74<0,BQ74,BQ74/(StorEff/100)) -> #DIV/0! | FG74: =FG73+IF(BR74<0,BR74,BR74/(StorEff/100)) -> #DIV/0! | FH74: =FH73+IF(BS74<0,BS74,BS74/(StorEff/100)) -> #DIV/0! | FI74: =FI73+IF(BT74<0,BT74,BT74/(StorEff/100)) -> #DIV/0! | FJ74: =FJ73+IF(BU74<0,BU74,BU74/(StorEff/100)) -> #DIV/0! | FK74: =FK73+IF(BV74<0,BV74,BV74/(StorEff/100)) -> #DIV/0! | ... GH74: =GH73+IF(CS74<0,CS74,CS74/(StorEff/100)) -> #DIV/0!
C75: Project Name | E75: =IF(ProjName="","Auto-Filled",ProjName) -> Auto-Filled | L75: Data Entry: | M75: Hourly Profile | X75: 3 | BD75: =SUM(Y75:BC75)/COUNT(Y$71:BC$71) -> 0 | BE75: =SUM(Z75:BB75)/COUNT(Z$40:BB$40) -> 0 | BF75: =SUM($Y75:$BC75) -> 0 | BG75: 0 | BH75: =IFERROR(SUM(Y75:BC75)/COUNT(Y75:BC75),0) -> 0 | BI75: 0 | BN75: 3 | CT75: =SUM(BO75:CS75)/COUNT(BO$71:CS$71) -> 0 | CU75: =SUM(BP75:CR75)/COUNT(BP$40:CR$40) -> 0 | CV75: =SUM($Y75:$BC75) -> 0 | CW75: 0 | CX75: =SUMIF(BO75:CS75,"<0",BO75:CS75) -> 0 | CY75: =SUMIF(BO75:CS75,">0",BO75:CS75) -> 0 | DT75: 3 | DU75: =Y75+BO75 -> 0 | DV75: =Z75+BP75 -> 0 | DW75: =AA75+BQ75 -> 0 | DX75: =AB75+BR75 -> 0 | DY75: =AC75+BS75 -> 0 | DZ75: =AD75+BT75 -> 0 | EA75: =AE75+BU75 -> 0 | EB75: =AF75+BV75 -> 0 | ... EY75: =BC75+CS75 -> 0 | FC75: 3 | FD75: =FD74+IF(BO75<0,BO75,BO75/(StorEff/100)) -> #DIV/0! | FE75: =FE74+IF(BP75<0,BP75,BP75/(StorEff/100)) -> #DIV/0! | FF75: =FF74+IF(BQ75<0,BQ75,BQ75/(StorEff/100)) -> #DIV/0! | FG75: =FG74+IF(BR75<0,BR75,BR75/(StorEff/100)) -> #DIV/0! | FH75: =FH74+IF(BS75<0,BS75,BS75/(StorEff/100)) -> #DIV/0! | FI75: =FI74+IF(BT75<0,BT75,BT75/(StorEff/100)) -> #DIV/0! | FJ75: =FJ74+IF(BU75<0,BU75,BU75/(StorEff/100)) -> #DIV/0! | FK75: =FK74+IF(BV75<0,BV75,BV75/(StorEff/100)) -> #DIV/0! | ... GH75: =GH74+IF(CS75<0,CS75,CS75/(StorEff/100)) -> #DIV/0!
X76: 4 | BD76: =SUM(Y76:BC76)/COUNT(Y$71:BC$71) -> 0 | BE76: =SUM(Z76:BB76)/COUNT(Z$40:BB$40) -> 0 | BF76: =SUM($Y76:$BC76) -> 0 | BG76: 0 | BH76: =IFERROR(SUM(Y76:BC76)/COUNT(Y76:BC76),0) -> 0 | BI76: 0 | BN76: 4 | CT76: =SUM(BO76:CS76)/COUNT(BO$71:CS$71) -> 0 | CU76: =SUM(BP76:CR76)/COUNT(BP$40:CR$40) -> 0 | CV76: =SUM($Y76:$BC76) -> 0 | CW76: 0 | CX76: =SUMIF(BO76:CS76,"<0",BO76:CS76) -> 0 | CY76: =SUMIF(BO76:CS76,">0",BO76:CS76) -> 0 | DT76: 4 | DU76: =Y76+BO76 -> 0 | DV76: =Z76+BP76 -> 0 | DW76: =AA76+BQ76 -> 0 | DX76: =AB76+BR76 -> 0 | DY76: =AC76+BS76 -> 0 | DZ76: =AD76+BT76 -> 0 | EA76: =AE76+BU76 -> 0 | EB76: =AF76+BV76 -> 0 | ... EY76: =BC76+CS76 -> 0 | FC76: 4 | FD76: =FD75+IF(BO76<0,BO76,BO76/(StorEff/100)) -> #DIV/0! | FE76: =FE75+IF(BP76<0,BP76,BP76/(StorEff/100)) -> #DIV/0! | FF76: =FF75+IF(BQ76<0,BQ76,BQ76/(StorEff/100)) -> #DIV/0! | FG76: =FG75+IF(BR76<0,BR76,BR76/(StorEff/100)) -> #DIV/0! | FH76: =FH75+IF(BS76<0,BS76,BS76/(StorEff/100)) -> #DIV/0! | FI76: =FI75+IF(BT76<0,BT76,BT76/(StorEff/100)) -> #DIV/0! | FJ76: =FJ75+IF(BU76<0,BU76,BU76/(StorEff/100)) -> #DIV/0! | FK76: =FK75+IF(BV76<0,BV76,BV76/(StorEff/100)) -> #DIV/0! | ... GH76: =GH75+IF(CS76<0,CS76,CS76/(StorEff/100)) -> #DIV/0!
C77: This table is calculated from Part V(a-1) and Part V(a-2). | X77: 5 | BD77: =SUM(Y77:BC77)/COUNT(Y$71:BC$71) -> 0 | BE77: =SUM(Z77:BB77)/COUNT(Z$40:BB$40) -> 0 | BF77: =SUM($Y77:$BC77) -> 0 | BG77: 0 | BH77: =IFERROR(SUM(Y77:BC77)/COUNT(Y77:BC77),0) -> 0 | BI77: 0 | BN77: 5 | CT77: =SUM(BO77:CS77)/COUNT(BO$71:CS$71) -> 0 | CU77: =SUM(BP77:CR77)/COUNT(BP$40:CR$40) -> 0 | CV77: =SUM($Y77:$BC77) -> 0 | CW77: 0 | CX77: =SUMIF(BO77:CS77,"<0",BO77:CS77) -> 0 | CY77: =SUMIF(BO77:CS77,">0",BO77:CS77) -> 0 | DT77: 5 | DU77: =Y77+BO77 -> 0 | DV77: =Z77+BP77 -> 0 | DW77: =AA77+BQ77 -> 0 | DX77: =AB77+BR77 -> 0 | DY77: =AC77+BS77 -> 0 | DZ77: =AD77+BT77 -> 0 | EA77: =AE77+BU77 -> 0 | EB77: =AF77+BV77 -> 0 | ... EY77: =BC77+CS77 -> 0 | FC77: 5 | FD77: =FD76+IF(BO77<0,BO77,BO77/(StorEff/100)) -> #DIV/0! | FE77: =FE76+IF(BP77<0,BP77,BP77/(StorEff/100)) -> #DIV/0! | FF77: =FF76+IF(BQ77<0,BQ77,BQ77/(StorEff/100)) -> #DIV/0! | FG77: =FG76+IF(BR77<0,BR77,BR77/(StorEff/100)) -> #DIV/0! | FH77: =FH76+IF(BS77<0,BS77,BS77/(StorEff/100)) -> #DIV/0! | FI77: =FI76+IF(BT77<0,BT77,BT77/(StorEff/100)) -> #DIV/0! | FJ77: =FJ76+IF(BU77<0,BU77,BU77/(StorEff/100)) -> #DIV/0! | FK77: =FK76+IF(BV77<0,BV77,BV77/(StorEff/100)) -> #DIV/0! | ... GH77: =GH76+IF(CS77<0,CS77,CS77/(StorEff/100)) -> #DIV/0!
B78: HOURLY DELIVERY in MW - 12 Months by 24 Hours For Representative Day For Each Month | X78: 6 | BD78: =SUM(Y78:BC78)/COUNT(Y$71:BC$71) -> 0 | BE78: =SUM(Z78:BB78)/COUNT(Z$40:BB$40) -> 0 | BF78: =SUM($Y78:$BC78) -> 0 | BG78: 0 | BH78: =IFERROR(SUM(Y78:BC78)/COUNT(Y78:BC78),0) -> 0 | BI78: 0 | BN78: 6 | CT78: =SUM(BO78:CS78)/COUNT(BO$71:CS$71) -> 0 | CU78: =SUM(BP78:CR78)/COUNT(BP$40:CR$40) -> 0 | CV78: =SUM($Y78:$BC78) -> 0 | CW78: 0 | CX78: =SUMIF(BO78:CS78,"<0",BO78:CS78) -> 0 | CY78: =SUMIF(BO78:CS78,">0",BO78:CS78) -> 0 | DT78: 6 | DU78: =Y78+BO78 -> 0 | DV78: =Z78+BP78 -> 0 | DW78: =AA78+BQ78 -> 0 | DX78: =AB78+BR78 -> 0 | DY78: =AC78+BS78 -> 0 | DZ78: =AD78+BT78 -> 0 | EA78: =AE78+BU78 -> 0 | EB78: =AF78+BV78 -> 0 | ... EY78: =BC78+CS78 -> 0 | FC78: 6 | FD78: =FD77+IF(BO78<0,BO78,BO78/(StorEff/100)) -> #DIV/0! | FE78: =FE77+IF(BP78<0,BP78,BP78/(StorEff/100)) -> #DIV/0! | FF78: =FF77+IF(BQ78<0,BQ78,BQ78/(StorEff/100)) -> #DIV/0! | FG78: =FG77+IF(BR78<0,BR78,BR78/(StorEff/100)) -> #DIV/0! | FH78: =FH77+IF(BS78<0,BS78,BS78/(StorEff/100)) -> #DIV/0! | FI78: =FI77+IF(BT78<0,BT78,BT78/(StorEff/100)) -> #DIV/0! | FJ78: =FJ77+IF(BU78<0,BU78,BU78/(StorEff/100)) -> #DIV/0! | FK78: =FK77+IF(BV78<0,BV78,BV78/(StorEff/100)) -> #DIV/0! | ... GH78: =GH77+IF(CS78<0,CS78,CS78/(StorEff/100)) -> #DIV/0!
X79: 7 | BD79: =SUM(Y79:BC79)/COUNT(Y$71:BC$71) -> 0 | BE79: =SUM(Z79:BB79)/COUNT(Z$40:BB$40) -> 0 | BF79: =SUM($Y79:$BC79) -> 0 | BG79: 0 | BH79: =IFERROR(SUM(Y79:BC79)/COUNT(Y79:BC79),0) -> 0 | BI79: 0 | BN79: 7 | CT79: =SUM(BO79:CS79)/COUNT(BO$71:CS$71) -> 0 | CU79: =SUM(BP79:CR79)/COUNT(BP$40:CR$40) -> 0 | CV79: =SUM($Y79:$BC79) -> 0 | CW79: 0 | CX79: =SUMIF(BO79:CS79,"<0",BO79:CS79) -> 0 | CY79: =SUMIF(BO79:CS79,">0",BO79:CS79) -> 0 | DT79: 7 | DU79: =Y79+BO79 -> 0 | DV79: =Z79+BP79 -> 0 | DW79: =AA79+BQ79 -> 0 | DX79: =AB79+BR79 -> 0 | DY79: =AC79+BS79 -> 0 | DZ79: =AD79+BT79 -> 0 | EA79: =AE79+BU79 -> 0 | EB79: =AF79+BV79 -> 0 | ... EY79: =BC79+CS79 -> 0 | FC79: 7 | FD79: =FD78+IF(BO79<0,BO79,BO79/(StorEff/100)) -> #DIV/0! | FE79: =FE78+IF(BP79<0,BP79,BP79/(StorEff/100)) -> #DIV/0! | FF79: =FF78+IF(BQ79<0,BQ79,BQ79/(StorEff/100)) -> #DIV/0! | FG79: =FG78+IF(BR79<0,BR79,BR79/(StorEff/100)) -> #DIV/0! | FH79: =FH78+IF(BS79<0,BS79,BS79/(StorEff/100)) -> #DIV/0! | FI79: =FI78+IF(BT79<0,BT79,BT79/(StorEff/100)) -> #DIV/0! | FJ79: =FJ78+IF(BU79<0,BU79,BU79/(StorEff/100)) -> #DIV/0! | FK79: =FK78+IF(BV79<0,BV79,BV79/(StorEff/100)) -> #DIV/0! | ... GH79: =GH78+IF(CS79<0,CS79,CS79/(StorEff/100)) -> #DIV/0!
C80: HE | D80: Jan | E80: Feb | F80: Mar | G80: Apr | H80: May | I80: Jun | J80: Jul | K80: Aug | L80: Sep | M80: Oct | N80: Nov | O80: Dec | X80: 8 | BD80: =SUM(Y80:BC80)/COUNT(Y$71:BC$71) -> 0 | BE80: =SUM(Z80:BB80)/COUNT(Z$40:BB$40) -> 0 | BF80: =(SUMIF($Y$72:$BC$72,"Sat",$Y80:$BC80)+SUMIF($Y$72:$BC$72,"Sun",$Y80:$BC80)) -> 0 | BG80: =(SUM($Y80:$BC80)-(SUMIF($Y$72:$BC$72,"Sat",$Y80:$BC80)+SUMIF($Y$72:$BC$72,"Sun",$Y80:$BC80))) -> 0 | BH80: =(SUMIF($Y$72:$BC$72,"Sat",$Y80:$BC80)+SUMIF($Y$72:$BC$72,"Sun",$Y80:$BC80))/(COUNTIF($Y$72:$BC$72,"Sat")+COUNTIF($Y$72:$BC$72,"Sun")) -> 0 | BI80: =(SUM($Y80:$BC80)-(SUMIF($Y$72:$BC$72,"Sat",$Y80:$BC80)+SUMIF($Y$72:$BC$72,"Sun",$Y80:$BC80)))/(COUNT(Y80:BC80)-(COUNTIF($Y$72:$BC$72,"Sat")+COUNTIF($Y$72:$BC$72,"Sun"))) -> 0 | BN80: 8 | CT80: =SUM(BO80:CS80)/COUNT(BO$71:CS$71) -> 0 | CU80: =SUM(BP80:CR80)/COUNT(BP$40:CR$40) -> 0 | CV80: =(SUMIF($Y$72:$BC$72,"Sat",$Y80:$BC80)+SUMIF($Y$72:$BC$72,"Sun",$Y80:$BC80)) -> 0 | CW80: =(SUM($Y80:$BC80)-(SUMIF($Y$72:$BC$72,"Sat",$Y80:$BC80)+SUMIF($Y$72:$BC$72,"Sun",$Y80:$BC80))) -> 0 | CX80: =SUMIF(BO80:CS80,"<0",BO80:CS80) -> 0 | CY80: =SUMIF(BO80:CS80,">0",BO80:CS80) -> 0 | DT80: 8 | DU80: =Y80+BO80 -> 0 | DV80: =Z80+BP80 -> 0 | DW80: =AA80+BQ80 -> 0 | DX80: =AB80+BR80 -> 0 | DY80: =AC80+BS80 -> 0 | DZ80: =AD80+BT80 -> 0 | EA80: =AE80+BU80 -> 0 | EB80: =AF80+BV80 -> 0 | ... EY80: =BC80+CS80 -> 0 | FC80: 8 | FD80: =FD79+IF(BO80<0,BO80,BO80/(StorEff/100)) -> #DIV/0! | FE80: =FE79+IF(BP80<0,BP80,BP80/(StorEff/100)) -> #DIV/0! | FF80: =FF79+IF(BQ80<0,BQ80,BQ80/(StorEff/100)) -> #DIV/0! | FG80: =FG79+IF(BR80<0,BR80,BR80/(StorEff/100)) -> #DIV/0! | FH80: =FH79+IF(BS80<0,BS80,BS80/(StorEff/100)) -> #DIV/0! | FI80: =FI79+IF(BT80<0,BT80,BT80/(StorEff/100)) -> #DIV/0! | FJ80: =FJ79+IF(BU80<0,BU80,BU80/(StorEff/100)) -> #DIV/0! | FK80: =FK79+IF(BV80<0,BV80,BV80/(StorEff/100)) -> #DIV/0! | ... GH80: =GH79+IF(CS80<0,CS80,CS80/(StorEff/100)) -> #DIV/0!
